BEGIN:VCALENDAR
VERSION:2.0
PRODID:-//Eco-Manifestations Alsace - ECPv6.15.11//NONSGML v1.0//EN
CALSCALE:GREGORIAN
METHOD:PUBLISH
X-WR-CALNAME:Eco-Manifestations Alsace
X-ORIGINAL-URL:https://ecomanifestations-alsace.fr
X-WR-CALDESC:Évènements pour Eco-Manifestations Alsace
REFRESH-INTERVAL;VALUE=DURATION:PT1H
X-Robots-Tag:noindex
X-PUBLISHED-TTL:PT1H
BEGIN:VTIMEZONE
TZID:Europe/Paris
BEGIN:DAYLIGHT
TZOFFSETFROM:+0100
TZOFFSETTO:+0200
TZNAME:CEST
DTSTART:20160327T010000
END:DAYLIGHT
BEGIN:STANDARD
TZOFFSETFROM:+0200
TZOFFSETTO:+0100
TZNAME:CET
DTSTART:20161030T010000
END:STANDARD
BEGIN:DAYLIGHT
TZOFFSETFROM:+0100
TZOFFSETTO:+0200
TZNAME:CEST
DTSTART:20170326T010000
END:DAYLIGHT
BEGIN:STANDARD
TZOFFSETFROM:+0200
TZOFFSETTO:+0100
TZNAME:CET
DTSTART:20171029T010000
END:STANDARD
BEGIN:DAYLIGHT
TZOFFSETFROM:+0100
TZOFFSETTO:+0200
TZNAME:CEST
DTSTART:20180325T010000
END:DAYLIGHT
BEGIN:STANDARD
TZOFFSETFROM:+0200
TZOFFSETTO:+0100
TZNAME:CET
DTSTART:20181028T010000
END:STANDARD
END:VTIMEZONE
BEGIN:VEVENT
DTSTART;TZID=Europe/Paris:20170702T100000
DTEND;TZID=Europe/Paris:20170702T223000
DTSTAMP:20260425T155558
CREATED:20170608T073048Z
LAST-MODIFIED:20170608T073048Z
UID:8390-1498989600-1499034600@ecomanifestations-alsace.fr
SUMMARY:Alternatiba Mulhouse
DESCRIPTION:RDV au Parc Salvator de Mulhouse le dimanche 2 juillet de 10h à 23 pour une journée pleine de surprises !  \n \nAprès le tour Alternatiba en 2015 et un événement réussi l’an passé\, nous vous attendons pour la 3ème édition du festival Alternatiba ! \nAutour des thèmes de l’alimentation\, la santé\, le bien-être\, l’habitat\, l’énergie\, le recyclage\, la mobilité\, l’éducation\, l’économie… venez rencontrer les acteurs locaux qui oeuvrent à la transition et découvrir des alternatives au quotidien. \nAnimations musicales\, ateliers découverte\, jeux collectifs\,…mais aussi conférences\, tables-rondes\, concerts et repas partagé en soirée\, venez profiter d’une journée conviviale et festive dans le cadre toujours agréable du Parc Salvator. \nPROGRAMME COMPLET A VENIR… Voici la liste non-exhaustive des associations et intervenants présents : Potocyclettes\, le Cadres\, Slow Food\, Alter Alsace Energie\, l’Art et la Matière\, Fleur de chaux\, Terre de liens\, Maison d’or\, la Fabrique Authentique\, le Panier du Mehlala\, le Relais Est\, Ecole Steiner\, la Cigogne\, Incroyables Comestibles\, Vitaterre\,… \nEntrée libre.\nBuvette / Restauration \nEvénement organisé avec le soutien de m2A et de la ville de Mulhouse.
URL:https://ecomanifestations-alsace.fr/event/alternatiba-mulhouse/
END:VEVENT
END:VCALENDAR