BEGIN:VCALENDAR
VERSION:2.0
PRODID:-//Eco-Manifestations Alsace - ECPv6.15.11//NONSGML v1.0//EN
CALSCALE:GREGORIAN
METHOD:PUBLISH
X-WR-CALNAME:Eco-Manifestations Alsace
X-ORIGINAL-URL:https://ecomanifestations-alsace.fr
X-WR-CALDESC:Évènements pour Eco-Manifestations Alsace
REFRESH-INTERVAL;VALUE=DURATION:PT1H
X-Robots-Tag:noindex
X-PUBLISHED-TTL:PT1H
BEGIN:VTIMEZONE
TZID:Europe/Paris
BEGIN:DAYLIGHT
TZOFFSETFROM:+0100
TZOFFSETTO:+0200
TZNAME:CEST
DTSTART:20160327T010000
END:DAYLIGHT
BEGIN:STANDARD
TZOFFSETFROM:+0200
TZOFFSETTO:+0100
TZNAME:CET
DTSTART:20161030T010000
END:STANDARD
BEGIN:DAYLIGHT
TZOFFSETFROM:+0100
TZOFFSETTO:+0200
TZNAME:CEST
DTSTART:20170326T010000
END:DAYLIGHT
BEGIN:STANDARD
TZOFFSETFROM:+0200
TZOFFSETTO:+0100
TZNAME:CET
DTSTART:20171029T010000
END:STANDARD
BEGIN:DAYLIGHT
TZOFFSETFROM:+0100
TZOFFSETTO:+0200
TZNAME:CEST
DTSTART:20180325T010000
END:DAYLIGHT
BEGIN:STANDARD
TZOFFSETFROM:+0200
TZOFFSETTO:+0100
TZNAME:CET
DTSTART:20181028T010000
END:STANDARD
END:VTIMEZONE
BEGIN:VEVENT
DTSTART;VALUE=DATE:20170915
DTEND;VALUE=DATE:20170918
DTSTAMP:20260425T123624
CREATED:20170809T105452Z
LAST-MODIFIED:20170809T105452Z
UID:8629-1505433600-1505692799@ecomanifestations-alsace.fr
SUMMARY:BiObernai - Le Salon de l'Agriculture Biologique
DESCRIPTION:Organisé depuis 14 ans\, dans l’esprit convivial d’un grand marché à ciel ouvert face aux remparts de la ville historique d’Obernai\, BiObernai\, le salon de l’agriculture biologique en Alsace\, invite chaque année plus de 21 000 visiteurs à venir se plonger dans l’univers du bio d’Alsace et d’ailleurs. \n  \nUn salon vitrine du bio\, un marché en plein essor\nLe nombre croissant de visiteurs montre un engouement sans précédant pour le « bio ».\nLes médias se font d’ailleurs largement l’écho de cette tendance de société au développement spectaculaire. Adeptes d’un mode de vie plus respectueux et éthique de leur santé et de l’environnement ou simple néophyte en quête d’une initiation à cet univers\, le public de BiObernai a la possibilité durant 3 jours d’appréhender la culture bio sous de multiples facettes : en rassemblant de nombreux acteurs de la filière bio d’Alsace et d’ailleurs\, BiObernai offre à ses visiteurs un espace d’information\, de rencontres\, d’échanges et de partages autour de ce qui est en train de devenir un véritable mode de vie et de consommation porteur de valeurs plébiscitées : authenticité\, respect\, éthique\, solidarité\, consommation responsable et collaborative\, … \nUn salon à l’esprit convivial d’une grande fête de village\nConçu dans l’esprit convivial d’une grande fête de village\, aux pieds de remparts de la ville pittoresque d’Obernai\, BiObernai propose aux visiteurs un parcours de visite à travers différents espaces thématiques : quels que soient ses attentes\, besoins ou centres d’intérêts\, chacun peut y explorer\, à son rythme\, les différentes facettes du bio. Outre la possibilité d’y faire ses achats directement auprès des exposants\, une multitude d’activités\, toujours guidées dans un esprit collaboratif\, pédagogique et ludique est proposée pour satisfaire tous les publics : conférences et ateliers thématiques (bien-être & santé\, environnement\, écomobilité\, initiatives locales solidaires\, etc)\, nombreuses animations pour petits et grands (ateliers enfants\, ateliers cuisine\, ateliers bien-être…)\, déambulations et prestations artistiques mêlant humour et poésie …\nBiObernai est devenu au fil des années une manifestation où il fait bon venir en famille ou entre amis\, pour une journée ou plus. \nNouveauté 2017 : des navettes au départ de STRASBOURG Gare et GENGENBACH samedi 16 et dimanche 17 (Départ 10h / Retour 17h). Réservation impérative.
URL:https://ecomanifestations-alsace.fr/event/biobernai-salon-de-lagriculture-biologique/
END:VEVENT
END:VCALENDAR