BEGIN:VCALENDAR
VERSION:2.0
PRODID:-//Eco-Manifestations Alsace - ECPv6.15.11//NONSGML v1.0//EN
CALSCALE:GREGORIAN
METHOD:PUBLISH
X-WR-CALNAME:Eco-Manifestations Alsace
X-ORIGINAL-URL:https://ecomanifestations-alsace.fr
X-WR-CALDESC:Évènements pour Eco-Manifestations Alsace
REFRESH-INTERVAL;VALUE=DURATION:PT1H
X-Robots-Tag:noindex
X-PUBLISHED-TTL:PT1H
BEGIN:VTIMEZONE
TZID:Europe/Paris
BEGIN:DAYLIGHT
TZOFFSETFROM:+0100
TZOFFSETTO:+0200
TZNAME:CEST
DTSTART:20160327T010000
END:DAYLIGHT
BEGIN:STANDARD
TZOFFSETFROM:+0200
TZOFFSETTO:+0100
TZNAME:CET
DTSTART:20161030T010000
END:STANDARD
BEGIN:DAYLIGHT
TZOFFSETFROM:+0100
TZOFFSETTO:+0200
TZNAME:CEST
DTSTART:20170326T010000
END:DAYLIGHT
BEGIN:STANDARD
TZOFFSETFROM:+0200
TZOFFSETTO:+0100
TZNAME:CET
DTSTART:20171029T010000
END:STANDARD
BEGIN:DAYLIGHT
TZOFFSETFROM:+0100
TZOFFSETTO:+0200
TZNAME:CEST
DTSTART:20180325T010000
END:DAYLIGHT
BEGIN:STANDARD
TZOFFSETFROM:+0200
TZOFFSETTO:+0100
TZNAME:CET
DTSTART:20181028T010000
END:STANDARD
END:VTIMEZONE
BEGIN:VEVENT
DTSTART;VALUE=DATE:20171117
DTEND;VALUE=DATE:20171125
DTSTAMP:20260425T174926
CREATED:20171106T144452Z
LAST-MODIFIED:20171106T144452Z
UID:8833-1510876800-1511567999@ecomanifestations-alsace.fr
SUMMARY:Le Collectif éco-citoyen d'Illhaeusern fête la SERD !
DESCRIPTION:La Semaine Européenne de la Réduction des Déchets aura lieu du 17 au 24 novembre 2017 à Illhaeusern ! \n\nUne série d’animations concrètes proposées par le Collectif éco-citoyen Illhaeusern pour réduire nos déchets. \n\nEn partenariat avec la Commune d’Illhaeusern\, la Communauté de Communes du Pays de Ribeauvillé\, l’Observatoire de la nature de Colmar\, le Jardin et biodiversité en Alsace.\, Taktik-éco\, Tootopoids\, Céline Claude Zipelius de Tous en Transition\, Repair Café Pays des Trois Châteaux\, Linux Kunheim et le club Linux de Wintzenheim « MJC du Cheval Blanc »
URL:https://ecomanifestations-alsace.fr/event/collectif-eco-citoyen-dillhaeusern-fete-serd/
END:VEVENT
BEGIN:VEVENT
DTSTART;TZID=Europe/Paris:20171118T133000
DTEND;TZID=Europe/Paris:20171118T173000
DTSTAMP:20260425T174926
CREATED:20171114T115855Z
LAST-MODIFIED:20171114T115855Z
UID:8843-1511011800-1511026200@ecomanifestations-alsace.fr
SUMMARY:Grande Opération de nettoyage des rives et du lit de l'Ill
DESCRIPTION:L’objectif est de collecter un maximum de déchets sur environ 1000 m\, au fond de l’Ill et sur ses berges\, mais également de prévenir la pollution liée aux déchets aquatiques en encourageant un changement sociétal et comportemental.\nDes équipes de plongeur remonteront les déchets à la surface\, alors que des bénévoles les berges procéderont à la collecte au sol.\nDes animations annexes auront lieu : stands de sensibilisation\, ateliers pédagogiques et ludiques\, etc. \nEn effet les cours d’eau constituent l’une des sources principales de déchets provenant de l’intérieur des terres vers le littoral. Pleinement consciente de ce phénomène\, et largement impliquée dans la lutte contre les déchets\, Alsace Nature s’associe à l’Eurométropole de Strasbourg ainsi qu’à d’autres associations locales pour un grand nettoyage de la rivière qui traverse Strasbourg : l’Ill. \nAinsi\, nous faisons appel à toutes les bonnes volontés\, qu’elles soient ou non regroupées en associations\, pour mener à bien cette collecte ! \nLien vers l’événement ici.
URL:https://ecomanifestations-alsace.fr/event/grande-operation-de-nettoyage-rives-lit-de-lill/
END:VEVENT
BEGIN:VEVENT
DTSTART;TZID=Europe/Paris:20171118T140000
DTEND;TZID=Europe/Paris:20171119T190000
DTSTAMP:20260425T174926
CREATED:20171106T121835Z
LAST-MODIFIED:20171106T121835Z
UID:8827-1511013600-1511118000@ecomanifestations-alsace.fr
SUMMARY:Festival éco-équitable bio à Ungersheim
DESCRIPTION:Samedi 18 novembre de 14h à 19h et dimanche 19 novembre de 10h à 19h\, c’est le Festival éco-équitable à Ungersheim ! \n \n FESTIVAL ECO/EQUITABLE \n  “Bio Ungersheim” 17\, 18 et 19 novembre 2017 \nThème développé : Glyphosate et perturbateurs endocriniens ! \nL’association Les Heibich « Mangeurs de foin » en partenariat avec la Commune d’Ungersheim organise les vendredi 17\, samedi 18 & dimanche 19  novembre 2017\, son FESTIVAL ECO-EQUITABLE « Bio Ungersheim ». \n  \nEn avant-première sera projeté le dernier film de Marie-Monique ROBIN\, réalisatrice et journaliste d’investigation intitulé « le Roundup face à ses juges ! ». Il sera suivi d’un débat avec la réalisatrice : \nVendredi 17 novembre 2017 à 20h00 au Cinéma de l’Espace Le Trèfle à Ungersheim. \nCe film sera suivi d’une série de documentaires les samedi 18 et dimanche 19 novembre dont le programme est en cours d’élaboration. \n 
URL:https://ecomanifestations-alsace.fr/event/festival-eco-equitable-bio-a-ungersheim/
END:VEVENT
END:VCALENDAR