BEGIN:VCALENDAR
VERSION:2.0
PRODID:-//Eco-Manifestations Alsace - ECPv6.15.11//NONSGML v1.0//EN
CALSCALE:GREGORIAN
METHOD:PUBLISH
X-ORIGINAL-URL:https://ecomanifestations-alsace.fr
X-WR-CALDESC:Évènements pour Eco-Manifestations Alsace
REFRESH-INTERVAL;VALUE=DURATION:PT1H
X-Robots-Tag:noindex
X-PUBLISHED-TTL:PT1H
BEGIN:VTIMEZONE
TZID:Europe/Paris
BEGIN:DAYLIGHT
TZOFFSETFROM:+0100
TZOFFSETTO:+0200
TZNAME:CEST
DTSTART:20160327T010000
END:DAYLIGHT
BEGIN:STANDARD
TZOFFSETFROM:+0200
TZOFFSETTO:+0100
TZNAME:CET
DTSTART:20161030T010000
END:STANDARD
BEGIN:DAYLIGHT
TZOFFSETFROM:+0100
TZOFFSETTO:+0200
TZNAME:CEST
DTSTART:20170326T010000
END:DAYLIGHT
BEGIN:STANDARD
TZOFFSETFROM:+0200
TZOFFSETTO:+0100
TZNAME:CET
DTSTART:20171029T010000
END:STANDARD
BEGIN:DAYLIGHT
TZOFFSETFROM:+0100
TZOFFSETTO:+0200
TZNAME:CEST
DTSTART:20180325T010000
END:DAYLIGHT
BEGIN:STANDARD
TZOFFSETFROM:+0200
TZOFFSETTO:+0100
TZNAME:CET
DTSTART:20181028T010000
END:STANDARD
END:VTIMEZONE
BEGIN:VEVENT
DTSTART;TZID=Europe/Paris:20171124T120000
DTEND;TZID=Europe/Paris:20171224T190000
DTSTAMP:20260425T181009
CREATED:20171116T082929Z
LAST-MODIFIED:20171116T083237Z
UID:8847-1511524800-1514142000@ecomanifestations-alsace.fr
SUMMARY:Marché OFF de Noël de Strasbourg
DESCRIPTION:Donnez du sens à vos achats \nDu 24 novembre au 24 décembre\, retrouvez-nous tous les jours place Grimmeissen\,\nde 11h à 20h en semaine\, et jusqu’à 21h les vendredis et samedis\n\nL’économie sociale et solidaire s’invite au cœur de Strasbourg\, place Grimmeissen\, dans un décor résolument moderne : celui du Marché OFF de Noël. Ce Marché pas tout à fait comme les autres lève le voile sur l’achat responsable local\, permet aux habitants et aux visiteurs de trouver un lieu convivial et chaleureux pour profiter d’un programme d’animations riche et varié\, faire dialoguer consommation avec engagement\, profiter de plats bio ou issus du commerce équitable pour comprendre à quel point c’est en se nourrissant d’éthique que l’on fabrique une société plus juste.\n\nOrganisé par la CRESS (Chambre Régionale de l’Économie Sociale et Solidaire) en partenariat avec la Chambre de consommation d’Alsace (via la plateforme ZIGetZAG.info)\, le Colecosol et les 24 exposants présents sur place\, ce Marché vous donnera à voir l’étendue de l’offre issue d’une économie basée sur l’humain avant le profit. Meubles vintages\, habillement customisé\, créations originales d’artisanat d’art\, électroménager d’occasion et alimentation bio\, il y en a pour tous les goûts et tous les budgets sur ce marché pas comme les autres!\n\nLes exposants du Marché : La Ferme Saint André\, Vins Durrmann\, Carijou\, Les Jardins de Gaïa\, Les Jardins de la Montagne Verte\, PUR etc\, Brasserie La Mercière\, Le Fabcafé de Strasbourg\, Vins bio dynamiques\, Artisans du Monde Strasbourg\, Café Sati\, La Bohémia\, EBS Le Relais Est/Le Léopard\, Emmaüs Mundolsheim\, Libre Objet\, Envie\, Cooproduction\, Creative Vintage\, ABRAPA\, Le Stück\, Terre d’Est\, Citiz et Arte.\n\nLes animations du Marché\n\nDe nombreuses animations seront également proposées sur le Marché OFF. Celles-ci seront organisées par semaine selon quatre thématiques emblématiques de ce qu’est l’achat responsable :\n\n\nDu 24/11 au 03/12 : Semaine européenne de réduction des déchets\n\n\nDu 04/12 au 10/12 : semaine du commerce équitable\n\n\n11/12 au 17/12 : semaine de lutte contre les discriminations\n\n\n18/12 au 24/12 : semaine de l’alimentation\n\n\nLe programme est dense et propose des rendez-vous variés :\n\npossibilité de privatiser le dôme pour des fêtes de Noël d’entreprise les lundis\, after-works débats les mardis\, mercredis animations pour les parents et enfants\, jeudis bruyants\, vendredis et samedis libres\, et dimanches ciné-débats dont 2 en collaboration avec Arte.\nLa première semaine est dédiée à la décoration participative du Marché\, mais on pourra aussi venir tester les vélo-tamponneuses de Bretz’selle et la Semancerie.\nPelpass organise aussi des spectacles dans le cadre de son festival « Paye ton Noël » du 2 au 5 décembre sur la place.\nDes visites guidées sont également prévues\, en plusieurs langues\, les vendredis à 11h00.\nTous les dimanches à 11h\, un brunch est organisé avec les exposants de la place : des produits bio et issus du commerce équitable à découvrir !
URL:https://ecomanifestations-alsace.fr/event/marche-off-de-noel-de-strasbourg/
END:VEVENT
BEGIN:VEVENT
DTSTART;TZID=Europe/Paris:20171130T083000
DTEND;TZID=Europe/Paris:20171130T170000
DTSTAMP:20260425T181009
CREATED:20171005T110236Z
LAST-MODIFIED:20171005T110236Z
UID:8739-1512030600-1512061200@ecomanifestations-alsace.fr
SUMMARY:Forum Développement Durable 2017
DESCRIPTION:Économie responsable : pourquoi j’y crois !\nAprès une année 2016 aux couleurs du World Forum for a Responsible Economy\, qui faisait étape à Strasbourg\, le Forum dd fait son grand retour !\nRendez-vous le 30 novembre 2017 à l’Illiade à Illkirch pour la 8ème édition du Forum dd ! \n500 participants du monde économique\, institutionnel et académique sont attendus pour une journée riche en RSE et en bonnes pratiques. L’occasion de convaincre les plus sceptiques sur les avantages et bénéfices de la mise en place d’une démarche RSE.\n \n\n\nRendez-vous sur www.leforumdd.fr !
URL:https://ecomanifestations-alsace.fr/event/forum-developpement-durable-2017/
END:VEVENT
END:VCALENDAR