BEGIN:VCALENDAR
VERSION:2.0
PRODID:-//Eco-Manifestations Alsace - ECPv6.15.11//NONSGML v1.0//EN
CALSCALE:GREGORIAN
METHOD:PUBLISH
X-WR-CALNAME:Eco-Manifestations Alsace
X-ORIGINAL-URL:https://ecomanifestations-alsace.fr
X-WR-CALDESC:Évènements pour Eco-Manifestations Alsace
REFRESH-INTERVAL;VALUE=DURATION:PT1H
X-Robots-Tag:noindex
X-PUBLISHED-TTL:PT1H
BEGIN:VTIMEZONE
TZID:Europe/Paris
BEGIN:DAYLIGHT
TZOFFSETFROM:+0100
TZOFFSETTO:+0200
TZNAME:CEST
DTSTART:20210328T010000
END:DAYLIGHT
BEGIN:STANDARD
TZOFFSETFROM:+0200
TZOFFSETTO:+0100
TZNAME:CET
DTSTART:20211031T010000
END:STANDARD
BEGIN:DAYLIGHT
TZOFFSETFROM:+0100
TZOFFSETTO:+0200
TZNAME:CEST
DTSTART:20220327T010000
END:DAYLIGHT
BEGIN:STANDARD
TZOFFSETFROM:+0200
TZOFFSETTO:+0100
TZNAME:CET
DTSTART:20221030T010000
END:STANDARD
BEGIN:DAYLIGHT
TZOFFSETFROM:+0100
TZOFFSETTO:+0200
TZNAME:CEST
DTSTART:20230326T010000
END:DAYLIGHT
BEGIN:STANDARD
TZOFFSETFROM:+0200
TZOFFSETTO:+0100
TZNAME:CET
DTSTART:20231029T010000
END:STANDARD
END:VTIMEZONE
BEGIN:VEVENT
DTSTART;VALUE=DATE:20220630
DTEND;VALUE=DATE:20220805
DTSTAMP:20260426T055028
CREATED:20220705T092654Z
LAST-MODIFIED:20220705T092654Z
UID:11421-1656547200-1659657599@ecomanifestations-alsace.fr
SUMMARY:Les Jeudis du Parc - Mulhouse
DESCRIPTION:Du 30 juin au 4 août 2022\, venez découvrir des spectacles gratuits et des projections en plein air\, tous les jeudis\, au Parc Salvator à Mulhouse. \nPour cette nouvelle édition\, l’événement reçu le niveau 2 de notre label ! \n 
URL:https://ecomanifestations-alsace.fr/event/les-jeudis-du-parc-mulhouse/
END:VEVENT
BEGIN:VEVENT
DTSTART;VALUE=DATE:20220702
DTEND;VALUE=DATE:20220903
DTSTAMP:20260426T055028
CREATED:20220705T093321Z
LAST-MODIFIED:20220705T122321Z
UID:11423-1656720000-1662163199@ecomanifestations-alsace.fr
SUMMARY:Festival Ciné Plein Air - Eurométropole de Strasbourg
DESCRIPTION:Pour cette 2ème édition\, le Festival itinérant Ciné Plein Air\, organisé par Le Troisième Souffle\, est entré dans une démarche de développement durable et se donne comme objectif de devenir une éco-manifestation. Félicitation à eux ! \n\n\n\n\n\n\nQuelques informations :\n\n\n\n\n\n\nQuand ? Tous les samedis du 16 juillet au 3 septembre 2022\nOù ? Dans 7 communes de l’Eurométropole de Strasbourg\nQuoi ? Animations – Buvettes – Projections\n\nTout au long de l’été\, venez découvrir\, en famille ou entre ami·e·s\, un programme original de 7 films faisant la part belle à l’enfance et l’adolescence au cinéma\, intitulé « Roulez jeunesse ».\n· Animations en avant-séance : apéro-mix\, concerts\, spectacles\, jeux…\n· Projections de cinéma sur écran géant à la tombée de la nuit\nApportez vos plaids\, transats\, chaises pliantes ou autres couvertures de pique-nique pour vous installer confortablement !\nTout public – Gratuit\nFilms projetés en VF (version française)
URL:https://ecomanifestations-alsace.fr/event/festival-cine-plein-air/
END:VEVENT
BEGIN:VEVENT
DTSTART;VALUE=DATE:20220708
DTEND;VALUE=DATE:20220718
DTSTAMP:20260426T055028
CREATED:20220705T093913Z
LAST-MODIFIED:20220705T122245Z
UID:11427-1657238400-1658102399@ecomanifestations-alsace.fr
SUMMARY:Hop Hop Hop Festival - Metz
DESCRIPTION:En tant que festival international du spectacle à ciel ouvert\, Hop Hop Hop est un évènement incontournable de la saison estivale de Metz ainsi qu’un festival structurant sur le territoire régional. \nCe qui le définit le mieux\, c’est d’être un évènement familial et convivial\, mais il est aussi un moment de rencontres entre professionnels du spectacle vivant\, un moment de création et d’innovation. \nRetrouvez Hop Hop Hop à Metz et en métropole du 8 au 17 juillet 2022. \nPour la treizième édition\, le festival s’est labellisé niveau 2 de notre charte d’engagement ! \nFélicitation aux organisateurs ! \n 
URL:https://ecomanifestations-alsace.fr/event/hop-hop-hop-festival/
END:VEVENT
BEGIN:VEVENT
DTSTART;VALUE=DATE:20220714
DTEND;VALUE=DATE:20220718
DTSTAMP:20260426T055028
CREATED:20220705T122156Z
LAST-MODIFIED:20220705T122156Z
UID:11431-1657756800-1658102399@ecomanifestations-alsace.fr
SUMMARY:Scènes de Rue - Mulhouse
DESCRIPTION:Scènes de rue\, festival des arts de la rue\, ouvre cette année encore une parenthèse poétique et artistique sur la ville de Mulhouse. \nVenez découvrir une programmation pluridisciplinaire proposée par des dizaines d’artistes. \nDu centre-ville à la périphérie\, et inversement\, Scènes de rue aime explorer son territoire. \nUn événement engagé\, qui s’est labellisé niveau 2 de notre label !
URL:https://ecomanifestations-alsace.fr/event/scenes-de-rue-mulhouse/
END:VEVENT
END:VCALENDAR