BEGIN:VCALENDAR
VERSION:2.0
PRODID:-//Eco-Manifestations Alsace - ECPv6.15.11//NONSGML v1.0//EN
CALSCALE:GREGORIAN
METHOD:PUBLISH
X-WR-CALNAME:Eco-Manifestations Alsace
X-ORIGINAL-URL:https://ecomanifestations-alsace.fr
X-WR-CALDESC:Évènements pour Eco-Manifestations Alsace
REFRESH-INTERVAL;VALUE=DURATION:PT1H
X-Robots-Tag:noindex
X-PUBLISHED-TTL:PT1H
BEGIN:VTIMEZONE
TZID:Europe/Paris
BEGIN:DAYLIGHT
TZOFFSETFROM:+0100
TZOFFSETTO:+0200
TZNAME:CEST
DTSTART:20210328T010000
END:DAYLIGHT
BEGIN:STANDARD
TZOFFSETFROM:+0200
TZOFFSETTO:+0100
TZNAME:CET
DTSTART:20211031T010000
END:STANDARD
BEGIN:DAYLIGHT
TZOFFSETFROM:+0100
TZOFFSETTO:+0200
TZNAME:CEST
DTSTART:20220327T010000
END:DAYLIGHT
BEGIN:STANDARD
TZOFFSETFROM:+0200
TZOFFSETTO:+0100
TZNAME:CET
DTSTART:20221030T010000
END:STANDARD
BEGIN:DAYLIGHT
TZOFFSETFROM:+0100
TZOFFSETTO:+0200
TZNAME:CEST
DTSTART:20230326T010000
END:DAYLIGHT
BEGIN:STANDARD
TZOFFSETFROM:+0200
TZOFFSETTO:+0100
TZNAME:CET
DTSTART:20231029T010000
END:STANDARD
END:VTIMEZONE
BEGIN:VEVENT
DTSTART;VALUE=DATE:20220903
DTEND;VALUE=DATE:20220904
DTSTAMP:20260426T004902
CREATED:20220818T150334Z
LAST-MODIFIED:20220818T151244Z
UID:11461-1662163200-1662249599@ecomanifestations-alsace.fr
SUMMARY:6 Pieds sur Terre - Kingersheim
DESCRIPTION: Pour sa 12e édition\, le festival 𝟲 𝗣𝗶𝗲𝗱𝘀 𝘀𝘂𝗿 𝗧𝗲𝗿𝗿𝗲 s’est labellisé niveau 3 de notre charte d’engagement ! Félicitations aux organisateurs !  \nRendez-vous à la rentrée\, le 𝘀𝗮𝗺𝗲𝗱𝗶 𝟯 𝘀𝗲𝗽𝘁𝗲𝗺𝗯𝗿𝗲 pour une après-midi et une soirée engagées et festives à Kingersheim.\n \nVenez découvrir une multitude d’animations\, de jeux\, de conférences\, d’ateliers autour de l’éco-citoyennetés et surtout autour de la mobilité douce !
URL:https://ecomanifestations-alsace.fr/event/6-pieds-sur-terre/
END:VEVENT
END:VCALENDAR