BEGIN:VCALENDAR
VERSION:2.0
PRODID:-//Eco-Manifestations Alsace - ECPv6.15.11//NONSGML v1.0//EN
CALSCALE:GREGORIAN
METHOD:PUBLISH
X-ORIGINAL-URL:https://ecomanifestations-alsace.fr
X-WR-CALDESC:Évènements pour Eco-Manifestations Alsace
REFRESH-INTERVAL;VALUE=DURATION:PT1H
X-Robots-Tag:noindex
X-PUBLISHED-TTL:PT1H
BEGIN:VTIMEZONE
TZID:Europe/Paris
BEGIN:DAYLIGHT
TZOFFSETFROM:+0100
TZOFFSETTO:+0200
TZNAME:CEST
DTSTART:20210328T010000
END:DAYLIGHT
BEGIN:STANDARD
TZOFFSETFROM:+0200
TZOFFSETTO:+0100
TZNAME:CET
DTSTART:20211031T010000
END:STANDARD
BEGIN:DAYLIGHT
TZOFFSETFROM:+0100
TZOFFSETTO:+0200
TZNAME:CEST
DTSTART:20220327T010000
END:DAYLIGHT
BEGIN:STANDARD
TZOFFSETFROM:+0200
TZOFFSETTO:+0100
TZNAME:CET
DTSTART:20221030T010000
END:STANDARD
BEGIN:DAYLIGHT
TZOFFSETFROM:+0100
TZOFFSETTO:+0200
TZNAME:CEST
DTSTART:20230326T010000
END:DAYLIGHT
BEGIN:STANDARD
TZOFFSETFROM:+0200
TZOFFSETTO:+0100
TZNAME:CET
DTSTART:20231029T010000
END:STANDARD
END:VTIMEZONE
BEGIN:VEVENT
DTSTART;VALUE=DATE:20220910
DTEND;VALUE=DATE:20220912
DTSTAMP:20260426T005308
CREATED:20220818T151219Z
LAST-MODIFIED:20220818T151219Z
UID:11465-1662768000-1662940799@ecomanifestations-alsace.fr
SUMMARY:Fête des Possibles - Saverne
DESCRIPTION:Pour cette première édition locale\, la Fête des Possibles à Saverne\, a obtenu le niveau 2 de notre charte ! \nVenez découvrir une trentaine d’initiatives locales avec de multiples animations autour de la signature du pacte par la Ville de Saverne\, au COSEC des Dragons de 14h à 18h\, le 10 et 11 septembre.
URL:https://ecomanifestations-alsace.fr/event/fete-des-possibles-saverne/
END:VEVENT
BEGIN:VEVENT
DTSTART;VALUE=DATE:20220910
DTEND;VALUE=DATE:20220912
DTSTAMP:20260426T005308
CREATED:20220818T151624Z
LAST-MODIFIED:20220818T151624Z
UID:11468-1662768000-1662940799@ecomanifestations-alsace.fr
SUMMARY:Village des Assos - Strasbourg
DESCRIPTION:Pour cette nouvelle édition\, le Village des assos a obtenu le niveau 2 de notre label !\n\nVenez découvrir plus de 200 associations au parc de la Citadelle de Strasbourg\, le 10 et 11 septembre.\n\nLe moment idéal pour rencontrer les assos et leurs bénévoles dans différents domaines :\n Quartier ACCÈS AUX DROITS et LUTTE CONTRE LES DISCRIMINATIONS\n Quartier HUMANITAIRE et AIDE INTERNATIONALE\n Quartiers SPORTS\n Quartier ARTS et CULTURES DU MONDE\n Quartier SANTÉ et BIEN-ÊTRE\n Quartier ÉDUCATION et FORMATION\n Quartier des POSSIBLES : EMA sera également présent !\n\n–> Des animations à découvrir au gré de la balade dans le parc :\n Place de l’égalité de genres\n Mur du bénévolat\n Scène musique & danse\n Démonstrations / initiations sportives\n Jeux pour petits et grands\, ateliers participatifs\, …\n\n Buvette & restauration sur place\navec PUR etc\, Au vieux camion\, Le Poutine\, Elsass Flamm’s\, Les gaufres de Sophie\, Bivouac Café et le Collectif Humanis.
URL:https://ecomanifestations-alsace.fr/event/village-des-assos-strasbourg/
END:VEVENT
BEGIN:VEVENT
DTSTART;VALUE=DATE:20220911
DTEND;VALUE=DATE:20220912
DTSTAMP:20260426T005308
CREATED:20220818T152211Z
LAST-MODIFIED:20220818T152211Z
UID:11470-1662854400-1662940799@ecomanifestations-alsace.fr
SUMMARY:la COW - Wolfisheim
DESCRIPTION:La Course d’Oberschaeffolsheim et Wolfisheim poursuit son engagement au fil des années. Pour sa 10eme éditions\, elle a obtenu le niveau 2 de notre label ! \nRendez-vous le dimanche 11 septembre 2022 pour un beau programme : \n\nCourse des enfants nés de 2013 à 2018 850m 9h00 – Gratuit\nCourse des jeunes nés de 2009 à 2012 1 700 m 9h20 – Gratuit\n5 km C.O.W Coureurs nés en 2008 et avant 5 km 9h40 – 10 €\n10 km C.O.W Coureurs nés en 2006 et avant 10 km 10h20 – 12 €\nMarche nordique chronométrée pour tous 9 km 10h15 – 5 €\nMarche populaire pour tous 9 km 10h15 – 2 €\n\nPour vous inscrire\, cliquez ICI.
URL:https://ecomanifestations-alsace.fr/event/la-cow-wolfisheim/
END:VEVENT
END:VCALENDAR