BEGIN:VCALENDAR
VERSION:2.0
PRODID:-//Eco-Manifestations Alsace - ECPv6.15.11//NONSGML v1.0//EN
CALSCALE:GREGORIAN
METHOD:PUBLISH
X-WR-CALNAME:Eco-Manifestations Alsace
X-ORIGINAL-URL:https://ecomanifestations-alsace.fr
X-WR-CALDESC:Évènements pour Eco-Manifestations Alsace
REFRESH-INTERVAL;VALUE=DURATION:PT1H
X-Robots-Tag:noindex
X-PUBLISHED-TTL:PT1H
BEGIN:VTIMEZONE
TZID:Europe/Paris
BEGIN:DAYLIGHT
TZOFFSETFROM:+0100
TZOFFSETTO:+0200
TZNAME:CEST
DTSTART:20210328T010000
END:DAYLIGHT
BEGIN:STANDARD
TZOFFSETFROM:+0200
TZOFFSETTO:+0100
TZNAME:CET
DTSTART:20211031T010000
END:STANDARD
BEGIN:DAYLIGHT
TZOFFSETFROM:+0100
TZOFFSETTO:+0200
TZNAME:CEST
DTSTART:20220327T010000
END:DAYLIGHT
BEGIN:STANDARD
TZOFFSETFROM:+0200
TZOFFSETTO:+0100
TZNAME:CET
DTSTART:20221030T010000
END:STANDARD
BEGIN:DAYLIGHT
TZOFFSETFROM:+0100
TZOFFSETTO:+0200
TZNAME:CEST
DTSTART:20230326T010000
END:DAYLIGHT
BEGIN:STANDARD
TZOFFSETFROM:+0200
TZOFFSETTO:+0100
TZNAME:CET
DTSTART:20231029T010000
END:STANDARD
END:VTIMEZONE
BEGIN:VEVENT
DTSTART;VALUE=DATE:20220916
DTEND;VALUE=DATE:20220919
DTSTAMP:20260426T040818
CREATED:20220818T153144Z
LAST-MODIFIED:20220818T153144Z
UID:11474-1663286400-1663545599@ecomanifestations-alsace.fr
SUMMARY:BiObernai - Obernai
DESCRIPTION:Pour cette 19ème édition\, BiObernai\, le salon de l’Agriculture Bio\, de la Terre et des Hommes\, s’est à nouveau labellisé niveau 3 de notre charte ! Un engagement sans faille depuis plusieurs années. Merci aux organisateurs !\n \nLe salon se tiendra les 16\, 17 et 18 septembre 2022\, à Obernai.\n \nRetrouvez toutes les informations sur https://www.biobernai.com/FR/Salon-BiObernai/Programme/Experience-musicale-sonore.html?fbclid=IwAR3d0KUkAagaM-ogMQWFJ5QTUk-UAMWb8M5crWjEoodBw8fOyWkrZqa_ChQ
URL:https://ecomanifestations-alsace.fr/event/biobernai-obernai/
END:VEVENT
BEGIN:VEVENT
DTSTART;VALUE=DATE:20220917
DTEND;VALUE=DATE:20220919
DTSTAMP:20260426T040818
CREATED:20220818T153939Z
LAST-MODIFIED:20220818T154003Z
UID:11478-1663372800-1663545599@ecomanifestations-alsace.fr
SUMMARY:Les Mulhousiennes - Mulhouse
DESCRIPTION:Samedi 17 et Dimanche 18 septembre 2022\, participez à la 9ème édition des Mulhousiennes ! Cette course/marche si particulière qui durant 5km réunit familles\, amis\, collègues autour d’une même cause : la lutte contre le cancer.  \nÉvénement labellisé niveau 2 de notre label ! \nN’attendez plus et inscrivez-vous : https://sporkrono-inscription.fr/mulhousiennes-2022/select_competition?fbclid=IwAR3ubynv0LygZqTWQ172s_Zexqm11tRztW7lcy3UPQeBK-FxemaXMzmwF_w
URL:https://ecomanifestations-alsace.fr/event/les-mulhousiennes-mulhouse/
END:VEVENT
END:VCALENDAR