BEGIN:VCALENDAR
VERSION:2.0
PRODID:-//Eco-Manifestations Alsace - ECPv6.15.11//NONSGML v1.0//EN
CALSCALE:GREGORIAN
METHOD:PUBLISH
X-WR-CALNAME:Eco-Manifestations Alsace
X-ORIGINAL-URL:https://ecomanifestations-alsace.fr
X-WR-CALDESC:Évènements pour Eco-Manifestations Alsace
REFRESH-INTERVAL;VALUE=DURATION:PT1H
X-Robots-Tag:noindex
X-PUBLISHED-TTL:PT1H
BEGIN:VTIMEZONE
TZID:Europe/Paris
BEGIN:DAYLIGHT
TZOFFSETFROM:+0100
TZOFFSETTO:+0200
TZNAME:CEST
DTSTART:20210328T010000
END:DAYLIGHT
BEGIN:STANDARD
TZOFFSETFROM:+0200
TZOFFSETTO:+0100
TZNAME:CET
DTSTART:20211031T010000
END:STANDARD
BEGIN:DAYLIGHT
TZOFFSETFROM:+0100
TZOFFSETTO:+0200
TZNAME:CEST
DTSTART:20220327T010000
END:DAYLIGHT
BEGIN:STANDARD
TZOFFSETFROM:+0200
TZOFFSETTO:+0100
TZNAME:CET
DTSTART:20221030T010000
END:STANDARD
BEGIN:DAYLIGHT
TZOFFSETFROM:+0100
TZOFFSETTO:+0200
TZNAME:CEST
DTSTART:20230326T010000
END:DAYLIGHT
BEGIN:STANDARD
TZOFFSETFROM:+0200
TZOFFSETTO:+0100
TZNAME:CET
DTSTART:20231029T010000
END:STANDARD
END:VTIMEZONE
BEGIN:VEVENT
DTSTART;VALUE=DATE:20220922
DTEND;VALUE=DATE:20220926
DTSTAMP:20260426T040804
CREATED:20220818T154503Z
LAST-MODIFIED:20221003T130226Z
UID:11481-1663804800-1664150399@ecomanifestations-alsace.fr
SUMMARY:Grand Show ! Fruits et Légumes d'Alsace - Illkirch
DESCRIPTION:Pour cette édition\, le Grand Show de Fruits et Légumes d’Alsace a obtenu le niveau 2 de notre label ! \nVenez découvrir 4 jours de spectacle pour grands et petit avec des dizaines d’animations\, des conférences santé\, des démonstrations culinaires\, des shows de sculpture sur légumes\, etc. \n\n\n\n\n\nToutes les informations sur : https://www.fruits-legumes-alsace.fr/le-grand-show/presentation/
URL:https://ecomanifestations-alsace.fr/event/grand-show-fruits-et-legumes-dalsace-illkirch/
END:VEVENT
END:VCALENDAR