BEGIN:VCALENDAR
VERSION:2.0
PRODID:-//Eco-Manifestations Alsace - ECPv6.15.11//NONSGML v1.0//EN
CALSCALE:GREGORIAN
METHOD:PUBLISH
X-WR-CALNAME:Eco-Manifestations Alsace
X-ORIGINAL-URL:https://ecomanifestations-alsace.fr
X-WR-CALDESC:Évènements pour Eco-Manifestations Alsace
REFRESH-INTERVAL;VALUE=DURATION:PT1H
X-Robots-Tag:noindex
X-PUBLISHED-TTL:PT1H
BEGIN:VTIMEZONE
TZID:Europe/Paris
BEGIN:DAYLIGHT
TZOFFSETFROM:+0100
TZOFFSETTO:+0200
TZNAME:CEST
DTSTART:20210328T010000
END:DAYLIGHT
BEGIN:STANDARD
TZOFFSETFROM:+0200
TZOFFSETTO:+0100
TZNAME:CET
DTSTART:20211031T010000
END:STANDARD
BEGIN:DAYLIGHT
TZOFFSETFROM:+0100
TZOFFSETTO:+0200
TZNAME:CEST
DTSTART:20220327T010000
END:DAYLIGHT
BEGIN:STANDARD
TZOFFSETFROM:+0200
TZOFFSETTO:+0100
TZNAME:CET
DTSTART:20221030T010000
END:STANDARD
BEGIN:DAYLIGHT
TZOFFSETFROM:+0100
TZOFFSETTO:+0200
TZNAME:CEST
DTSTART:20230326T010000
END:DAYLIGHT
BEGIN:STANDARD
TZOFFSETFROM:+0200
TZOFFSETTO:+0100
TZNAME:CET
DTSTART:20231029T010000
END:STANDARD
END:VTIMEZONE
BEGIN:VEVENT
DTSTART;VALUE=DATE:20221110
DTEND;VALUE=DATE:20221111
DTSTAMP:20260425T161440
CREATED:20221107T081531Z
LAST-MODIFIED:20221107T081531Z
UID:11568-1668038400-1668124799@ecomanifestations-alsace.fr
SUMMARY:Nuit des Étudiants du Monde - Strasbourg
DESCRIPTION:Les évènements d’accueil à destination des étudiant.e.s internationaux sont de retour pour cette vingtième édition des Nuits des Etudiants du Monde. \nAfin de poursuivre l’engagement démarré en 2019\, l’événement a encore une fois bénéficié de l’accompagnement de notre association et obtient le niveau 2 de notre label ! \n 
URL:https://ecomanifestations-alsace.fr/event/nuit-des-etudiants-du-monde-strasbourg/
END:VEVENT
END:VCALENDAR