BEGIN:VCALENDAR
VERSION:2.0
PRODID:-//Eco-Manifestations Alsace - ECPv6.15.11//NONSGML v1.0//EN
CALSCALE:GREGORIAN
METHOD:PUBLISH
X-ORIGINAL-URL:https://ecomanifestations-alsace.fr
X-WR-CALDESC:Évènements pour Eco-Manifestations Alsace
REFRESH-INTERVAL;VALUE=DURATION:PT1H
X-Robots-Tag:noindex
X-PUBLISHED-TTL:PT1H
BEGIN:VTIMEZONE
TZID:Europe/Paris
BEGIN:DAYLIGHT
TZOFFSETFROM:+0100
TZOFFSETTO:+0200
TZNAME:CEST
DTSTART:20220327T010000
END:DAYLIGHT
BEGIN:STANDARD
TZOFFSETFROM:+0200
TZOFFSETTO:+0100
TZNAME:CET
DTSTART:20221030T010000
END:STANDARD
BEGIN:DAYLIGHT
TZOFFSETFROM:+0100
TZOFFSETTO:+0200
TZNAME:CEST
DTSTART:20230326T010000
END:DAYLIGHT
BEGIN:STANDARD
TZOFFSETFROM:+0200
TZOFFSETTO:+0100
TZNAME:CET
DTSTART:20231029T010000
END:STANDARD
BEGIN:DAYLIGHT
TZOFFSETFROM:+0100
TZOFFSETTO:+0200
TZNAME:CEST
DTSTART:20240331T010000
END:DAYLIGHT
BEGIN:STANDARD
TZOFFSETFROM:+0200
TZOFFSETTO:+0100
TZNAME:CET
DTSTART:20241027T010000
END:STANDARD
END:VTIMEZONE
BEGIN:VEVENT
DTSTART;TZID=Europe/Paris:20230330T183000
DTEND;TZID=Europe/Paris:20230330T203000
DTSTAMP:20260425T051733
CREATED:20230328T130912Z
LAST-MODIFIED:20230328T130912Z
UID:11811-1680201000-1680208200@ecomanifestations-alsace.fr
SUMMARY:Réunion d'information à Strasbourg
DESCRIPTION:La Maison des associations et Éco-Manifestations Alsace vous proposent une soirée d’information à destination des responsables\, porteurs de projets\, bénévoles et salariés qui envisagent d’organiser un événement avec leur association.\n Vous y découvrirez les étapes clés dans l’organisation d’une manifestation (demandes et autorisations\, démarches réglementaires\, sécurité\, responsabilités et assurances) ainsi que les gestes et pratiques écoresponsables à adopter.\nNe manquez pas cette occasion de développer vos connaissances et d’optimiser la réussite de votre prochain événement associatif !\n—\n Pour nous permettre de vous accueillir dans les meilleures conditions possibles\, merci de vous inscrire via ce formulaire : https://forms.office.com/e/T3a79c5KBQ\nIntervenantes :\n– Maison des associations de Strasbourg | Roxanne Bouclin\, Chargée de projets\n– Éco-Manifestations Alsace | Mathilda Wingert\, Chargée de mission\n\nLieu : Maison des Associations de Strasbourg\, place des Orphelins.
URL:https://ecomanifestations-alsace.fr/event/reunion-dinformation-a-strasbourg/
END:VEVENT
END:VCALENDAR