BEGIN:VCALENDAR
VERSION:2.0
PRODID:-//Eco-Manifestations Alsace - ECPv6.15.11//NONSGML v1.0//EN
CALSCALE:GREGORIAN
METHOD:PUBLISH
X-WR-CALNAME:Eco-Manifestations Alsace
X-ORIGINAL-URL:https://ecomanifestations-alsace.fr
X-WR-CALDESC:Évènements pour Eco-Manifestations Alsace
REFRESH-INTERVAL;VALUE=DURATION:PT1H
X-Robots-Tag:noindex
X-PUBLISHED-TTL:PT1H
BEGIN:VTIMEZONE
TZID:Europe/Paris
BEGIN:DAYLIGHT
TZOFFSETFROM:+0100
TZOFFSETTO:+0200
TZNAME:CEST
DTSTART:20220327T010000
END:DAYLIGHT
BEGIN:STANDARD
TZOFFSETFROM:+0200
TZOFFSETTO:+0100
TZNAME:CET
DTSTART:20221030T010000
END:STANDARD
BEGIN:DAYLIGHT
TZOFFSETFROM:+0100
TZOFFSETTO:+0200
TZNAME:CEST
DTSTART:20230326T010000
END:DAYLIGHT
BEGIN:STANDARD
TZOFFSETFROM:+0200
TZOFFSETTO:+0100
TZNAME:CET
DTSTART:20231029T010000
END:STANDARD
BEGIN:DAYLIGHT
TZOFFSETFROM:+0100
TZOFFSETTO:+0200
TZNAME:CEST
DTSTART:20240331T010000
END:DAYLIGHT
BEGIN:STANDARD
TZOFFSETFROM:+0200
TZOFFSETTO:+0100
TZNAME:CET
DTSTART:20241027T010000
END:STANDARD
END:VTIMEZONE
BEGIN:VEVENT
DTSTART;VALUE=DATE:20230331
DTEND;VALUE=DATE:20230403
DTSTAMP:20260425T050732
CREATED:20230306T131135Z
LAST-MODIFIED:20230306T131135Z
UID:11794-1680220800-1680479999@ecomanifestations-alsace.fr
SUMMARY:Festival Motàmot - Mulhouse
DESCRIPTION:Le festival motàmot revient du 31 mars au 2 avril 2023 pour sa quatrième édition\, sur le thème du souvenir. Ce festival littéraire\, organisé par les bibliothèques de Mulhouse avec de nombreux partenaires\, invite à explorer l’écriture à travers des ateliers\, des échanges\, des spectacles\, des jeux\, des rencontres… Trois jours d’activités intenses et diverses pour permettre à chacun de s’exprimer\, d’expérimenter et de partager ses mots.\n\nÉvénement labellisé par Eco-Manifestations Alsace.
URL:https://ecomanifestations-alsace.fr/event/festival-motamot-mulhouse-2/
END:VEVENT
END:VCALENDAR