BEGIN:VCALENDAR
VERSION:2.0
PRODID:-//Eco-Manifestations Alsace - ECPv6.15.11//NONSGML v1.0//EN
CALSCALE:GREGORIAN
METHOD:PUBLISH
X-ORIGINAL-URL:https://ecomanifestations-alsace.fr
X-WR-CALDESC:Évènements pour Eco-Manifestations Alsace
REFRESH-INTERVAL;VALUE=DURATION:PT1H
X-Robots-Tag:noindex
X-PUBLISHED-TTL:PT1H
BEGIN:VTIMEZONE
TZID:Europe/Paris
BEGIN:DAYLIGHT
TZOFFSETFROM:+0100
TZOFFSETTO:+0200
TZNAME:CEST
DTSTART:20220327T010000
END:DAYLIGHT
BEGIN:STANDARD
TZOFFSETFROM:+0200
TZOFFSETTO:+0100
TZNAME:CET
DTSTART:20221030T010000
END:STANDARD
BEGIN:DAYLIGHT
TZOFFSETFROM:+0100
TZOFFSETTO:+0200
TZNAME:CEST
DTSTART:20230326T010000
END:DAYLIGHT
BEGIN:STANDARD
TZOFFSETFROM:+0200
TZOFFSETTO:+0100
TZNAME:CET
DTSTART:20231029T010000
END:STANDARD
BEGIN:DAYLIGHT
TZOFFSETFROM:+0100
TZOFFSETTO:+0200
TZNAME:CEST
DTSTART:20240331T010000
END:DAYLIGHT
BEGIN:STANDARD
TZOFFSETFROM:+0200
TZOFFSETTO:+0100
TZNAME:CET
DTSTART:20241027T010000
END:STANDARD
END:VTIMEZONE
BEGIN:VEVENT
DTSTART;VALUE=DATE:20230512
DTEND;VALUE=DATE:20230524
DTSTAMP:20260425T013316
CREATED:20230502T082004Z
LAST-MODIFIED:20230502T082004Z
UID:11840-1683849600-1684886399@ecomanifestations-alsace.fr
SUMMARY:Festival des mini-entreprises - Grand Est
DESCRIPTION:Pour cette nouvelle édition\, le festival des mini-entreprises a été labellisé écomanifestation. \nCette année ce sont près de 3 000 collégiens\, lycéens\, post-bac (étudiants) et jeunes en structure d’accompagnement à l’emploi du Grand Est qui se sont lancé le défi de créer une entreprise grandeur réelle de l’idéalisation à la commercialisation d’un bien ou d’un service. \nLe Festival des Mini-Entreprises® met en lumière ces différents projets. \nToute la programmation via ce lien : https://www.festivaldesminientreprises.fr/grandest/programmation/ \n 
URL:https://ecomanifestations-alsace.fr/event/festival-des-mini-entreprises-grand-est/
END:VEVENT
BEGIN:VEVENT
DTSTART;VALUE=DATE:20230512
DTEND;VALUE=DATE:20230531
DTSTAMP:20260425T013316
CREATED:20230502T082907Z
LAST-MODIFIED:20230502T082907Z
UID:11842-1683849600-1685491199@ecomanifestations-alsace.fr
SUMMARY:Festival Mon Mouton est un Lion - Saverne
DESCRIPTION:Pour sa 23ème édition\, le Festival Mon Mouton est un Lion a intégré le projet collectif organisé en partenariat avec le Smictom de Saverne et EMA. \nDans le cadre de ce projet\, l’événement a été accompagné et labellisé niveau 2 de notre charte d’engagement. Accompagnement pris en charge par le Smictom de Saverne. \nRetrouvez ce festival jeune public à Saverne\, du 12 au 30 mai 2023. \nToute la programmation via ce lien : https://mouton-lion.org/programmation
URL:https://ecomanifestations-alsace.fr/event/festival-mon-mouton-est-un-lion-saverne/
END:VEVENT
END:VCALENDAR