BEGIN:VCALENDAR
VERSION:2.0
PRODID:-//Eco-Manifestations Alsace - ECPv6.15.11//NONSGML v1.0//EN
CALSCALE:GREGORIAN
METHOD:PUBLISH
X-ORIGINAL-URL:https://ecomanifestations-alsace.fr
X-WR-CALDESC:Évènements pour Eco-Manifestations Alsace
REFRESH-INTERVAL;VALUE=DURATION:PT1H
X-Robots-Tag:noindex
X-PUBLISHED-TTL:PT1H
BEGIN:VTIMEZONE
TZID:Europe/Paris
BEGIN:DAYLIGHT
TZOFFSETFROM:+0100
TZOFFSETTO:+0200
TZNAME:CEST
DTSTART:20220327T010000
END:DAYLIGHT
BEGIN:STANDARD
TZOFFSETFROM:+0200
TZOFFSETTO:+0100
TZNAME:CET
DTSTART:20221030T010000
END:STANDARD
BEGIN:DAYLIGHT
TZOFFSETFROM:+0100
TZOFFSETTO:+0200
TZNAME:CEST
DTSTART:20230326T010000
END:DAYLIGHT
BEGIN:STANDARD
TZOFFSETFROM:+0200
TZOFFSETTO:+0100
TZNAME:CET
DTSTART:20231029T010000
END:STANDARD
BEGIN:DAYLIGHT
TZOFFSETFROM:+0100
TZOFFSETTO:+0200
TZNAME:CEST
DTSTART:20240331T010000
END:DAYLIGHT
BEGIN:STANDARD
TZOFFSETFROM:+0200
TZOFFSETTO:+0100
TZNAME:CET
DTSTART:20241027T010000
END:STANDARD
END:VTIMEZONE
BEGIN:VEVENT
DTSTART;VALUE=DATE:20230602
DTEND;VALUE=DATE:20230604
DTSTAMP:20260424T194751
CREATED:20230530T091742Z
LAST-MODIFIED:20230530T091742Z
UID:11858-1685664000-1685836799@ecomanifestations-alsace.fr
SUMMARY:Festival Chipo'Zik - Mulhouse
DESCRIPTION:Pour sa 18ème édition\, le Festival Chipo’Zik a obtenu le label niveau 1 de notre charte d’engagement ! \nRetrouvez ce festival convivial au campus de l’Illberg à Mulhouse\, le vendredi 2 et samedi 3 juin 2023. \nToute la programmation ici : https://chipozik.fr/programmation \nEntrée gratuite.
URL:https://ecomanifestations-alsace.fr/event/festival-chipozik-mulhouse/
END:VEVENT
BEGIN:VEVENT
DTSTART;VALUE=DATE:20230603
DTEND;VALUE=DATE:20230605
DTSTAMP:20260424T194751
CREATED:20230530T093158Z
LAST-MODIFIED:20230530T093158Z
UID:11862-1685750400-1685923199@ecomanifestations-alsace.fr
SUMMARY:Fête agricole Macellum - Metz
DESCRIPTION:Le temps d’un week-end\, venez respirer le bon air de la campagne dans les jardins de l’Esplanade à Metz. \n\n\n\nCet événement vous propose la découverte des animaux et de l’agriculture (« amener la campagne à la ville ») avec : \no des animations autour des animaux(tonte de moutons\, apiculteurs\, promenade en calèche/poney…) \no des animations variées pour les familles (jeux en bois\, salle de traite de vache\, spectacles…)\no la promotion des corporations de boulangers\, pâtissiers\, bouchers… avec dégustations (boissons et repas).\no une exposition avicole et marché de producteurs. \nBal populaire le samedi soir. \n\n\n\nPour plus d’infos sur la programmation : https://metz.fr/agenda/fiche-32544.php \nÉvénement labellisé niveau 1. Félicitations aux organisateurs !
URL:https://ecomanifestations-alsace.fr/event/fete-agricole-macellum-metz/
END:VEVENT
BEGIN:VEVENT
DTSTART;TZID=Europe/Paris:20230603T160000
DTEND;TZID=Europe/Paris:20230603T220000
DTSTAMP:20260424T194751
CREATED:20230530T092505Z
LAST-MODIFIED:20230530T092505Z
UID:11860-1685808000-1685829600@ecomanifestations-alsace.fr
SUMMARY:Fête de l'été - Lingolsheim
DESCRIPTION:Rdv le samedi 3 juin 2023 de 16h à 22h au centre social et culturel de l’Albatros à Lingolsheim pour la fête de l’été ! \nAu programme : \n16h00 – 19h00 : animations à vivre en famille : jeux géants\, parcours sportifs\, ateliers d’auto-réparation avec Vélostation et Repair Café Strasbourg Eurométropole – animation et démonstration d’activités – scène ouverte … Rigol’Jeux\n19h00-22h00 : bal populaire avec l’orchestre l’Orchestre Marylou et repas interculturel réalisé par des habitant.e.s\n\nPour cette nouvelle édition\, l’événement a obtenu le niveau 1 de notre label. Félicitations à toute l’équipe de l’Albatros !
URL:https://ecomanifestations-alsace.fr/event/fete-de-lete-lingolsheim/
END:VEVENT
END:VCALENDAR