BEGIN:VCALENDAR
VERSION:2.0
PRODID:-//Eco-Manifestations Alsace - ECPv6.15.11//NONSGML v1.0//EN
CALSCALE:GREGORIAN
METHOD:PUBLISH
X-ORIGINAL-URL:https://ecomanifestations-alsace.fr
X-WR-CALDESC:Évènements pour Eco-Manifestations Alsace
REFRESH-INTERVAL;VALUE=DURATION:PT1H
X-Robots-Tag:noindex
X-PUBLISHED-TTL:PT1H
BEGIN:VTIMEZONE
TZID:Europe/Paris
BEGIN:DAYLIGHT
TZOFFSETFROM:+0100
TZOFFSETTO:+0200
TZNAME:CEST
DTSTART:20220327T010000
END:DAYLIGHT
BEGIN:STANDARD
TZOFFSETFROM:+0200
TZOFFSETTO:+0100
TZNAME:CET
DTSTART:20221030T010000
END:STANDARD
BEGIN:DAYLIGHT
TZOFFSETFROM:+0100
TZOFFSETTO:+0200
TZNAME:CEST
DTSTART:20230326T010000
END:DAYLIGHT
BEGIN:STANDARD
TZOFFSETFROM:+0200
TZOFFSETTO:+0100
TZNAME:CET
DTSTART:20231029T010000
END:STANDARD
BEGIN:DAYLIGHT
TZOFFSETFROM:+0100
TZOFFSETTO:+0200
TZNAME:CEST
DTSTART:20240331T010000
END:DAYLIGHT
BEGIN:STANDARD
TZOFFSETFROM:+0200
TZOFFSETTO:+0100
TZNAME:CET
DTSTART:20241027T010000
END:STANDARD
END:VTIMEZONE
BEGIN:VEVENT
DTSTART;VALUE=DATE:20230603
DTEND;VALUE=DATE:20230605
DTSTAMP:20260425T051337
CREATED:20230530T093158Z
LAST-MODIFIED:20230530T093158Z
UID:11862-1685750400-1685923199@ecomanifestations-alsace.fr
SUMMARY:Fête agricole Macellum - Metz
DESCRIPTION:Le temps d’un week-end\, venez respirer le bon air de la campagne dans les jardins de l’Esplanade à Metz. \n\n\n\nCet événement vous propose la découverte des animaux et de l’agriculture (« amener la campagne à la ville ») avec : \no des animations autour des animaux(tonte de moutons\, apiculteurs\, promenade en calèche/poney…) \no des animations variées pour les familles (jeux en bois\, salle de traite de vache\, spectacles…)\no la promotion des corporations de boulangers\, pâtissiers\, bouchers… avec dégustations (boissons et repas).\no une exposition avicole et marché de producteurs. \nBal populaire le samedi soir. \n\n\n\nPour plus d’infos sur la programmation : https://metz.fr/agenda/fiche-32544.php \nÉvénement labellisé niveau 1. Félicitations aux organisateurs !
URL:https://ecomanifestations-alsace.fr/event/fete-agricole-macellum-metz/
END:VEVENT
BEGIN:VEVENT
DTSTART;VALUE=DATE:20230604
DTEND;VALUE=DATE:20230605
DTSTAMP:20260425T051337
CREATED:20230530T093604Z
LAST-MODIFIED:20230530T093604Z
UID:11864-1685836800-1685923199@ecomanifestations-alsace.fr
SUMMARY:Basse Zorn a l'An Vert - Weyersheim
DESCRIPTION:La Communauté de communes vous donne rendez-vous le dimanche 4 juin 2023 sur le parvis de l’Espace W de Weyersheim pour la 7ème édition de la Basse-Zorn à l’An Vert sur le thème Devenez un Consom’acteur ! \nCet événement a cette année encore\, obtenu le label niveau 3 ! Félicitations aux organisateurs ! \nPlus d’infos sur : https://www.cc-basse-zorn.fr/bzav
URL:https://ecomanifestations-alsace.fr/event/basse-zorn-a-lan-vert-weyersheim/
END:VEVENT
BEGIN:VEVENT
DTSTART;TZID=Europe/Paris:20230604T080000
DTEND;TZID=Europe/Paris:20230604T140000
DTSTAMP:20260425T051337
CREATED:20230601T093522Z
LAST-MODIFIED:20230601T093522Z
UID:11879-1685865600-1685887200@ecomanifestations-alsace.fr
SUMMARY:Foulées Eco-Solidaires - Schiltigheim
DESCRIPTION:Pour leur 3ème édition\, les foulées éco-solidaires ont à nouveau été labellisées niveau 3 de notre label ! Félicitations aux organisateurs ! \nVenez partager en famille les animations sportives\, musicales et pédagogiques sur l’éco-responsabilité au sein du Village des partenaires. \nLieu : départ/arrivée de la course : 1 avenue de l’Europe\, 67300 SCHILTIGHEIM (Parking du Crystal Park).
URL:https://ecomanifestations-alsace.fr/event/foulees-eco-solidaires-schiltigheim/
END:VEVENT
END:VCALENDAR