BEGIN:VCALENDAR
VERSION:2.0
PRODID:-//Eco-Manifestations Alsace - ECPv6.15.11//NONSGML v1.0//EN
CALSCALE:GREGORIAN
METHOD:PUBLISH
X-WR-CALNAME:Eco-Manifestations Alsace
X-ORIGINAL-URL:https://ecomanifestations-alsace.fr
X-WR-CALDESC:Évènements pour Eco-Manifestations Alsace
REFRESH-INTERVAL;VALUE=DURATION:PT1H
X-Robots-Tag:noindex
X-PUBLISHED-TTL:PT1H
BEGIN:VTIMEZONE
TZID:Europe/Paris
BEGIN:DAYLIGHT
TZOFFSETFROM:+0100
TZOFFSETTO:+0200
TZNAME:CEST
DTSTART:20220327T010000
END:DAYLIGHT
BEGIN:STANDARD
TZOFFSETFROM:+0200
TZOFFSETTO:+0100
TZNAME:CET
DTSTART:20221030T010000
END:STANDARD
BEGIN:DAYLIGHT
TZOFFSETFROM:+0100
TZOFFSETTO:+0200
TZNAME:CEST
DTSTART:20230326T010000
END:DAYLIGHT
BEGIN:STANDARD
TZOFFSETFROM:+0200
TZOFFSETTO:+0100
TZNAME:CET
DTSTART:20231029T010000
END:STANDARD
BEGIN:DAYLIGHT
TZOFFSETFROM:+0100
TZOFFSETTO:+0200
TZNAME:CEST
DTSTART:20240331T010000
END:DAYLIGHT
BEGIN:STANDARD
TZOFFSETFROM:+0200
TZOFFSETTO:+0100
TZNAME:CET
DTSTART:20241027T010000
END:STANDARD
END:VTIMEZONE
BEGIN:VEVENT
DTSTART;VALUE=DATE:20230622
DTEND;VALUE=DATE:20230624
DTSTAMP:20260424T213640
CREATED:20230530T095413Z
LAST-MODIFIED:20230530T095413Z
UID:11870-1687392000-1687564799@ecomanifestations-alsace.fr
SUMMARY:360 Grand-Est - Strasbourg
DESCRIPTION:Le 360 Grand Est est le rendez-vous incontournable de l’innovation et de la transformation dans le Grand Est.\n\nCette 4ème édition aura lieu les 22 et 23 juin 2023 au Palais de la Musique et des Congrès de Strasbourg.\n\nRetrouvez des conférences\, ateliers\, masterclasses\, tables rondes\, pitchs\, démonstrations\, rencontres exposants\, Job Open Day\, convention d’affaires…\n\nÉvénement labellisé niveau 1 de notre charte d’engagement !\n\nPour vous inscrire : https://www.360grandest.fr/fr/content/inscription\n\nEntrée libre.
URL:https://ecomanifestations-alsace.fr/event/360-grand-est-strasbourg/
END:VEVENT
BEGIN:VEVENT
DTSTART;VALUE=DATE:20230622
DTEND;VALUE=DATE:20230625
DTSTAMP:20260424T213640
CREATED:20230530T100225Z
LAST-MODIFIED:20230530T100225Z
UID:11872-1687392000-1687651199@ecomanifestations-alsace.fr
SUMMARY:Congrès National APF France Handicap - Reims
DESCRIPTION:Pour cette nouvelle édition\, le congrès national de France Handicap se tiendra du 22 au 24 juin 2023 au Parc des expositions à Reims. Il s’adresse à l’ensemble des parties- prenantes (usagés\, adhérents élus\, salariés\, bénévoles) et est ouvert au public sur inscription. \nCet événement organisé tous les cinq ans et rassemble plus de 1 000 personnes\, dont 350 personnes en situation de handicap. \n\nÉvénement labellisé niveau 2 de notre charte d’engagement. Félicitations aux organisateurs !
URL:https://ecomanifestations-alsace.fr/event/congres-national-apf-france-handicap-reims/
END:VEVENT
END:VCALENDAR