BEGIN:VCALENDAR
VERSION:2.0
PRODID:-//Eco-Manifestations Alsace - ECPv6.15.11//NONSGML v1.0//EN
CALSCALE:GREGORIAN
METHOD:PUBLISH
X-WR-CALNAME:Eco-Manifestations Alsace
X-ORIGINAL-URL:https://ecomanifestations-alsace.fr
X-WR-CALDESC:Évènements pour Eco-Manifestations Alsace
REFRESH-INTERVAL;VALUE=DURATION:PT1H
X-Robots-Tag:noindex
X-PUBLISHED-TTL:PT1H
BEGIN:VTIMEZONE
TZID:Europe/Paris
BEGIN:DAYLIGHT
TZOFFSETFROM:+0100
TZOFFSETTO:+0200
TZNAME:CEST
DTSTART:20220327T010000
END:DAYLIGHT
BEGIN:STANDARD
TZOFFSETFROM:+0200
TZOFFSETTO:+0100
TZNAME:CET
DTSTART:20221030T010000
END:STANDARD
BEGIN:DAYLIGHT
TZOFFSETFROM:+0100
TZOFFSETTO:+0200
TZNAME:CEST
DTSTART:20230326T010000
END:DAYLIGHT
BEGIN:STANDARD
TZOFFSETFROM:+0200
TZOFFSETTO:+0100
TZNAME:CET
DTSTART:20231029T010000
END:STANDARD
BEGIN:DAYLIGHT
TZOFFSETFROM:+0100
TZOFFSETTO:+0200
TZNAME:CEST
DTSTART:20240331T010000
END:DAYLIGHT
BEGIN:STANDARD
TZOFFSETFROM:+0200
TZOFFSETTO:+0100
TZNAME:CET
DTSTART:20241027T010000
END:STANDARD
END:VTIMEZONE
BEGIN:VEVENT
DTSTART;VALUE=DATE:20230818
DTEND;VALUE=DATE:20230828
DTSTAMP:20260424T154509
CREATED:20230725T140816Z
LAST-MODIFIED:20230725T140816Z
UID:11945-1692316800-1693180799@ecomanifestations-alsace.fr
SUMMARY:Les fêtes de la Mirabelle - Metz
DESCRIPTION:Retrouvez cette année encore\, les célèbres fêtes de la Mirabelle les 18\, 19 et 20 août à l‘Esplanade et les 26 et 27 août au plan d’eau. \nAu programme : de nombreux concerts\, des musiques diversifiées\, des spectacles\, un marché des arts et des saveurs\, l’élection de la reine de la mirabelle… \nPlusieurs stands de restauration sauront vous satisfaire ! \nPlus d’informations sur : https://actu.fr/grand-est/metz_57463/fetes-de-la-mirabelle-a-metz-decouvrez-le-programme-de-l-edition-2023_59719956.html \nEvénement labellisé niveau 2 de notre charte d’engagement !
URL:https://ecomanifestations-alsace.fr/event/les-fetes-de-la-mirabelle-metz-2/
END:VEVENT
END:VCALENDAR