BEGIN:VCALENDAR
VERSION:2.0
PRODID:-//Eco-Manifestations Alsace - ECPv6.15.11//NONSGML v1.0//EN
CALSCALE:GREGORIAN
METHOD:PUBLISH
X-WR-CALNAME:Eco-Manifestations Alsace
X-ORIGINAL-URL:https://ecomanifestations-alsace.fr
X-WR-CALDESC:Évènements pour Eco-Manifestations Alsace
REFRESH-INTERVAL;VALUE=DURATION:PT1H
X-Robots-Tag:noindex
X-PUBLISHED-TTL:PT1H
BEGIN:VTIMEZONE
TZID:Europe/Paris
BEGIN:DAYLIGHT
TZOFFSETFROM:+0100
TZOFFSETTO:+0200
TZNAME:CEST
DTSTART:20220327T010000
END:DAYLIGHT
BEGIN:STANDARD
TZOFFSETFROM:+0200
TZOFFSETTO:+0100
TZNAME:CET
DTSTART:20221030T010000
END:STANDARD
BEGIN:DAYLIGHT
TZOFFSETFROM:+0100
TZOFFSETTO:+0200
TZNAME:CEST
DTSTART:20230326T010000
END:DAYLIGHT
BEGIN:STANDARD
TZOFFSETFROM:+0200
TZOFFSETTO:+0100
TZNAME:CET
DTSTART:20231029T010000
END:STANDARD
BEGIN:DAYLIGHT
TZOFFSETFROM:+0100
TZOFFSETTO:+0200
TZNAME:CEST
DTSTART:20240331T010000
END:DAYLIGHT
BEGIN:STANDARD
TZOFFSETFROM:+0200
TZOFFSETTO:+0100
TZNAME:CET
DTSTART:20241027T010000
END:STANDARD
END:VTIMEZONE
BEGIN:VEVENT
DTSTART;VALUE=DATE:20230907
DTEND;VALUE=DATE:20230908
DTSTAMP:20260424T175952
CREATED:20230901T123151Z
LAST-MODIFIED:20230901T123211Z
UID:11959-1694044800-1694131199@ecomanifestations-alsace.fr
SUMMARY:Apéro Pôle - Strasbourg (événement pro)
DESCRIPTION:Evénement professionnel organisé par Biovalley. \nIls obtiennent le niveau 1 de notre label. \nFélicitations aux organisateurs !
URL:https://ecomanifestations-alsace.fr/event/apero-pole-strasbourg-evenement-pro/
END:VEVENT
BEGIN:VEVENT
DTSTART;VALUE=DATE:20230907
DTEND;VALUE=DATE:20230908
DTSTAMP:20260424T175952
CREATED:20230901T123345Z
LAST-MODIFIED:20230901T123345Z
UID:11962-1694044800-1694131199@ecomanifestations-alsace.fr
SUMMARY:les Régionales de l'édition - Nancy (événement pro)
DESCRIPTION:Evénement professionnel organisé par la Confédération Interprofessionnelle du Livre Grand Est. \nIls obtiennent le niveau 2 de notre label. \nFélicitations aux organisateurs !
URL:https://ecomanifestations-alsace.fr/event/les-regionales-de-ledition-nancy-evenement-pro/
END:VEVENT
BEGIN:VEVENT
DTSTART;VALUE=DATE:20230907
DTEND;VALUE=DATE:20230908
DTSTAMP:20260424T175952
CREATED:20230901T123529Z
LAST-MODIFIED:20230901T123529Z
UID:11964-1694044800-1694131199@ecomanifestations-alsace.fr
SUMMARY:15 ans du SCB - Strasbourg (événement pro)
DESCRIPTION:Evénement professionnel organisé par Strasbourg Convention Bureau.  \nIls obtiennent le niveau 1 de notre label. \nFélicitations aux organisateurs !
URL:https://ecomanifestations-alsace.fr/event/15-ans-du-scb-strasbourg-evenement-pro/
END:VEVENT
END:VCALENDAR