BEGIN:VCALENDAR
VERSION:2.0
PRODID:-//Eco-Manifestations Alsace - ECPv6.15.11//NONSGML v1.0//EN
CALSCALE:GREGORIAN
METHOD:PUBLISH
X-WR-CALNAME:Eco-Manifestations Alsace
X-ORIGINAL-URL:https://ecomanifestations-alsace.fr
X-WR-CALDESC:Évènements pour Eco-Manifestations Alsace
REFRESH-INTERVAL;VALUE=DURATION:PT1H
X-Robots-Tag:noindex
X-PUBLISHED-TTL:PT1H
BEGIN:VTIMEZONE
TZID:Europe/Paris
BEGIN:DAYLIGHT
TZOFFSETFROM:+0100
TZOFFSETTO:+0200
TZNAME:CEST
DTSTART:20220327T010000
END:DAYLIGHT
BEGIN:STANDARD
TZOFFSETFROM:+0200
TZOFFSETTO:+0100
TZNAME:CET
DTSTART:20221030T010000
END:STANDARD
BEGIN:DAYLIGHT
TZOFFSETFROM:+0100
TZOFFSETTO:+0200
TZNAME:CEST
DTSTART:20230326T010000
END:DAYLIGHT
BEGIN:STANDARD
TZOFFSETFROM:+0200
TZOFFSETTO:+0100
TZNAME:CET
DTSTART:20231029T010000
END:STANDARD
BEGIN:DAYLIGHT
TZOFFSETFROM:+0100
TZOFFSETTO:+0200
TZNAME:CEST
DTSTART:20240331T010000
END:DAYLIGHT
BEGIN:STANDARD
TZOFFSETFROM:+0200
TZOFFSETTO:+0100
TZNAME:CET
DTSTART:20241027T010000
END:STANDARD
END:VTIMEZONE
BEGIN:VEVENT
DTSTART;VALUE=DATE:20230909
DTEND;VALUE=DATE:20230911
DTSTAMP:20260424T160356
CREATED:20230901T123831Z
LAST-MODIFIED:20230901T123831Z
UID:11966-1694217600-1694390399@ecomanifestations-alsace.fr
SUMMARY:Journées d'Automne et des Associations - Riedisheim
DESCRIPTION:Les Journées d’Automne et des Associations à Riedisheim\, c’est l’occasion de découvrir la vitalité des associations locales de la commune et de faire le plein d’animations en ce premier week-end après la rentrée scolaire ! \nComme chaque année\, des expositions et de nombreuses animations seront proposées lors de ces journées\, avec notamment le forum des associations locales\, le village gourmand ou encore le marché aux puces. \nEvénement labellisé niveau 1.
URL:https://ecomanifestations-alsace.fr/event/journees-dautomne-et-des-associations-riedisheim/
END:VEVENT
BEGIN:VEVENT
DTSTART;VALUE=DATE:20230909
DTEND;VALUE=DATE:20230911
DTSTAMP:20260424T160356
CREATED:20230901T124212Z
LAST-MODIFIED:20230901T124212Z
UID:11968-1694217600-1694390399@ecomanifestations-alsace.fr
SUMMARY:Villages des Associations - Strasbourg
DESCRIPTION:Pour cette nouvelle édition\, le Village des Associations a obtenu le label niveau 2 de notre charte d’engagement. \nVenez découvrir de nombreuses animations proposées par plus de 200 associations locales !  \nBuvette & restauration sur place avec Au bon Stück\, L’essentiel chez Raphaël\, Knack eat\, Les gaufres d’Érick\, Bivouac Café et le Collectif Humanis.
URL:https://ecomanifestations-alsace.fr/event/villages-des-associations-strasbourg/
END:VEVENT
END:VCALENDAR