BEGIN:VCALENDAR
VERSION:2.0
PRODID:-//Eco-Manifestations Alsace - ECPv6.15.11//NONSGML v1.0//EN
CALSCALE:GREGORIAN
METHOD:PUBLISH
X-WR-CALNAME:Eco-Manifestations Alsace
X-ORIGINAL-URL:https://ecomanifestations-alsace.fr
X-WR-CALDESC:Évènements pour Eco-Manifestations Alsace
REFRESH-INTERVAL;VALUE=DURATION:PT1H
X-Robots-Tag:noindex
X-PUBLISHED-TTL:PT1H
BEGIN:VTIMEZONE
TZID:Europe/Paris
BEGIN:DAYLIGHT
TZOFFSETFROM:+0100
TZOFFSETTO:+0200
TZNAME:CEST
DTSTART:20220327T010000
END:DAYLIGHT
BEGIN:STANDARD
TZOFFSETFROM:+0200
TZOFFSETTO:+0100
TZNAME:CET
DTSTART:20221030T010000
END:STANDARD
BEGIN:DAYLIGHT
TZOFFSETFROM:+0100
TZOFFSETTO:+0200
TZNAME:CEST
DTSTART:20230326T010000
END:DAYLIGHT
BEGIN:STANDARD
TZOFFSETFROM:+0200
TZOFFSETTO:+0100
TZNAME:CET
DTSTART:20231029T010000
END:STANDARD
BEGIN:DAYLIGHT
TZOFFSETFROM:+0100
TZOFFSETTO:+0200
TZNAME:CEST
DTSTART:20240331T010000
END:DAYLIGHT
BEGIN:STANDARD
TZOFFSETFROM:+0200
TZOFFSETTO:+0100
TZNAME:CET
DTSTART:20241027T010000
END:STANDARD
END:VTIMEZONE
BEGIN:VEVENT
DTSTART;VALUE=DATE:20230915
DTEND;VALUE=DATE:20230918
DTSTAMP:20260424T160345
CREATED:20230901T124415Z
LAST-MODIFIED:20230901T124415Z
UID:11970-1694736000-1694995199@ecomanifestations-alsace.fr
SUMMARY:BiObernai - Obernai
DESCRIPTION:le Salon de l’Agriculture Bio\, de la Terre et des Hommes\, vous donne rendez-vous du 15 au 17 septembre\, au parking des remparts à Obernai.\n\nPour cette 20ème édition\, retrouvez un programmes riche en conférences\, ateliers et animations.\n\nToutes les informations sur : https://www.biobernai.com/FR/Salon-BiObernai/Accueil.html \n\nEvénement labellisé niveau 3 !
URL:https://ecomanifestations-alsace.fr/event/biobernai-obernai-2/
END:VEVENT
BEGIN:VEVENT
DTSTART;VALUE=DATE:20230916
DTEND;VALUE=DATE:20230918
DTSTAMP:20260424T160345
CREATED:20230901T124608Z
LAST-MODIFIED:20230901T124608Z
UID:11973-1694822400-1694995199@ecomanifestations-alsace.fr
SUMMARY:Les Mulhousiennes - Mulhouse
DESCRIPTION:Les Mulhousiennes\, du 16 au 17 septembre\, à Mulhouse.\nParticipez à cet événement sportif et solidaire pour lutter contre les cancers féminins et soutenir des projets locaux.\nPour vous inscrire : https://sporkrono-inscription.fr/…/select_competition…
URL:https://ecomanifestations-alsace.fr/event/les-mulhousiennes-mulhouse-2/
END:VEVENT
END:VCALENDAR