BEGIN:VCALENDAR
VERSION:2.0
PRODID:-//Eco-Manifestations Alsace - ECPv6.15.11//NONSGML v1.0//EN
CALSCALE:GREGORIAN
METHOD:PUBLISH
X-ORIGINAL-URL:https://ecomanifestations-alsace.fr
X-WR-CALDESC:Évènements pour Eco-Manifestations Alsace
REFRESH-INTERVAL;VALUE=DURATION:PT1H
X-Robots-Tag:noindex
X-PUBLISHED-TTL:PT1H
BEGIN:VTIMEZONE
TZID:Europe/Paris
BEGIN:DAYLIGHT
TZOFFSETFROM:+0100
TZOFFSETTO:+0200
TZNAME:CEST
DTSTART:20220327T010000
END:DAYLIGHT
BEGIN:STANDARD
TZOFFSETFROM:+0200
TZOFFSETTO:+0100
TZNAME:CET
DTSTART:20221030T010000
END:STANDARD
BEGIN:DAYLIGHT
TZOFFSETFROM:+0100
TZOFFSETTO:+0200
TZNAME:CEST
DTSTART:20230326T010000
END:DAYLIGHT
BEGIN:STANDARD
TZOFFSETFROM:+0200
TZOFFSETTO:+0100
TZNAME:CET
DTSTART:20231029T010000
END:STANDARD
BEGIN:DAYLIGHT
TZOFFSETFROM:+0100
TZOFFSETTO:+0200
TZNAME:CEST
DTSTART:20240331T010000
END:DAYLIGHT
BEGIN:STANDARD
TZOFFSETFROM:+0200
TZOFFSETTO:+0100
TZNAME:CET
DTSTART:20241027T010000
END:STANDARD
END:VTIMEZONE
BEGIN:VEVENT
DTSTART;TZID=Europe/Paris:20230926T140000
DTEND;TZID=Europe/Paris:20230926T160000
DTSTAMP:20260424T123142
CREATED:20230720T152226Z
LAST-MODIFIED:20230720T153057Z
UID:11934-1695736800-1695744000@ecomanifestations-alsace.fr
SUMMARY:Journée de rencontre : quelles actions mettre en place pour lutter efficacement contre le changement climatique ?
DESCRIPTION:Organisateurs d’événements : quelles actions mettre en place pour lutterefficacement contre le changement climatique ?\nLa mobilité et l’alimentation sont les postes les plus émetteurs de gaz à effet de serre de laplupart des événements. \nPourquoi ces émissions ? Comment les réduire ? Quels sont les freins et quels sont les leviers ? \nPour répondre à ces questions\, Eco-Manifestations Alsace vous propose un temps d’échangeavec divers experts en bilan carbone\, mobilité et alimentation. \nRendez-vous au Kaleidoscope\, 5 Rue de la Coopérative à Strasbourg\, le mardi 26septembre de 14h à 16h. \n Entrée libre\, sur inscription : https://lnkd.in/eDiY__VU
URL:https://ecomanifestations-alsace.fr/event/journee-de-rencontre-quelles-actions-mettre-en-place-pour-lutter-efficacement-contre-le-changement-climatique/
END:VEVENT
END:VCALENDAR