BEGIN:VCALENDAR
VERSION:2.0
PRODID:-//Eco-Manifestations Alsace - ECPv6.15.11//NONSGML v1.0//EN
CALSCALE:GREGORIAN
METHOD:PUBLISH
X-ORIGINAL-URL:https://ecomanifestations-alsace.fr
X-WR-CALDESC:Évènements pour Eco-Manifestations Alsace
REFRESH-INTERVAL;VALUE=DURATION:PT1H
X-Robots-Tag:noindex
X-PUBLISHED-TTL:PT1H
BEGIN:VTIMEZONE
TZID:Europe/Paris
BEGIN:DAYLIGHT
TZOFFSETFROM:+0100
TZOFFSETTO:+0200
TZNAME:CEST
DTSTART:20220327T010000
END:DAYLIGHT
BEGIN:STANDARD
TZOFFSETFROM:+0200
TZOFFSETTO:+0100
TZNAME:CET
DTSTART:20221030T010000
END:STANDARD
BEGIN:DAYLIGHT
TZOFFSETFROM:+0100
TZOFFSETTO:+0200
TZNAME:CEST
DTSTART:20230326T010000
END:DAYLIGHT
BEGIN:STANDARD
TZOFFSETFROM:+0200
TZOFFSETTO:+0100
TZNAME:CET
DTSTART:20231029T010000
END:STANDARD
BEGIN:DAYLIGHT
TZOFFSETFROM:+0100
TZOFFSETTO:+0200
TZNAME:CEST
DTSTART:20240331T010000
END:DAYLIGHT
BEGIN:STANDARD
TZOFFSETFROM:+0200
TZOFFSETTO:+0100
TZNAME:CET
DTSTART:20241027T010000
END:STANDARD
END:VTIMEZONE
BEGIN:VEVENT
DTSTART;VALUE=DATE:20231108
DTEND;VALUE=DATE:20231126
DTSTAMP:20260424T123208
CREATED:20231017T133612Z
LAST-MODIFIED:20231017T134038Z
UID:12010-1699401600-1700956799@ecomanifestations-alsace.fr
SUMMARY:Au fil des Ailes - Gand Est
DESCRIPTION:Manifestation littéraire itinérante organisée par Interbibly\, la septième édition du Au fil des ailes festival se déroulera du 8 au 25 novembre 2023 en région Grand Est. \nÀ l’affiche cette année\, une programmation mêlant les arts littéraires et vivants. \nC’est un événement labellisé pour la première fois et ils ont obtenu le niveau 1 de notre label\, félicitations aux organisateurs !
URL:https://ecomanifestations-alsace.fr/event/au-fil-des-ailes-gand-est/
END:VEVENT
BEGIN:VEVENT
DTSTART;VALUE=DATE:20231110
DTEND;VALUE=DATE:20231114
DTSTAMP:20260424T123208
CREATED:20231017T134002Z
LAST-MODIFIED:20231017T134002Z
UID:12012-1699574400-1699919999@ecomanifestations-alsace.fr
SUMMARY:Salon Résonance(s) - Strasbourg
DESCRIPTION:Le salon européen des métiers d’art\, revient cette année pour leur 11ème édition\, du 10 au 13 novembre 2023 au Parc Expo de Strasbourg. \nRetrouvez le programme sur : https://www.salon-resonances.com/programme-du-salon-resonances/ \nC’est une première labellisation pour cet événement et une obtention du niveau 1 de notre label\, félicitations aux organisateurs ! \n 
URL:https://ecomanifestations-alsace.fr/event/salon-resonances-strasbourg/
END:VEVENT
BEGIN:VEVENT
DTSTART;VALUE=DATE:20231110
DTEND;VALUE=DATE:20231113
DTSTAMP:20260424T123208
CREATED:20231031T151920Z
LAST-MODIFIED:20231031T151920Z
UID:12031-1699574400-1699833599@ecomanifestations-alsace.fr
SUMMARY:Schilick On Carnet - Schiltigheim
DESCRIPTION:Venez participer à 3 jours de rencontres\, de dédicaces\, d’ateliers et d’animations autour de l’illustration et du livre jeunesse. Des auteurs et des illustrateurs seront présents durant tout le week-end. \nLe rendez-vous incontournable des petits et grands lecteurs\, de 2 à 102 ans ! \nCette année\, l’événement a poursuivi son engagement de développement durable et a obtenu le niveau 1 de notre label.
URL:https://ecomanifestations-alsace.fr/event/schilick-on-carnet-schiltigheim-2/
END:VEVENT
END:VCALENDAR