BEGIN:VCALENDAR
VERSION:2.0
PRODID:-//Eco-Manifestations Alsace - ECPv6.15.11//NONSGML v1.0//EN
CALSCALE:GREGORIAN
METHOD:PUBLISH
X-WR-CALNAME:Eco-Manifestations Alsace
X-ORIGINAL-URL:https://ecomanifestations-alsace.fr
X-WR-CALDESC:Évènements pour Eco-Manifestations Alsace
REFRESH-INTERVAL;VALUE=DURATION:PT1H
X-Robots-Tag:noindex
X-PUBLISHED-TTL:PT1H
BEGIN:VTIMEZONE
TZID:Europe/Paris
BEGIN:DAYLIGHT
TZOFFSETFROM:+0100
TZOFFSETTO:+0200
TZNAME:CEST
DTSTART:20220327T010000
END:DAYLIGHT
BEGIN:STANDARD
TZOFFSETFROM:+0200
TZOFFSETTO:+0100
TZNAME:CET
DTSTART:20221030T010000
END:STANDARD
BEGIN:DAYLIGHT
TZOFFSETFROM:+0100
TZOFFSETTO:+0200
TZNAME:CEST
DTSTART:20230326T010000
END:DAYLIGHT
BEGIN:STANDARD
TZOFFSETFROM:+0200
TZOFFSETTO:+0100
TZNAME:CET
DTSTART:20231029T010000
END:STANDARD
BEGIN:DAYLIGHT
TZOFFSETFROM:+0100
TZOFFSETTO:+0200
TZNAME:CEST
DTSTART:20240331T010000
END:DAYLIGHT
BEGIN:STANDARD
TZOFFSETFROM:+0200
TZOFFSETTO:+0100
TZNAME:CET
DTSTART:20241027T010000
END:STANDARD
END:VTIMEZONE
BEGIN:VEVENT
DTSTART;VALUE=DATE:20231124
DTEND;VALUE=DATE:20231228
DTSTAMP:20260424T050423
CREATED:20231027T092611Z
LAST-MODIFIED:20231027T092611Z
UID:12023-1700784000-1703721599@ecomanifestations-alsace.fr
SUMMARY:Marché de Noël - Mulhouse
DESCRIPTION:Cette année encore\, le marché de Noël de Mulhouse a mis en place un certains nombre d’actions éco-responsables et à su conserver le niveau 2 de notre label ! \nRetrouvez un marché de Noël alsacien traditionnel en plein cœur du centre historique de Mulhouse et découvrez sa particularité\, l’étoffe de Noël\, tissu créé chaque année pour décorer les façades et les rues piétonnes et donner un écrin festif au marché de Noël. \n 
URL:https://ecomanifestations-alsace.fr/event/marche-de-noel-mulhouse-3/
END:VEVENT
BEGIN:VEVENT
DTSTART;VALUE=DATE:20231124
DTEND;VALUE=DATE:20231225
DTSTAMP:20260424T050423
CREATED:20231130T093330Z
LAST-MODIFIED:20231130T093330Z
UID:12060-1700784000-1703462399@ecomanifestations-alsace.fr
SUMMARY:Marché OFF - Strasbourg
DESCRIPTION:Comme chaque année\, venez à la rencontre d’une trentaine d’acteurs locaux de l’Économie Sociale et Solidaire (ESS)\, présents à la Place Grimmeissen à Strasbourg pour réinventer Noël.  \nLe Marché OFF est un lieu où l’on échange\, recycle\, chine et invente ce que Noël offre de différent\, de solidaire\, d’original et d’authentique en ayant recours à des modes de consommation qui font sens. \nNe manquez pas la programmation complète de l’événement : https://www.marcheoffstrasbourg.fr/agenda-complet-2023/ \n\nUne manifestation labellisée niveau 2.
URL:https://ecomanifestations-alsace.fr/event/marche-off-strasbourg-2/
END:VEVENT
BEGIN:VEVENT
DTSTART;VALUE=DATE:20231124
DTEND;VALUE=DATE:20231218
DTSTAMP:20260424T050423
CREATED:20231130T093741Z
LAST-MODIFIED:20231130T093741Z
UID:12062-1700784000-1702857599@ecomanifestations-alsace.fr
SUMMARY:Marché de Noël - Wissembourg
DESCRIPTION:Pour cette nouvelle édition\, le marché de Noël de Wissembourg\, a obtenu le niveau 1 de notre label ! \nDu 24 novembre au 17 décembre 2023 (uniquement les week-ends)\, retrouvez les animations phares : le marché de Noël\, café de Noël et les nombreuses animations tout au long de la période de l’Avent. Le défilé de HansTrapp et Christkindel\, suivi d’un spectacle pyrotechnique\, viendra clôturer ces festivités de Noël le dimanche 17 décembre. \nRetrouvez le programme complet ici : https://www.ville-wissembourg.eu/Actus/Programme-Noel-Wissembourg-2023-00447.html
URL:https://ecomanifestations-alsace.fr/event/marche-de-noel-wissembourg-2/
END:VEVENT
BEGIN:VEVENT
DTSTART;VALUE=DATE:20231124
DTEND;VALUE=DATE:20231204
DTSTAMP:20260424T050423
CREATED:20231130T100038Z
LAST-MODIFIED:20231130T100038Z
UID:12068-1700784000-1701647999@ecomanifestations-alsace.fr
SUMMARY:Marché de Noël - Pfastatt
DESCRIPTION:Pour la première fois\, le marché de Noël de Pfastatt s’est fait accompagner par notre équipe et a obtenu le label niveau 1 ! Félicitations aux organisateurs pour leur engagement. \nDe nombreux exposants et artisans vous attendent pour proposer leurs idées cadeaux en tous genres. Des associations sont également sur place pour présenter leurs activités et se faire connaître du public. \nPour les gourmands\, pas de panique\, il y a de quoi se régaler : vin chaud\, jus de pomme chaud\, bons petits plats et bien sûr bredeles de Noël ! \nRendez-vous les deux premiers week end de l’Avent sur le site de la Ferme du Château : les 24\, 25 et 26 novembre ainsi que les 1er\, 2 et 3 décembre 2023. Uniquement les week-ends : les vendredis de 16h à 20h\, les samedis de 11h à 21h et les dimanches de 11h à 19h.
URL:https://ecomanifestations-alsace.fr/event/marche-de-noel-pfastatt/
END:VEVENT
BEGIN:VEVENT
DTSTART;VALUE=DATE:20231201
DTEND;VALUE=DATE:20231225
DTSTAMP:20260424T050423
CREATED:20231130T094031Z
LAST-MODIFIED:20231130T094031Z
UID:12064-1701388800-1703462399@ecomanifestations-alsace.fr
SUMMARY:Festival les Fenêtres de l'Avent - Uffholtz
DESCRIPTION:Cette année encore\, le Festival les Fenêtres de l’Avent a été accompagné par notre association et a obtenu le label niveau 2 de notre charte d’engagement ! Félicitations à tous les bénévoles du Foyer Saint-Erasme. \nVenez découvrir de nombreux spectacles avec des comédiens\, des circassiens\, des bateleurs\, des chanteurs\, des musiciens\, des danseurs\, des marionnettistes\, tous les soirs à partir de 19h\, du 1er au 24 décembre. \nToute la programmation sur : https://24fenetres.fr/la-programmation/
URL:https://ecomanifestations-alsace.fr/event/festival-les-fenetres-de-lavent-uffholtz-3/
END:VEVENT
END:VCALENDAR