BEGIN:VCALENDAR
VERSION:2.0
PRODID:-//Eco-Manifestations Alsace - ECPv6.15.11//NONSGML v1.0//EN
CALSCALE:GREGORIAN
METHOD:PUBLISH
X-ORIGINAL-URL:https://ecomanifestations-alsace.fr
X-WR-CALDESC:Évènements pour Eco-Manifestations Alsace
REFRESH-INTERVAL;VALUE=DURATION:PT1H
X-Robots-Tag:noindex
X-PUBLISHED-TTL:PT1H
BEGIN:VTIMEZONE
TZID:Europe/Paris
BEGIN:DAYLIGHT
TZOFFSETFROM:+0100
TZOFFSETTO:+0200
TZNAME:CEST
DTSTART:20230326T010000
END:DAYLIGHT
BEGIN:STANDARD
TZOFFSETFROM:+0200
TZOFFSETTO:+0100
TZNAME:CET
DTSTART:20231029T010000
END:STANDARD
BEGIN:DAYLIGHT
TZOFFSETFROM:+0100
TZOFFSETTO:+0200
TZNAME:CEST
DTSTART:20240331T010000
END:DAYLIGHT
BEGIN:STANDARD
TZOFFSETFROM:+0200
TZOFFSETTO:+0100
TZNAME:CET
DTSTART:20241027T010000
END:STANDARD
BEGIN:DAYLIGHT
TZOFFSETFROM:+0100
TZOFFSETTO:+0200
TZNAME:CEST
DTSTART:20250330T010000
END:DAYLIGHT
BEGIN:STANDARD
TZOFFSETFROM:+0200
TZOFFSETTO:+0100
TZNAME:CET
DTSTART:20251026T010000
END:STANDARD
END:VTIMEZONE
BEGIN:VEVENT
DTSTART;TZID=Europe/Paris:20240111T183000
DTEND;TZID=Europe/Paris:20240111T200000
DTSTAMP:20260424T012921
CREATED:20231123T152936Z
LAST-MODIFIED:20231213T081717Z
UID:12054-1704997800-1705003200@ecomanifestations-alsace.fr
SUMMARY:Webinaire 2/3 : Alimentation
DESCRIPTION:La mobilité et l’alimentation sont les postes les plus émetteurs de gaz à effet de serre de la plupart des événements.\nPourquoi ces émissions ? Comment les réduire ? Quels sont les freins et quels sont les leviers ? \nPour répondre à ces questions\, Eco-Manifestations Alsace vous propose un temps d’échange.
URL:https://ecomanifestations-alsace.fr/event/webinaire-1-3-alimentation/
END:VEVENT
END:VCALENDAR