BEGIN:VCALENDAR
VERSION:2.0
PRODID:-//Eco-Manifestations Alsace - ECPv6.15.11//NONSGML v1.0//EN
CALSCALE:GREGORIAN
METHOD:PUBLISH
X-ORIGINAL-URL:https://ecomanifestations-alsace.fr
X-WR-CALDESC:Évènements pour Eco-Manifestations Alsace
REFRESH-INTERVAL;VALUE=DURATION:PT1H
X-Robots-Tag:noindex
X-PUBLISHED-TTL:PT1H
BEGIN:VTIMEZONE
TZID:Europe/Paris
BEGIN:DAYLIGHT
TZOFFSETFROM:+0100
TZOFFSETTO:+0200
TZNAME:CEST
DTSTART:20230326T010000
END:DAYLIGHT
BEGIN:STANDARD
TZOFFSETFROM:+0200
TZOFFSETTO:+0100
TZNAME:CET
DTSTART:20231029T010000
END:STANDARD
BEGIN:DAYLIGHT
TZOFFSETFROM:+0100
TZOFFSETTO:+0200
TZNAME:CEST
DTSTART:20240331T010000
END:DAYLIGHT
BEGIN:STANDARD
TZOFFSETFROM:+0200
TZOFFSETTO:+0100
TZNAME:CET
DTSTART:20241027T010000
END:STANDARD
BEGIN:DAYLIGHT
TZOFFSETFROM:+0100
TZOFFSETTO:+0200
TZNAME:CEST
DTSTART:20250330T010000
END:DAYLIGHT
BEGIN:STANDARD
TZOFFSETFROM:+0200
TZOFFSETTO:+0100
TZNAME:CET
DTSTART:20251026T010000
END:STANDARD
END:VTIMEZONE
BEGIN:VEVENT
DTSTART;VALUE=DATE:20240504
DTEND;VALUE=DATE:20240513
DTSTAMP:20260423T181452
CREATED:20240502T135330Z
LAST-MODIFIED:20240502T135636Z
UID:12139-1714780800-1715558399@ecomanifestations-alsace.fr
SUMMARY:Festival l'Humour des Notes - Haguenau
DESCRIPTION:Pour cette nouvelle édition\, le Festival Humour des Notes a obtenu le niveau 3 de notre charte d’engagement ! Un plan d’action consolidé qui a permis à l’événement de devenir une « manifestation écoresponsable et exemplaire ». \nChaque année\, durant la semaine de l’Ascension et le week-end qui précède\, L’Humour des Notes invite le public à se laisser surprendre et émouvoir dans les rues de Haguenau et au Théâtre\, avec des propositions mêlant humour\, musique et originalité. \nL’événement – porté par l’équipe du Relais culturel Théâtre de Haguenau – rassemble habitants\, associations\, services culturels et plus d’une centaine d’artistes pour un temps festif\, convivial et créatif en plein cœur du centre-ville. \nDu Village des Enfants dédié aux familles\, aux spectacles tout public et en tout genre qui envahissent le centre-ville et les communes de la Communauté d’Agglomération de Haguenau\, le festival s’adresse à tous ! \nRetrouvez tout le programme de cette 32ème édition via ce lien : https://humour-des-notes.com/sites/haguenau/files/2023-04/Programme%20HDN%202023_compressed.pdf
URL:https://ecomanifestations-alsace.fr/event/festival-humour-des-notes-haguenau/
END:VEVENT
END:VCALENDAR