BEGIN:VCALENDAR
VERSION:2.0
PRODID:-//Eco-Manifestations Alsace - ECPv6.15.11//NONSGML v1.0//EN
CALSCALE:GREGORIAN
METHOD:PUBLISH
X-ORIGINAL-URL:https://ecomanifestations-alsace.fr
X-WR-CALDESC:Évènements pour Eco-Manifestations Alsace
REFRESH-INTERVAL;VALUE=DURATION:PT1H
X-Robots-Tag:noindex
X-PUBLISHED-TTL:PT1H
BEGIN:VTIMEZONE
TZID:Europe/Paris
BEGIN:DAYLIGHT
TZOFFSETFROM:+0100
TZOFFSETTO:+0200
TZNAME:CEST
DTSTART:20230326T010000
END:DAYLIGHT
BEGIN:STANDARD
TZOFFSETFROM:+0200
TZOFFSETTO:+0100
TZNAME:CET
DTSTART:20231029T010000
END:STANDARD
BEGIN:DAYLIGHT
TZOFFSETFROM:+0100
TZOFFSETTO:+0200
TZNAME:CEST
DTSTART:20240331T010000
END:DAYLIGHT
BEGIN:STANDARD
TZOFFSETFROM:+0200
TZOFFSETTO:+0100
TZNAME:CET
DTSTART:20241027T010000
END:STANDARD
BEGIN:DAYLIGHT
TZOFFSETFROM:+0100
TZOFFSETTO:+0200
TZNAME:CEST
DTSTART:20250330T010000
END:DAYLIGHT
BEGIN:STANDARD
TZOFFSETFROM:+0200
TZOFFSETTO:+0100
TZNAME:CET
DTSTART:20251026T010000
END:STANDARD
END:VTIMEZONE
BEGIN:VEVENT
DTSTART;VALUE=DATE:20240510
DTEND;VALUE=DATE:20240527
DTSTAMP:20260423T144108
CREATED:20240502T145235Z
LAST-MODIFIED:20240502T145235Z
UID:12151-1715299200-1716767999@ecomanifestations-alsace.fr
SUMMARY:Passages Transfestival - Metz
DESCRIPTION:Pour sa nouvelle édition\, le Passages Transfestival s’est labellisé niveau 3 de notre charte d’engagement ! Un beau progrès qui confirme son engagement et entre dans la liste des « événements exemplaires » sur le territoire. \nDu 10 au 26 mai 2024\, Passages Transfestival prend le large pour explorer l’insularité. Presqu’îles\, îlots\, îles\, archipels et petits pays\, les artistes croisent leurs origines et leurs pratiques du Cap-Vert à Mayotte\, de Tahiti à Cuba en passant par le Japon et les Antilles. Ils naviguent aussi du Brésil au Rwanda en traversant la Suisse\, cette île nichée au cœur de l’Europe\, qui sera l’invitée spéciale du Transfestival avec la collaboration exceptionnelle du Centre culturel suisse. On tour à Metz. \nN’attendez plus pour prendre vos billets ! https://passages-transfestival.mapado.com/ \n 
URL:https://ecomanifestations-alsace.fr/event/passages-transfestival-metz-2/
END:VEVENT
BEGIN:VEVENT
DTSTART;VALUE=DATE:20240523
DTEND;VALUE=DATE:20240527
DTSTAMP:20260423T144108
CREATED:20240503T092657Z
LAST-MODIFIED:20240503T092657Z
UID:12165-1716422400-1716767999@ecomanifestations-alsace.fr
SUMMARY:Pelpass Festival - Strasbourg
DESCRIPTION:Cette année encore\, le Pelpass Festival revient au Jardin des Deux Rives à Strasbourg du 23 au 26 mai et pour cette nouvelle édition\, le Festival a obtenu le niveau 2 de notre label ! \nToute la programmation sur : https://pelpass.net/pelpass-festival-2024/ \nN’attendez plus pour prendre vos billets ! https://shotgun.live/fr/venues/pelpass
URL:https://ecomanifestations-alsace.fr/event/pelpass-festival-strasbourg-2/
END:VEVENT
BEGIN:VEVENT
DTSTART;VALUE=DATE:20240525
DTEND;VALUE=DATE:20240527
DTSTAMP:20260423T144108
CREATED:20240503T093259Z
LAST-MODIFIED:20250304T140705Z
UID:12167-1716595200-1716767999@ecomanifestations-alsace.fr
SUMMARY:24h de Baden-Powell - Mulhouse
DESCRIPTION:Les 24h de Baden Powell\, le 25 et 26 mai\, au circuit Peugeot de Mulhouse.\nEvénement annuel du scoutisme français ! 🚴‍♂️🏅 \nEvénement accompagné pour la première fois et labellisé niveau 2 ! Félicitations aux organisateurs.
URL:https://ecomanifestations-alsace.fr/event/24h-de-baden-powell-mulhouse/
END:VEVENT
END:VCALENDAR