BEGIN:VCALENDAR
VERSION:2.0
PRODID:-//Eco-Manifestations Alsace - ECPv6.15.11//NONSGML v1.0//EN
CALSCALE:GREGORIAN
METHOD:PUBLISH
X-WR-CALNAME:Eco-Manifestations Alsace
X-ORIGINAL-URL:https://ecomanifestations-alsace.fr
X-WR-CALDESC:Évènements pour Eco-Manifestations Alsace
REFRESH-INTERVAL;VALUE=DURATION:PT1H
X-Robots-Tag:noindex
X-PUBLISHED-TTL:PT1H
BEGIN:VTIMEZONE
TZID:Europe/Paris
BEGIN:DAYLIGHT
TZOFFSETFROM:+0100
TZOFFSETTO:+0200
TZNAME:CEST
DTSTART:20230326T010000
END:DAYLIGHT
BEGIN:STANDARD
TZOFFSETFROM:+0200
TZOFFSETTO:+0100
TZNAME:CET
DTSTART:20231029T010000
END:STANDARD
BEGIN:DAYLIGHT
TZOFFSETFROM:+0100
TZOFFSETTO:+0200
TZNAME:CEST
DTSTART:20240331T010000
END:DAYLIGHT
BEGIN:STANDARD
TZOFFSETFROM:+0200
TZOFFSETTO:+0100
TZNAME:CET
DTSTART:20241027T010000
END:STANDARD
BEGIN:DAYLIGHT
TZOFFSETFROM:+0100
TZOFFSETTO:+0200
TZNAME:CEST
DTSTART:20250330T010000
END:DAYLIGHT
BEGIN:STANDARD
TZOFFSETFROM:+0200
TZOFFSETTO:+0100
TZNAME:CET
DTSTART:20251026T010000
END:STANDARD
END:VTIMEZONE
BEGIN:VEVENT
DTSTART;VALUE=DATE:20240623
DTEND;VALUE=DATE:20240624
DTSTAMP:20260423T125358
CREATED:20240531T092321Z
LAST-MODIFIED:20240531T092321Z
UID:12196-1719100800-1719187199@ecomanifestations-alsace.fr
SUMMARY:Marathon du Vignoble - Molsheim
DESCRIPTION:Pour sa 18 ème édition\, le marathon du vignoble d’Alsace vous donne rendez-vous le 22 et 23 juin pour un événement toujours plus festif ! \nA travers un parcours atypique entre vignes et villages\, découvrez 12 relais gastro-viniques riches en spécialités alsaciennes ainsi que de nombreuses animations. \nPour vous inscrire : https://forms.registration4all.com/EventRegistration/Register_Sport_Event.aspx?EventID=202049 \nÉvénement labellisé niveau 3 cette année ! Félicitations aux organisateurs.
URL:https://ecomanifestations-alsace.fr/event/marathon-du-vignoble-molsheim/
END:VEVENT
END:VCALENDAR