BEGIN:VCALENDAR
VERSION:2.0
PRODID:-//Eco-Manifestations Alsace - ECPv6.15.11//NONSGML v1.0//EN
CALSCALE:GREGORIAN
METHOD:PUBLISH
X-WR-CALNAME:Eco-Manifestations Alsace
X-ORIGINAL-URL:https://ecomanifestations-alsace.fr
X-WR-CALDESC:Évènements pour Eco-Manifestations Alsace
REFRESH-INTERVAL;VALUE=DURATION:PT1H
X-Robots-Tag:noindex
X-PUBLISHED-TTL:PT1H
BEGIN:VTIMEZONE
TZID:Europe/Paris
BEGIN:DAYLIGHT
TZOFFSETFROM:+0100
TZOFFSETTO:+0200
TZNAME:CEST
DTSTART:20230326T010000
END:DAYLIGHT
BEGIN:STANDARD
TZOFFSETFROM:+0200
TZOFFSETTO:+0100
TZNAME:CET
DTSTART:20231029T010000
END:STANDARD
BEGIN:DAYLIGHT
TZOFFSETFROM:+0100
TZOFFSETTO:+0200
TZNAME:CEST
DTSTART:20240331T010000
END:DAYLIGHT
BEGIN:STANDARD
TZOFFSETFROM:+0200
TZOFFSETTO:+0100
TZNAME:CET
DTSTART:20241027T010000
END:STANDARD
BEGIN:DAYLIGHT
TZOFFSETFROM:+0100
TZOFFSETTO:+0200
TZNAME:CEST
DTSTART:20250330T010000
END:DAYLIGHT
BEGIN:STANDARD
TZOFFSETFROM:+0200
TZOFFSETTO:+0100
TZNAME:CET
DTSTART:20251026T010000
END:STANDARD
END:VTIMEZONE
BEGIN:VEVENT
DTSTART;VALUE=DATE:20240701
DTEND;VALUE=DATE:20240704
DTSTAMP:20260423T104415
CREATED:20240628T121012Z
LAST-MODIFIED:20240628T121012Z
UID:12223-1719792000-1720051199@ecomanifestations-alsace.fr
SUMMARY:Comité national de Schmidt Groupe (événement privé)
DESCRIPTION:Pour son Comité National\, le Schmidt Groupe labellisa son événement et obtenu le niveau 1 de notre label \n(Événement privé).
URL:https://ecomanifestations-alsace.fr/event/comite-national-de-schmidt-groupe-evenement-prive/
END:VEVENT
BEGIN:VEVENT
DTSTART;VALUE=DATE:20240702
DTEND;VALUE=DATE:20240705
DTSTAMP:20260423T104415
CREATED:20240628T121206Z
LAST-MODIFIED:20240628T121206Z
UID:12225-1719878400-1720137599@ecomanifestations-alsace.fr
SUMMARY:Forum Alentours - événement professionnel
DESCRIPTION:Le Forum Alentours est une manifestation professionnelle dédiée à la coproduction dans le secteur du cinéma\, de l’audiovisuel\, et des nouveaux médias. Il réunit chaque année près de 300 participants\, producteur.rices\, auteur.rices\, réalisateur.rices\, technicien.nes\, diffuseurs\, distributeur.rices\, vendeur.ses et fonds de soutien en provenance d’Allemagne\, de France\, de Belgique\, du Luxembourg et de la Suisse. \nSon objectif est de favoriser la coopération transfrontalière\, stimuler la création de projets communs\, et renforcer les liens entre ces pays. Au programme de ces journées: rendez-vous one to one\, sessions de pitchs\, études de cas\, ateliers\, tables-rondes\, remise du Prix CinEuro et soirées de networking. \nL’édition 2024 du Forum Alentours se tiendra du 2 au 4 juillet à Strasbourg.
URL:https://ecomanifestations-alsace.fr/event/forum-alentours-evenement-professionnel/
END:VEVENT
BEGIN:VEVENT
DTSTART;VALUE=DATE:20240703
DTEND;VALUE=DATE:20240715
DTSTAMP:20260423T104415
CREATED:20240531T095908Z
LAST-MODIFIED:20240531T095908Z
UID:12200-1719964800-1721001599@ecomanifestations-alsace.fr
SUMMARY:Hop Hop Hop - Metz
DESCRIPTION:Le Festival International du spectacle à ciel ouvert\, Hop Hop Hop\, est de retour du 3 au 11 juillet en itinérance dans l’Eurométropole de Metz et du 12 au 14 juillet à Metz.\nPour sa 15e édition\, il y aura : 47 spectacles différents\, 45 compagnies accueillies\, 106 représentations. \nRendez-vous à : \n\nVillage (Conservatoire à Rayonnement Régional Gabriel Pierné – Eurométropole de Metz)\nAmphithéâtre du jardin des Tanneurs\nQuartier Coislin\nColline Sainte croix\nEglise Notre Dame\, Hôtel de Gournay\, place Saint Louis\, Ecole primaire Gaston Hoffmann\nLes Frigos\n\nEvénement labellisé niveau 1.
URL:https://ecomanifestations-alsace.fr/event/hop-hop-hop-metz-2/
END:VEVENT
END:VCALENDAR