BEGIN:VCALENDAR
VERSION:2.0
PRODID:-//Eco-Manifestations Alsace - ECPv6.15.11//NONSGML v1.0//EN
CALSCALE:GREGORIAN
METHOD:PUBLISH
X-ORIGINAL-URL:https://ecomanifestations-alsace.fr
X-WR-CALDESC:Évènements pour Eco-Manifestations Alsace
REFRESH-INTERVAL;VALUE=DURATION:PT1H
X-Robots-Tag:noindex
X-PUBLISHED-TTL:PT1H
BEGIN:VTIMEZONE
TZID:Europe/Paris
BEGIN:DAYLIGHT
TZOFFSETFROM:+0100
TZOFFSETTO:+0200
TZNAME:CEST
DTSTART:20230326T010000
END:DAYLIGHT
BEGIN:STANDARD
TZOFFSETFROM:+0200
TZOFFSETTO:+0100
TZNAME:CET
DTSTART:20231029T010000
END:STANDARD
BEGIN:DAYLIGHT
TZOFFSETFROM:+0100
TZOFFSETTO:+0200
TZNAME:CEST
DTSTART:20240331T010000
END:DAYLIGHT
BEGIN:STANDARD
TZOFFSETFROM:+0200
TZOFFSETTO:+0100
TZNAME:CET
DTSTART:20241027T010000
END:STANDARD
BEGIN:DAYLIGHT
TZOFFSETFROM:+0100
TZOFFSETTO:+0200
TZNAME:CEST
DTSTART:20250330T010000
END:DAYLIGHT
BEGIN:STANDARD
TZOFFSETFROM:+0200
TZOFFSETTO:+0100
TZNAME:CET
DTSTART:20251026T010000
END:STANDARD
END:VTIMEZONE
BEGIN:VEVENT
DTSTART;VALUE=DATE:20240920
DTEND;VALUE=DATE:20240930
DTSTAMP:20260422T184032
CREATED:20240830T151851Z
LAST-MODIFIED:20240830T151851Z
UID:12273-1726790400-1727654399@ecomanifestations-alsace.fr
SUMMARY:Festival Européen du Film Fantastique - Strasbourg
DESCRIPTION:Le festival européen du film fantastique de Strasbourg est de retour cette année ! \nLa programmation éclectique du Festival de Strasbourg\, mêlant cinéma indépendant\, cinéma de studios\, cinéma d’auteur et cinéma de niche\, à laquelle s’ajoutent des manifestations parallèles très diverses\, attire chaque année un public nombreux et varié. \nVenez découvrir tout ceci sur leur site internet.
URL:https://ecomanifestations-alsace.fr/event/festival-europeen-du-film-fantastique-strasbourg/
END:VEVENT
BEGIN:VEVENT
DTSTART;VALUE=DATE:20240924
DTEND;VALUE=DATE:20240925
DTSTAMP:20260422T184032
CREATED:20240830T153118Z
LAST-MODIFIED:20240830T153118Z
UID:12279-1727136000-1727222399@ecomanifestations-alsace.fr
SUMMARY:Les Rencontres Livr'Est - Strasbourg
DESCRIPTION:Cette 6e édition des Rencontres professionnelles du livre\, rebaptisées Rencontres Livr’Est\, se tiendra le 24 septembre à L’Aubette 1928\, 31\, place Kléber\, à Strasbourg. \nCes rencontres sont l’occasion pour l’ensemble des acteurs du livre en Grand Est de réfléchir collectivement aux actualités et évolutions de leurs professions. Elles représentent aussi un lieu d’échange de bonnes pratiques et de partage entre professionnels. \nL’édition de cette année sera notamment dédiée à l’accès à la culture et à la médiation littéraire dans le domaine du livre.
URL:https://ecomanifestations-alsace.fr/event/les-rencontres-livrest-strasbourg/
END:VEVENT
END:VCALENDAR