BEGIN:VCALENDAR
VERSION:2.0
PRODID:-//Eco-Manifestations Alsace - ECPv6.15.11//NONSGML v1.0//EN
CALSCALE:GREGORIAN
METHOD:PUBLISH
X-WR-CALNAME:Eco-Manifestations Alsace
X-ORIGINAL-URL:https://ecomanifestations-alsace.fr
X-WR-CALDESC:Évènements pour Eco-Manifestations Alsace
REFRESH-INTERVAL;VALUE=DURATION:PT1H
X-Robots-Tag:noindex
X-PUBLISHED-TTL:PT1H
BEGIN:VTIMEZONE
TZID:Europe/Paris
BEGIN:DAYLIGHT
TZOFFSETFROM:+0100
TZOFFSETTO:+0200
TZNAME:CEST
DTSTART:20230326T010000
END:DAYLIGHT
BEGIN:STANDARD
TZOFFSETFROM:+0200
TZOFFSETTO:+0100
TZNAME:CET
DTSTART:20231029T010000
END:STANDARD
BEGIN:DAYLIGHT
TZOFFSETFROM:+0100
TZOFFSETTO:+0200
TZNAME:CEST
DTSTART:20240331T010000
END:DAYLIGHT
BEGIN:STANDARD
TZOFFSETFROM:+0200
TZOFFSETTO:+0100
TZNAME:CET
DTSTART:20241027T010000
END:STANDARD
BEGIN:DAYLIGHT
TZOFFSETFROM:+0100
TZOFFSETTO:+0200
TZNAME:CEST
DTSTART:20250330T010000
END:DAYLIGHT
BEGIN:STANDARD
TZOFFSETFROM:+0200
TZOFFSETTO:+0100
TZNAME:CET
DTSTART:20251026T010000
END:STANDARD
END:VTIMEZONE
BEGIN:VEVENT
DTSTART;VALUE=DATE:20241027
DTEND;VALUE=DATE:20241028
DTSTAMP:20260422T203101
CREATED:20241002T100213Z
LAST-MODIFIED:20241002T100213Z
UID:12306-1729987200-1730073599@ecomanifestations-alsace.fr
SUMMARY:Salon Emmaüs vente solidaire de livre et d'objets de seconde main - Strasbourg
DESCRIPTION:QUAND ? Le 27/10/2024 de 9h à 18h\nOU? Au Parc des Expositions de Strasbourg \nPour cet événement\, une quarantaine de groupes Emmaüs du Grand Est\, de France et d’Europe seront réunis pour :\n– une grande vente d’objets de seconde main (sur environ 4000m2)\,\n– un salon du livre d’occasion solidaire (sur 2000-2500 m2) avec des stands de vente de livres apportés par les groupes Emmaüs et des associations locales autour du livre\,\n– un espace d’exposition de nos projets\,\n– un espace convivial\, de débat et de conférence avec des auteurs ·rices engagés ·es et des acteurs ·trices associatifs ·ves\,\n– Des animations artistiques et musicales\, en déambulation et sur scène. \nLa recette de cette vente sera attribuée à Emmaüs International. \nLe lien vers l’événement Facebook est juste ici. \n \nEvénement accompagné par notre équipe pour la première fois cette année !
URL:https://ecomanifestations-alsace.fr/event/salon-emmaus-vente-solidaire-de-livre-et-dobjets-de-seconde-main-strasbourg/
END:VEVENT
END:VCALENDAR