BEGIN:VCALENDAR
VERSION:2.0
PRODID:-//Eco-Manifestations Alsace - ECPv6.15.11//NONSGML v1.0//EN
CALSCALE:GREGORIAN
METHOD:PUBLISH
X-WR-CALNAME:Eco-Manifestations Alsace
X-ORIGINAL-URL:https://ecomanifestations-alsace.fr
X-WR-CALDESC:Évènements pour Eco-Manifestations Alsace
REFRESH-INTERVAL;VALUE=DURATION:PT1H
X-Robots-Tag:noindex
X-PUBLISHED-TTL:PT1H
BEGIN:VTIMEZONE
TZID:Europe/Paris
BEGIN:DAYLIGHT
TZOFFSETFROM:+0100
TZOFFSETTO:+0200
TZNAME:CEST
DTSTART:20230326T010000
END:DAYLIGHT
BEGIN:STANDARD
TZOFFSETFROM:+0200
TZOFFSETTO:+0100
TZNAME:CET
DTSTART:20231029T010000
END:STANDARD
BEGIN:DAYLIGHT
TZOFFSETFROM:+0100
TZOFFSETTO:+0200
TZNAME:CEST
DTSTART:20240331T010000
END:DAYLIGHT
BEGIN:STANDARD
TZOFFSETFROM:+0200
TZOFFSETTO:+0100
TZNAME:CET
DTSTART:20241027T010000
END:STANDARD
BEGIN:DAYLIGHT
TZOFFSETFROM:+0100
TZOFFSETTO:+0200
TZNAME:CEST
DTSTART:20250330T010000
END:DAYLIGHT
BEGIN:STANDARD
TZOFFSETFROM:+0200
TZOFFSETTO:+0100
TZNAME:CET
DTSTART:20251026T010000
END:STANDARD
END:VTIMEZONE
BEGIN:VEVENT
DTSTART;VALUE=DATE:20241108
DTEND;VALUE=DATE:20241112
DTSTAMP:20260422T165153
CREATED:20241105T095950Z
LAST-MODIFIED:20241105T095950Z
UID:12328-1731024000-1731369599@ecomanifestations-alsace.fr
SUMMARY:Salon Résonance(s) - Strasbourg
DESCRIPTION:Le salon européen des métiers d’art\, revient cette année pour leur 12ème édition\, du 8 au 11 novembre 2024 au Parc Expo de Strasbourg. \nRetrouvez tous les exposants sur : https://www.salon-resonances.com/exposant/ \nEvénement labellisé niveau 2 cette année\, félicitations aux organisateurs ! \nAFF RESO24 A4 sans logos
URL:https://ecomanifestations-alsace.fr/event/salon-resonances-strasbourg-2/
END:VEVENT
BEGIN:VEVENT
DTSTART;VALUE=DATE:20241108
DTEND;VALUE=DATE:20241111
DTSTAMP:20260422T165153
CREATED:20241105T100636Z
LAST-MODIFIED:20241105T100636Z
UID:12331-1731024000-1731283199@ecomanifestations-alsace.fr
SUMMARY:Schilick On Carnet - Schiltigheim
DESCRIPTION:Le salon de l’illustration et du livre jeunesse revient cette année pour sa 12ème édition du 8 au 10 novembre 2024. \nUn week-end festif pour se remplir la tête d’une tonne d’histoires\, les yeux de belles images et le cœur d’échanges et de partage ! Grâce aux illustrateurices\, aux maisons d’édition indépendantes et aux intervenants engagés qui font le sel de la manifestation. \nLe rendez-vous incontournable des petits et grands lecteurs\, de 2 à 102 ans ! \nCette année\, l’événement a poursuivi son engagement de développement durable et a obtenu le niveau 2 de notre label.
URL:https://ecomanifestations-alsace.fr/event/schilick-on-carnet-schiltigheim-3/
END:VEVENT
END:VCALENDAR