BEGIN:VCALENDAR
VERSION:2.0
PRODID:-//Eco-Manifestations Alsace - ECPv6.15.11//NONSGML v1.0//EN
CALSCALE:GREGORIAN
METHOD:PUBLISH
X-ORIGINAL-URL:https://ecomanifestations-alsace.fr
X-WR-CALDESC:Évènements pour Eco-Manifestations Alsace
REFRESH-INTERVAL;VALUE=DURATION:PT1H
X-Robots-Tag:noindex
X-PUBLISHED-TTL:PT1H
BEGIN:VTIMEZONE
TZID:Europe/Paris
BEGIN:DAYLIGHT
TZOFFSETFROM:+0100
TZOFFSETTO:+0200
TZNAME:CEST
DTSTART:20230326T010000
END:DAYLIGHT
BEGIN:STANDARD
TZOFFSETFROM:+0200
TZOFFSETTO:+0100
TZNAME:CET
DTSTART:20231029T010000
END:STANDARD
BEGIN:DAYLIGHT
TZOFFSETFROM:+0100
TZOFFSETTO:+0200
TZNAME:CEST
DTSTART:20240331T010000
END:DAYLIGHT
BEGIN:STANDARD
TZOFFSETFROM:+0200
TZOFFSETTO:+0100
TZNAME:CET
DTSTART:20241027T010000
END:STANDARD
BEGIN:DAYLIGHT
TZOFFSETFROM:+0100
TZOFFSETTO:+0200
TZNAME:CEST
DTSTART:20250330T010000
END:DAYLIGHT
BEGIN:STANDARD
TZOFFSETFROM:+0200
TZOFFSETTO:+0100
TZNAME:CET
DTSTART:20251026T010000
END:STANDARD
END:VTIMEZONE
BEGIN:VEVENT
DTSTART;VALUE=DATE:20241122
DTEND;VALUE=DATE:20241228
DTSTAMP:20260422T125905
CREATED:20241105T101645Z
LAST-MODIFIED:20241105T101645Z
UID:12336-1732233600-1735343999@ecomanifestations-alsace.fr
SUMMARY:Marché de Noël - Mulhouse
DESCRIPTION:Pendant 5 semaines\, de fin novembre à fin décembre\, le Marché de Noël de Mulhouse se niche en plein coeur du centre historique de la ville\, sur la place de la Réunion\, autour du Temple Saint-Etienne et place des Cordiers. \nSon étoffe créée spécifiquement pour l’occasion le rend insolite\, différent des autres marchés de Noël et rappelle le passé textile de la ville. \n\n\n\n\nCette année encore\, le marché de Noël de Mulhouse a mis en place un certains nombre d’actions éco-responsables et à su conserver le niveau 2 de notre label !
URL:https://ecomanifestations-alsace.fr/event/marche-de-noel-mulhouse-4/
END:VEVENT
BEGIN:VEVENT
DTSTART;VALUE=DATE:20241127
DTEND;VALUE=DATE:20241225
DTSTAMP:20260422T125905
CREATED:20241105T102104Z
LAST-MODIFIED:20241105T102104Z
UID:12338-1732665600-1735084799@ecomanifestations-alsace.fr
SUMMARY:Marché off - Strasbourg
DESCRIPTION:Comme chaque année\, venez à la rencontre d’une trentaine d’acteurs locaux de l’Économie Sociale et Solidaire (ESS)\, présents à la Place Grimmeissen à Strasbourg pour réinventer Noël.  \nLe Marché OFF est un lieu où l’on échange\, recycle\, chine et invente ce que Noël offre de différent\, de solidaire\, d’original et d’authentique en ayant recours à des modes de consommation qui font sens. \n\nUne manifestation labellisée niveau 3 pour la première fois cette année !
URL:https://ecomanifestations-alsace.fr/event/marche-off-strasbourg-3/
END:VEVENT
BEGIN:VEVENT
DTSTART;VALUE=DATE:20241129
DTEND;VALUE=DATE:20241223
DTSTAMP:20260422T125905
CREATED:20241105T103001Z
LAST-MODIFIED:20241105T103001Z
UID:12342-1732838400-1734911999@ecomanifestations-alsace.fr
SUMMARY:Marché de Noël - Wissembourg
DESCRIPTION:Le Marché de Noël de Wissembourg ouvre ses portes du 29 novembre au 22 décembre 2024. Tous les week-ends\, retrouvez l’atmosphère féérique des fêtes avec des artisans locaux\, des spécialités culinaires parfumées aux épices\, et de nombreuses animations captivantes. Que vous cherchiez des idées de cadeaux de Noël à Wissembourg ou simplement un moment d’évasion\, laissez-vous guider par l’esprit chaleureux et traditionnel de Noël en Alsace. \nPlus d’infos sur https://www.jds.fr/manifestations/marche-de-noel/marche-noel-wissembourg-64235_A
URL:https://ecomanifestations-alsace.fr/event/marche-de-noel-wissembourg-3/
END:VEVENT
BEGIN:VEVENT
DTSTART;VALUE=DATE:20241130
DTEND;VALUE=DATE:20241230
DTSTAMP:20260422T125905
CREATED:20241203T103352Z
LAST-MODIFIED:20241203T103352Z
UID:12355-1732924800-1735516799@ecomanifestations-alsace.fr
SUMMARY:Fééries de Noël - Hombourg-Haut
DESCRIPTION:Les Fééries de Noël sont de retour à Hombourg-Haut pour leur 4ème édition\, un événement « Noëls de Moselle »\, avec son marché de Noël labellisé Qualité MOSL.  \nPatinoire de 200 m²\, concerts\, déambulations\, musique\, chants de Noël.  \nNouveauté 2024 : Le Chemin des Lanternes dans le parc du château d’Hausen\, parc classé aux Monuments Historiques. \nRetrouvez la magie de noël du 30 novembre au 29 décembre.
URL:https://ecomanifestations-alsace.fr/event/feeries-de-noel-hombourg-haut/
END:VEVENT
BEGIN:VEVENT
DTSTART;VALUE=DATE:20241201
DTEND;VALUE=DATE:20241225
DTSTAMP:20260422T125905
CREATED:20241203T104205Z
LAST-MODIFIED:20241203T104205Z
UID:12357-1733011200-1735084799@ecomanifestations-alsace.fr
SUMMARY:Festival les Fenêtres de l'Avent - Uffholtz
DESCRIPTION:Cette année encore\, le Festival les Fenêtres de l’Avent a été accompagné par notre association et a obtenu le label niveau 2 de notre charte d’engagement ! Félicitations à tous les bénévoles du Foyer Saint-Erasme. \nVenez découvrir de nombreux spectacles avec des comédiens\, des circassiens\, des bateleurs\, des chanteurs\, des musiciens\, des danseurs\, des marionnettistes\, tous les soirs à partir de 19h\, du 1er au 24 décembre. \nToute la programmation sur : https://24fenetres.fr/la-programmation/
URL:https://ecomanifestations-alsace.fr/event/festival-les-fenetres-de-lavent-uffholtz-4/
END:VEVENT
END:VCALENDAR