BEGIN:VCALENDAR
VERSION:2.0
PRODID:-//Eco-Manifestations Alsace - ECPv6.15.11//NONSGML v1.0//EN
CALSCALE:GREGORIAN
METHOD:PUBLISH
X-ORIGINAL-URL:https://ecomanifestations-alsace.fr
X-WR-CALDESC:Évènements pour Eco-Manifestations Alsace
REFRESH-INTERVAL;VALUE=DURATION:PT1H
X-Robots-Tag:noindex
X-PUBLISHED-TTL:PT1H
BEGIN:VTIMEZONE
TZID:Europe/Paris
BEGIN:DAYLIGHT
TZOFFSETFROM:+0100
TZOFFSETTO:+0200
TZNAME:CEST
DTSTART:20240331T010000
END:DAYLIGHT
BEGIN:STANDARD
TZOFFSETFROM:+0200
TZOFFSETTO:+0100
TZNAME:CET
DTSTART:20241027T010000
END:STANDARD
BEGIN:DAYLIGHT
TZOFFSETFROM:+0100
TZOFFSETTO:+0200
TZNAME:CEST
DTSTART:20250330T010000
END:DAYLIGHT
BEGIN:STANDARD
TZOFFSETFROM:+0200
TZOFFSETTO:+0100
TZNAME:CET
DTSTART:20251026T010000
END:STANDARD
BEGIN:DAYLIGHT
TZOFFSETFROM:+0100
TZOFFSETTO:+0200
TZNAME:CEST
DTSTART:20260329T010000
END:DAYLIGHT
BEGIN:STANDARD
TZOFFSETFROM:+0200
TZOFFSETTO:+0100
TZNAME:CET
DTSTART:20261025T010000
END:STANDARD
END:VTIMEZONE
BEGIN:VEVENT
DTSTART;VALUE=DATE:20250130
DTEND;VALUE=DATE:20250201
DTSTAMP:20260422T092151
CREATED:20250106T150039Z
LAST-MODIFIED:20250106T150039Z
UID:12368-1738195200-1738367999@ecomanifestations-alsace.fr
SUMMARY:Journées Universitaires - Strasbourg
DESCRIPTION:Comme chaque année\, retrouvez le salon dédié aux formations post-bac : les JU au parc des expositions à Strasbourg. \nRencontrez plus de 150 exposants liés à l’enseignement supérieur et découvrez diverses formations: licences\, bachelors universitaires de technologie (BUT)\, brevet de technicien supérieur (BTS)\, écoles d’ingénieur\, classes préparatoires… \nVous trouverez également de nombreuses pistes pour préparer votre future vie d’étudiant (logements\, bourses\, restauration\, activités sportives ou culturelles…) ou les possibilités d’études à l’étranger. \nEvénement labellisé niveau 1 de notre charte d’engagement des éco-manifestations pour la 3ème année consécutive.
URL:https://ecomanifestations-alsace.fr/event/journees-universitaires-strasbourg-2/
END:VEVENT
END:VCALENDAR