BEGIN:VCALENDAR
VERSION:2.0
PRODID:-//Eco-Manifestations Alsace - ECPv6.15.11//NONSGML v1.0//EN
CALSCALE:GREGORIAN
METHOD:PUBLISH
X-WR-CALNAME:Eco-Manifestations Alsace
X-ORIGINAL-URL:https://ecomanifestations-alsace.fr
X-WR-CALDESC:Évènements pour Eco-Manifestations Alsace
REFRESH-INTERVAL;VALUE=DURATION:PT1H
X-Robots-Tag:noindex
X-PUBLISHED-TTL:PT1H
BEGIN:VTIMEZONE
TZID:Europe/Paris
BEGIN:DAYLIGHT
TZOFFSETFROM:+0100
TZOFFSETTO:+0200
TZNAME:CEST
DTSTART:20240331T010000
END:DAYLIGHT
BEGIN:STANDARD
TZOFFSETFROM:+0200
TZOFFSETTO:+0100
TZNAME:CET
DTSTART:20241027T010000
END:STANDARD
BEGIN:DAYLIGHT
TZOFFSETFROM:+0100
TZOFFSETTO:+0200
TZNAME:CEST
DTSTART:20250330T010000
END:DAYLIGHT
BEGIN:STANDARD
TZOFFSETFROM:+0200
TZOFFSETTO:+0100
TZNAME:CET
DTSTART:20251026T010000
END:STANDARD
BEGIN:DAYLIGHT
TZOFFSETFROM:+0100
TZOFFSETTO:+0200
TZNAME:CEST
DTSTART:20260329T010000
END:DAYLIGHT
BEGIN:STANDARD
TZOFFSETFROM:+0200
TZOFFSETTO:+0100
TZNAME:CET
DTSTART:20261025T010000
END:STANDARD
END:VTIMEZONE
BEGIN:VEVENT
DTSTART;VALUE=DATE:20250415
DTEND;VALUE=DATE:20250417
DTSTAMP:20260421T235220
CREATED:20250325T133031Z
LAST-MODIFIED:20250325T133159Z
UID:12421-1744675200-1744847999@ecomanifestations-alsace.fr
SUMMARY:Lire pour la planète - Strasbourg
DESCRIPTION:Les Rencontres Internationales de l’Écologie pour le livre « Lire pour la planète » clôtureront l’année de Strasbourg Capitale mondiale du livre UNESCO\, en explorant les liens entre écologie et chaîne du livre. \nOrganisées en partenariat avec l’Université de Strasbourg et la Région Grand Est\, ces journées gratuites et ouvertes au public\, offriront une programmation riche et variée\, élaborée par un comité d’experts\, du 15 au 17 avril 2025 à l’Université de Strasbourg. \nAu programme : un grand dialogue inaugural « Lire pour la planète » réunissant des personnalités et scientifiques de renom\, une dizaine de tables rondes\, la remise du Prix du roman d’écologie avec les six écrivains finalistes\, et une table ronde finale sur le rôle des artistes et écrivains dans la transition écologique. Les conférences seront retransmises en direct avec traduction simultanée pour une accessibilité internationale. Une fresque du livre\, inspirée de la fresque du climat\, sera également déployée en grand format le 1er avril à la Gare de Strasbourg pour sensibiliser le public à l’écologie du livre. \nPlus d’informations : https://lirenotremonde.strasbourg.eu/ \n  \n 
URL:https://ecomanifestations-alsace.fr/event/lire-pour-la-planete-strasbourg/
END:VEVENT
END:VCALENDAR