BEGIN:VCALENDAR
VERSION:2.0
PRODID:-//Eco-Manifestations Alsace - ECPv6.15.11//NONSGML v1.0//EN
CALSCALE:GREGORIAN
METHOD:PUBLISH
X-WR-CALNAME:Eco-Manifestations Alsace
X-ORIGINAL-URL:https://ecomanifestations-alsace.fr
X-WR-CALDESC:Évènements pour Eco-Manifestations Alsace
REFRESH-INTERVAL;VALUE=DURATION:PT1H
X-Robots-Tag:noindex
X-PUBLISHED-TTL:PT1H
BEGIN:VTIMEZONE
TZID:Europe/Paris
BEGIN:DAYLIGHT
TZOFFSETFROM:+0100
TZOFFSETTO:+0200
TZNAME:CEST
DTSTART:20240331T010000
END:DAYLIGHT
BEGIN:STANDARD
TZOFFSETFROM:+0200
TZOFFSETTO:+0100
TZNAME:CET
DTSTART:20241027T010000
END:STANDARD
BEGIN:DAYLIGHT
TZOFFSETFROM:+0100
TZOFFSETTO:+0200
TZNAME:CEST
DTSTART:20250330T010000
END:DAYLIGHT
BEGIN:STANDARD
TZOFFSETFROM:+0200
TZOFFSETTO:+0100
TZNAME:CET
DTSTART:20251026T010000
END:STANDARD
BEGIN:DAYLIGHT
TZOFFSETFROM:+0100
TZOFFSETTO:+0200
TZNAME:CEST
DTSTART:20260329T010000
END:DAYLIGHT
BEGIN:STANDARD
TZOFFSETFROM:+0200
TZOFFSETTO:+0100
TZNAME:CET
DTSTART:20261025T010000
END:STANDARD
END:VTIMEZONE
BEGIN:VEVENT
DTSTART;VALUE=DATE:20250424
DTEND;VALUE=DATE:20250504
DTSTAMP:20260421T235250
CREATED:20250325T143923Z
LAST-MODIFIED:20250325T143950Z
UID:12418-1745452800-1746316799@ecomanifestations-alsace.fr
SUMMARY:Le Printemps de la Librairie indépendante - Strasbourg et Eurométropole
DESCRIPTION:Le Printemps de la Librairie indépendante revient du 24 avril au 3 mai 2025. \nDurant cette période\, de nombreuses librairies de l’Eurométropole de Strasbourg ouvriront leurs portes pour vous proposer différents événements (table ronde\, dédicace\, etc.). \nCet événement est porté par la Confédération interprofessionnelle du livre (CIL) Grand Est qui renouvelle son engagement pour une manifestation plus écoresponsable. \n 
URL:https://ecomanifestations-alsace.fr/event/le-printemps-de-la-librairie-independante-strasbourg-et-eurometropole/
END:VEVENT
END:VCALENDAR