BEGIN:VCALENDAR
VERSION:2.0
PRODID:-//Eco-Manifestations Alsace - ECPv6.15.11//NONSGML v1.0//EN
CALSCALE:GREGORIAN
METHOD:PUBLISH
X-ORIGINAL-URL:https://ecomanifestations-alsace.fr
X-WR-CALDESC:Évènements pour Eco-Manifestations Alsace
REFRESH-INTERVAL;VALUE=DURATION:PT1H
X-Robots-Tag:noindex
X-PUBLISHED-TTL:PT1H
BEGIN:VTIMEZONE
TZID:Europe/Paris
BEGIN:DAYLIGHT
TZOFFSETFROM:+0100
TZOFFSETTO:+0200
TZNAME:CEST
DTSTART:20240331T010000
END:DAYLIGHT
BEGIN:STANDARD
TZOFFSETFROM:+0200
TZOFFSETTO:+0100
TZNAME:CET
DTSTART:20241027T010000
END:STANDARD
BEGIN:DAYLIGHT
TZOFFSETFROM:+0100
TZOFFSETTO:+0200
TZNAME:CEST
DTSTART:20250330T010000
END:DAYLIGHT
BEGIN:STANDARD
TZOFFSETFROM:+0200
TZOFFSETTO:+0100
TZNAME:CET
DTSTART:20251026T010000
END:STANDARD
BEGIN:DAYLIGHT
TZOFFSETFROM:+0100
TZOFFSETTO:+0200
TZNAME:CEST
DTSTART:20260329T010000
END:DAYLIGHT
BEGIN:STANDARD
TZOFFSETFROM:+0200
TZOFFSETTO:+0100
TZNAME:CET
DTSTART:20261025T010000
END:STANDARD
END:VTIMEZONE
BEGIN:VEVENT
DTSTART;VALUE=DATE:20250430
DTEND;VALUE=DATE:20250505
DTSTAMP:20260422T070421
CREATED:20250430T121603Z
LAST-MODIFIED:20250430T124714Z
UID:12451-1745971200-1746403199@ecomanifestations-alsace.fr
SUMMARY:Festival On The Mississippi - Strasbourg et Ostwald
DESCRIPTION:Pour la 3e année consécutive\, les organisateurs du festival On The Mississippi s’engagent aux côtés de Éco-manifestations Alsace pour réduire l’impact du festival sur l’environnement. Ils obtiennent le niveau 2 de la charte d’engagement.\n \nDécouvrez leurs actions écoresponsables sur : https://otmfestival.fr/le-festival/ecoresponsabilite \nLe festival réunit boogie-woogie\, ragtime\, stride\, blues et autres musiques aux racines afro-américaines avec 5 soirées de concerts et rendez-vous avec des artistes passionnées. L’occasion idéale de vivre la magie de la musique en direct ! \nRendez-vous du 30 avril au 4 mai 2025 sur différents sites à Ostwald et à Strasbourg.\nToute la programmation sur : https://otmfestival.fr/ \n 
URL:https://ecomanifestations-alsace.fr/event/festival-on-the-mississippi-strasbourg-ostwald/
END:VEVENT
BEGIN:VEVENT
DTSTART;VALUE=DATE:20250504
DTEND;VALUE=DATE:20250505
DTSTAMP:20260422T070421
CREATED:20250430T131537Z
LAST-MODIFIED:20250430T133631Z
UID:12459-1746316800-1746403199@ecomanifestations-alsace.fr
SUMMARY:Rouffachoise - Rouffach
DESCRIPTION:En partenariat avec le CCAR Athélisme\, l’association « Les Bénévoles pour la lutte contre le cancer de Rouffach et environs » vous propose un parcours de 5 km (course ou marche). \nRendez-vous sur la ligne de départ\, dimanche 4 mai 2025 à 10h à la salle polyvalente de Rouffach\, pour une manifestation conviviale\, sans esprit de compétition. Entre vignes et remparts\, le parcours vous réserve un ravitaillement à mi-parcours\, une animation musicale et petite restauration à l’arrivée. \nLa Rouffachoise est un événement engagé dont les bénéfices sont reversés à la lutte pour le cancer pédiatrique. \nIl obtient le niveau 1 de la Charte d’engagement des éco-manifestations. Cet accompagnement et la labellisation de l’événement ont été rendu possible grâce au soutien du PETR Rhin Vignoble Grand Ballon. \n\n\n\nPour participer\, inscrivez-vous jusqu’au 2 mai 2025 sur : https://www.sporkrono.fr/courses/3270558451/la-rouffachoise/
URL:https://ecomanifestations-alsace.fr/event/rouffachoise/
END:VEVENT
END:VCALENDAR