BEGIN:VCALENDAR
VERSION:2.0
PRODID:-//Eco-Manifestations Alsace - ECPv6.15.11//NONSGML v1.0//EN
CALSCALE:GREGORIAN
METHOD:PUBLISH
X-WR-CALNAME:Eco-Manifestations Alsace
X-ORIGINAL-URL:https://ecomanifestations-alsace.fr
X-WR-CALDESC:Évènements pour Eco-Manifestations Alsace
REFRESH-INTERVAL;VALUE=DURATION:PT1H
X-Robots-Tag:noindex
X-PUBLISHED-TTL:PT1H
BEGIN:VTIMEZONE
TZID:Europe/Paris
BEGIN:DAYLIGHT
TZOFFSETFROM:+0100
TZOFFSETTO:+0200
TZNAME:CEST
DTSTART:20240331T010000
END:DAYLIGHT
BEGIN:STANDARD
TZOFFSETFROM:+0200
TZOFFSETTO:+0100
TZNAME:CET
DTSTART:20241027T010000
END:STANDARD
BEGIN:DAYLIGHT
TZOFFSETFROM:+0100
TZOFFSETTO:+0200
TZNAME:CEST
DTSTART:20250330T010000
END:DAYLIGHT
BEGIN:STANDARD
TZOFFSETFROM:+0200
TZOFFSETTO:+0100
TZNAME:CET
DTSTART:20251026T010000
END:STANDARD
BEGIN:DAYLIGHT
TZOFFSETFROM:+0100
TZOFFSETTO:+0200
TZNAME:CEST
DTSTART:20260329T010000
END:DAYLIGHT
BEGIN:STANDARD
TZOFFSETFROM:+0200
TZOFFSETTO:+0100
TZNAME:CET
DTSTART:20261025T010000
END:STANDARD
END:VTIMEZONE
BEGIN:VEVENT
DTSTART;VALUE=DATE:20250517
DTEND;VALUE=DATE:20250525
DTSTAMP:20260422T032743
CREATED:20250430T114220Z
LAST-MODIFIED:20250430T114220Z
UID:12423-1747440000-1748131199@ecomanifestations-alsace.fr
SUMMARY:Internationaux de Strasbourg
DESCRIPTION:Du 17 au 24 mai 2025\, assistez au premier tournoi de tennis féminin : les Internationaux de tennis de Strasbourg.\nCe tournoi international WTA 500 se tient chaque année sur la terre battue des terrains strasbourgeois\, au pied du Parlement Européen. \nLes Internationaux de Strasbourg obtiennent le niveau 3 de la Charte d’engagement des éco-manifestations. \nDécouvrez l’ensemble de leur démarche : https://www.internationaux-strasbourg.fr/fr/nos-actions-eco-responsables
URL:https://ecomanifestations-alsace.fr/event/internationaux-de-strasbourg/
END:VEVENT
BEGIN:VEVENT
DTSTART;VALUE=DATE:20250519
DTEND;VALUE=DATE:20250526
DTSTAMP:20260422T032743
CREATED:20250430T114456Z
LAST-MODIFIED:20250430T114601Z
UID:12431-1747612800-1748217599@ecomanifestations-alsace.fr
SUMMARY:Kaleidoscoopie - Strasbourg
DESCRIPTION:Kaleidoscoopie\, c’est le micro-festival des transitions environnementale\, sociale et économique co-construit par les membres de Kaleidoscoop\, les forces vives du quartier COOP-Port du Rhin et L’Ososphère.  \nDu 19 au 25 mai 2025\, participez à une semaine d’expositions\, de conférences inspirantes\, d’ateliers créatifs\, de visites inédites\, de concerts et de performances artistiques pour explorer ensemble les voies d’un avenir plus durable et équitable \nPour la deuxième année consécutive\, l’événement obtient le label niveau 3.
URL:https://ecomanifestations-alsace.fr/event/kaleidoscoopie-strasbourg-2/
END:VEVENT
END:VCALENDAR