BEGIN:VCALENDAR
VERSION:2.0
PRODID:-//Eco-Manifestations Alsace - ECPv6.15.11//NONSGML v1.0//EN
CALSCALE:GREGORIAN
METHOD:PUBLISH
X-ORIGINAL-URL:https://ecomanifestations-alsace.fr
X-WR-CALDESC:Évènements pour Eco-Manifestations Alsace
REFRESH-INTERVAL;VALUE=DURATION:PT1H
X-Robots-Tag:noindex
X-PUBLISHED-TTL:PT1H
BEGIN:VTIMEZONE
TZID:Europe/Paris
BEGIN:DAYLIGHT
TZOFFSETFROM:+0100
TZOFFSETTO:+0200
TZNAME:CEST
DTSTART:20240331T010000
END:DAYLIGHT
BEGIN:STANDARD
TZOFFSETFROM:+0200
TZOFFSETTO:+0100
TZNAME:CET
DTSTART:20241027T010000
END:STANDARD
BEGIN:DAYLIGHT
TZOFFSETFROM:+0100
TZOFFSETTO:+0200
TZNAME:CEST
DTSTART:20250330T010000
END:DAYLIGHT
BEGIN:STANDARD
TZOFFSETFROM:+0200
TZOFFSETTO:+0100
TZNAME:CET
DTSTART:20251026T010000
END:STANDARD
BEGIN:DAYLIGHT
TZOFFSETFROM:+0100
TZOFFSETTO:+0200
TZNAME:CEST
DTSTART:20260329T010000
END:DAYLIGHT
BEGIN:STANDARD
TZOFFSETFROM:+0200
TZOFFSETTO:+0100
TZNAME:CET
DTSTART:20261025T010000
END:STANDARD
END:VTIMEZONE
BEGIN:VEVENT
DTSTART;VALUE=DATE:20250524
DTEND;VALUE=DATE:20250602
DTSTAMP:20260421T201632
CREATED:20250512T124900Z
LAST-MODIFIED:20250512T124900Z
UID:12427-1748044800-1748822399@ecomanifestations-alsace.fr
SUMMARY:Festival L'Humour des Notes - Haguenau
DESCRIPTION:Récompensé par l’Eco’Hopl’Awards 2024\, le Festival L’Humour des Notes\, porté par l’équipe du Relais culturel Théâtre de Haguenau\, renforce depuis plusieurs éditions sa démarche écoresponsable. L’événement revient du 24 mai au 1er juin 2025 avec un label de niveau 3. \nChaque année\, durant la semaine de l’Ascension et le week-end qui précède\, L’Humour des Notes invite le public à se laisser surprendre et émouvoir dans les rues de Haguenau et au Théâtre\, avec des propositions mêlant humour\, musique et originalité. \nDu Village des Enfants dédié aux familles\, aux spectacles tout public et en tout genre qui envahissent le centre-ville et les communes de la Communauté d’Agglomération de Haguenau\, le festival s’adresse à tous ! \nRetrouvez le programme sur : https://humour-des-notes.com/
URL:https://ecomanifestations-alsace.fr/event/festival-lhumour-des-notes-haguenau/
END:VEVENT
BEGIN:VEVENT
DTSTART;VALUE=DATE:20250527
DTEND;VALUE=DATE:20250612
DTSTAMP:20260421T201632
CREATED:20250523T133806Z
LAST-MODIFIED:20250523T133850Z
UID:12416-1748304000-1749686399@ecomanifestations-alsace.fr
SUMMARY:Festival Mon Mouton est un Lion - Saverne
DESCRIPTION:Le festival jeune public « Mon Mouton est un Lion »\, porté par l’Espace Rohan de Saverne\, est de retour du 27 mai au 11 juin 2025 au château des Rohan avec un nouveau programme mêlant spectacles et animations pour le jeune public. \nNe manquez pas le week-end festif du festival : les 7 et 8 juin ! Un temps fort sur lequel les organisateurs·rices concentrent cette année leurs efforts dans le cadre du renouvellement de la labellisation de l’événement avec Éco-manifestations Alsace. \nLe festival atteint ainsi le niveau 3 de notre charte. Félicitations à l’équipe organisatrice ! \nToute la programmation est sur : https://mouton-lion.org
URL:https://ecomanifestations-alsace.fr/event/festival-mon-mouton-est-un-lion-saverne-3/
END:VEVENT
BEGIN:VEVENT
DTSTART;VALUE=DATE:20250601
DTEND;VALUE=DATE:20250602
DTSTAMP:20260421T201632
CREATED:20250523T124808Z
LAST-MODIFIED:20250523T125117Z
UID:12488-1748736000-1748822399@ecomanifestations-alsace.fr
SUMMARY:slowUp Alsace - Sélestat
DESCRIPTION:Le slowUp est une invitation aux mobilités douces à travers une journée festive\, sportive et gourmande organisée le 1er juin 2025 sur la Véloroute du Vignoble. \nL’itinéraire de 38 km vous invite à parcourir à pied\, à vélo ou à roller les communes de la Route des Vins d’Alsace : Bergheim\, Rorshwihr\, Rodern\, Saint-Hippolyte\, Orschwiller\, Kintzheim\, Séléstat\, Chatenois\, Scherwiller\, Diffenthal\, Dambach-la-Ville. 13 places festives avec des activités ludiques et dégustations gourmandes jalonnent le circuit qui s’étend au pied du château du Haut-Koenigsbourg. \nLe parcours est sécurisé et fermé à la circulation motorisée pour une journée de découverte en toute sérénité. \nCette année\, les « slowUppers » sont invités à s’habiller en blanc et à décorer leurs vélos selon deux thématiques : humour ou Moyen-Âge. \nAvec la présence d’une Green Team et de nombreuses animations de promotion des mobilités douces\, l’événement slowUp s’engage dans une démarche d’écoresponsabilité et signe en 2025 la charte d’engagement des éco-manifestations. \nEnvie de rejoindre la Green Team  ? Manifestez-vous auprès des organisateurs : https://www.slowup-alsace.fr/association/#benevoles \nTout le programme et plus d’informations sur : https://www.slowup-alsace.fr/
URL:https://ecomanifestations-alsace.fr/event/slowup-alsace/
END:VEVENT
BEGIN:VEVENT
DTSTART;VALUE=DATE:20250601
DTEND;VALUE=DATE:20250602
DTSTAMP:20260421T201632
CREATED:20250523T131503Z
LAST-MODIFIED:20250523T133707Z
UID:12494-1748736000-1748822399@ecomanifestations-alsace.fr
SUMMARY:Les Foulées éco-solidaires - Schiltigheim
DESCRIPTION:Dimanche 1er juin\, courrez ou marchez pour la bonne cause ! \nAvec plusieurs parcours (semi-marathon\, relais\, 10 km\, 5 km\, fun-run déguisé\, course poussette\, courses enfants et marche solidaire)\, participez à l’élan solidaire et sportif des Foulées éco-solidaires. Rendez-vous à partir de 8h30 au 1 avenue de l’Europe  à Schiltigheim (67300) pour le départ des courses et les animations du Village des partenaires.  \nL’événement est ouvert aux handisports. L’intégralité des bénéfices est reversée à des associations à caractère solidaire et social :  L’Alsace Contre le Cancer\, Les Enfants de Marthe\, l’association ELA et Les Foulées de L’Espoir pour la Fondation des Hôpitaux Universitaire de Strasbourg. \nLes Foulées éco-solidaires de Schiltigheim sont labellisées pour la 5e édition consécutive. Parmi les actions mises en œuvre pour diminuer l’impact de l’événement\, ils ont choisi d’upcycler les anciennes bâches pour leur donner une nouvelle vie… en créant des goodies originaux et durables ! Après les trousses et les bobs\, cette année\, c’est le sac à baskets qui sera proposé avec l’ancienne signalétique pour transporter ses chaussures de running.\n \nPlus d’informations et inscriptions : https://www.aptes.eu/Evenements.html
URL:https://ecomanifestations-alsace.fr/event/les-foulees-eco-solidaires-schiltigheim-2/
END:VEVENT
END:VCALENDAR