BEGIN:VCALENDAR
VERSION:2.0
PRODID:-//Eco-Manifestations Alsace - ECPv6.15.11//NONSGML v1.0//EN
CALSCALE:GREGORIAN
METHOD:PUBLISH
X-ORIGINAL-URL:https://ecomanifestations-alsace.fr
X-WR-CALDESC:Évènements pour Eco-Manifestations Alsace
REFRESH-INTERVAL;VALUE=DURATION:PT1H
X-Robots-Tag:noindex
X-PUBLISHED-TTL:PT1H
BEGIN:VTIMEZONE
TZID:Europe/Paris
BEGIN:DAYLIGHT
TZOFFSETFROM:+0100
TZOFFSETTO:+0200
TZNAME:CEST
DTSTART:20240331T010000
END:DAYLIGHT
BEGIN:STANDARD
TZOFFSETFROM:+0200
TZOFFSETTO:+0100
TZNAME:CET
DTSTART:20241027T010000
END:STANDARD
BEGIN:DAYLIGHT
TZOFFSETFROM:+0100
TZOFFSETTO:+0200
TZNAME:CEST
DTSTART:20250330T010000
END:DAYLIGHT
BEGIN:STANDARD
TZOFFSETFROM:+0200
TZOFFSETTO:+0100
TZNAME:CET
DTSTART:20251026T010000
END:STANDARD
BEGIN:DAYLIGHT
TZOFFSETFROM:+0100
TZOFFSETTO:+0200
TZNAME:CEST
DTSTART:20260329T010000
END:DAYLIGHT
BEGIN:STANDARD
TZOFFSETFROM:+0200
TZOFFSETTO:+0100
TZNAME:CET
DTSTART:20261025T010000
END:STANDARD
END:VTIMEZONE
BEGIN:VEVENT
DTSTART;VALUE=DATE:20250614
DTEND;VALUE=DATE:20250615
DTSTAMP:20260422T033022
CREATED:20250603T103526Z
LAST-MODIFIED:20250603T103526Z
UID:12527-1749859200-1749945599@ecomanifestations-alsace.fr
SUMMARY:Summer Geis - Geispolsheim
DESCRIPTION:Les périscolaires et la FDMJC de Geispolsheim fêtent l’arrivée de l’été. Au programme : des animations\, des food trucks\, une guinguette et un concert du groupe ZUT pour toute la famille. \nPour rejoindre l’événement\, qui a lieu au Complexe Sportif de Geispolsheim\, les organisateurs vous invitent à rejoindre un joyeux convoi à vélos proposé à 17h30 depuis la péri gare et le péri village. Sur place\, des enfants éco-héros et leurs animateurs seront présents pour vous sensibiliser aux bons gestes de tri et à l’écocitoyenneté. \nGrâce aux actions déployées\, Summer Geis obtient le niveau 2 du label pour cette première labellisation. Félicitations !\nCet accompagnement a été pris en charge par l’Eurométropole de Strasbourg dans le cadre de son partenariat avec Éco-Manifestations Alsace.
URL:https://ecomanifestations-alsace.fr/event/summer-geis-geispolsheim/
END:VEVENT
BEGIN:VEVENT
DTSTART;VALUE=DATE:20250614
DTEND;VALUE=DATE:20250616
DTSTAMP:20260422T033022
CREATED:20250603T105151Z
LAST-MODIFIED:20250603T105151Z
UID:12529-1749859200-1750031999@ecomanifestations-alsace.fr
SUMMARY:Finale départementale de gymnastique féminine - Ingwiller
DESCRIPTION:La Société de gymnastique de Ingwiller accueille 300 compétitrices pour la finale départementale de gymnastique féminine les 14 et 15 juin 2025. \nAvec la mise en place d’actions de réduction des déchets et une communication 100% dématérialisée\, l’événement obtient le niveau 1.\nCet accompagnement a été pris en charge par le Smictom de Saverne dans le cadre de son partenariat avec Éco-Manifestations Alsace.
URL:https://ecomanifestations-alsace.fr/event/finale-departementale-de-gymnastique-feminine-ingwiller/
END:VEVENT
END:VCALENDAR