BEGIN:VCALENDAR
VERSION:2.0
PRODID:-//Eco-Manifestations Alsace - ECPv6.15.11//NONSGML v1.0//EN
CALSCALE:GREGORIAN
METHOD:PUBLISH
X-ORIGINAL-URL:https://ecomanifestations-alsace.fr
X-WR-CALDESC:Évènements pour Eco-Manifestations Alsace
REFRESH-INTERVAL;VALUE=DURATION:PT1H
X-Robots-Tag:noindex
X-PUBLISHED-TTL:PT1H
BEGIN:VTIMEZONE
TZID:Europe/Paris
BEGIN:DAYLIGHT
TZOFFSETFROM:+0100
TZOFFSETTO:+0200
TZNAME:CEST
DTSTART:20240331T010000
END:DAYLIGHT
BEGIN:STANDARD
TZOFFSETFROM:+0200
TZOFFSETTO:+0100
TZNAME:CET
DTSTART:20241027T010000
END:STANDARD
BEGIN:DAYLIGHT
TZOFFSETFROM:+0100
TZOFFSETTO:+0200
TZNAME:CEST
DTSTART:20250330T010000
END:DAYLIGHT
BEGIN:STANDARD
TZOFFSETFROM:+0200
TZOFFSETTO:+0100
TZNAME:CET
DTSTART:20251026T010000
END:STANDARD
BEGIN:DAYLIGHT
TZOFFSETFROM:+0100
TZOFFSETTO:+0200
TZNAME:CEST
DTSTART:20260329T010000
END:DAYLIGHT
BEGIN:STANDARD
TZOFFSETFROM:+0200
TZOFFSETTO:+0100
TZNAME:CET
DTSTART:20261025T010000
END:STANDARD
END:VTIMEZONE
BEGIN:VEVENT
DTSTART;VALUE=DATE:20250619
DTEND;VALUE=DATE:20250623
DTSTAMP:20260422T070411
CREATED:20250603T110235Z
LAST-MODIFIED:20250603T110856Z
UID:12531-1750291200-1750636799@ecomanifestations-alsace.fr
SUMMARY:71e Convention nationale de la Jeune Chambre Économique Française - Strasbourg
DESCRIPTION:La Jeune Chambre Économique de Strasbourg réunit les membres du réseau national JCEF pour 4 jours de rencontres. Au programme : plus de 30 modules de formation\, des conférences et une assemblée générale dans l’hémicycle du Parlement européen. \nLes animations feront la part belle à la sensibilisation des congressistes aux enjeux du développement durable. \nL’événement obtient le niveau 1. Bravo aux organisateurs pour leur engagement ! \n 
URL:https://ecomanifestations-alsace.fr/event/convention-nationale-jeune-chambre-economique-strasbourg/
END:VEVENT
BEGIN:VEVENT
DTSTART;VALUE=DATE:20250620
DTEND;VALUE=DATE:20250621
DTSTAMP:20260422T070411
CREATED:20250603T112059Z
LAST-MODIFIED:20250603T112059Z
UID:12539-1750377600-1750463999@ecomanifestations-alsace.fr
SUMMARY:Podium de l'été - Ensisheim
DESCRIPTION:Le Podium de l’été\, c’est un concert gratuit en plein air organisé par la Ville d’Ensisheim en partenariat avec le P.L.E.I.A.D.E. à l’approche de la Fête de la Musique. \nCette année\, 4 vedettes des années 80/90 se succèdent sur scène (Patrick Hernandez\, Jean-Pierre Mader\, etc.). En première partie\, les associations locales sont mises en avant (danse tahitienne\, école de musique\, etc.). \nPour ces festivités sur le site de l’Eiblen\, les organisateurs veillent à leurs impacts environnementaux et sociaux avec de nombreuses actions mises en œuvre pour cette première labellisation : mobilisation de bénévoles pour former une équipe environnement\, création d’un parking à vélo\, installation de cendriers de vote\, prévention des risques auditifs avec la distribution de bouchons d’oreilles\, … \nLe Podium de l’été 2025 est ainsi labellisé éco-manifestation de niveau 1. Cet accompagnement a été pris en charge par le PETR Rhin Vignoble Grand Ballon dans le cadre de son partenariat avec Éco-Manifestations Alsace. \n  \n 
URL:https://ecomanifestations-alsace.fr/event/podium-de-lete-ensisheim/
END:VEVENT
BEGIN:VEVENT
DTSTART;VALUE=DATE:20250620
DTEND;VALUE=DATE:20250621
DTSTAMP:20260422T070411
CREATED:20250603T113132Z
LAST-MODIFIED:20250603T113132Z
UID:12541-1750377600-1750463999@ecomanifestations-alsace.fr
SUMMARY:Les Estivales de l'ES - Strasbourg
DESCRIPTION:L’entreprise Électricité de Strasbourg (ES) organise une soirée à destination de ses salariés et de leurs familles avec de nombreuses animations festives et musicales. \nSoucieuse de son impact\, l’ES s’engage aux côtés de Éco-Manifestations Alsace pour réduire l’impact de l’événement sur l’environnement. Les organisateurs obtiennent le niveau 1 pour cette première labellisation. \nÉvénement professionnel\, non ouvert au public.
URL:https://ecomanifestations-alsace.fr/event/les-estivales-es/
END:VEVENT
END:VCALENDAR