BEGIN:VCALENDAR
VERSION:2.0
PRODID:-//Eco-Manifestations Alsace - ECPv6.15.11//NONSGML v1.0//EN
CALSCALE:GREGORIAN
METHOD:PUBLISH
X-ORIGINAL-URL:https://ecomanifestations-alsace.fr
X-WR-CALDESC:Évènements pour Eco-Manifestations Alsace
REFRESH-INTERVAL;VALUE=DURATION:PT1H
X-Robots-Tag:noindex
X-PUBLISHED-TTL:PT1H
BEGIN:VTIMEZONE
TZID:Europe/Paris
BEGIN:DAYLIGHT
TZOFFSETFROM:+0100
TZOFFSETTO:+0200
TZNAME:CEST
DTSTART:20240331T010000
END:DAYLIGHT
BEGIN:STANDARD
TZOFFSETFROM:+0200
TZOFFSETTO:+0100
TZNAME:CET
DTSTART:20241027T010000
END:STANDARD
BEGIN:DAYLIGHT
TZOFFSETFROM:+0100
TZOFFSETTO:+0200
TZNAME:CEST
DTSTART:20250330T010000
END:DAYLIGHT
BEGIN:STANDARD
TZOFFSETFROM:+0200
TZOFFSETTO:+0100
TZNAME:CET
DTSTART:20251026T010000
END:STANDARD
BEGIN:DAYLIGHT
TZOFFSETFROM:+0100
TZOFFSETTO:+0200
TZNAME:CEST
DTSTART:20260329T010000
END:DAYLIGHT
BEGIN:STANDARD
TZOFFSETFROM:+0200
TZOFFSETTO:+0100
TZNAME:CET
DTSTART:20261025T010000
END:STANDARD
END:VTIMEZONE
BEGIN:VEVENT
DTSTART;VALUE=DATE:20250619
DTEND;VALUE=DATE:20250623
DTSTAMP:20260422T032959
CREATED:20250603T110235Z
LAST-MODIFIED:20250603T110856Z
UID:12531-1750291200-1750636799@ecomanifestations-alsace.fr
SUMMARY:71e Convention nationale de la Jeune Chambre Économique Française - Strasbourg
DESCRIPTION:La Jeune Chambre Économique de Strasbourg réunit les membres du réseau national JCEF pour 4 jours de rencontres. Au programme : plus de 30 modules de formation\, des conférences et une assemblée générale dans l’hémicycle du Parlement européen. \nLes animations feront la part belle à la sensibilisation des congressistes aux enjeux du développement durable. \nL’événement obtient le niveau 1. Bravo aux organisateurs pour leur engagement ! \n 
URL:https://ecomanifestations-alsace.fr/event/convention-nationale-jeune-chambre-economique-strasbourg/
END:VEVENT
BEGIN:VEVENT
DTSTART;VALUE=DATE:20250621
DTEND;VALUE=DATE:20250623
DTSTAMP:20260422T032959
CREATED:20250603T113723Z
LAST-MODIFIED:20250603T113723Z
UID:12543-1750464000-1750636799@ecomanifestations-alsace.fr
SUMMARY:Marathon du Vignoble d'Alsace - Molsheim
DESCRIPTION:Le Marathon du Vignoble d’Alsace vous donne rendez-vous les 21 et 22 juin pour allier course et écoresponsabilité. \nAu programme : marathon\, semi-marathon\, 10 km\, 5 km et foulées doubles\, courses enfants et marche du cœur sur la route des Vins d’Alsace avec un village marathon\, des étapes gastroviniques et des animations musicales. \n\n\n\nPour la 6e année consécutive\, le Marathon du Vignoble d’Alsace bénéficie de l’accompagnement d’Éco-Manifestations Alsace et obtient le niveau 3. Découvrez leurs engagements : https://www.marathon-alsace.com/developpement-durable.htm \n 
URL:https://ecomanifestations-alsace.fr/event/marathon-du-vignoble-dalsace-molsheim-3/
END:VEVENT
END:VCALENDAR