BEGIN:VCALENDAR
VERSION:2.0
PRODID:-//Eco-Manifestations Alsace - ECPv6.15.11//NONSGML v1.0//EN
CALSCALE:GREGORIAN
METHOD:PUBLISH
X-WR-CALNAME:Eco-Manifestations Alsace
X-ORIGINAL-URL:https://ecomanifestations-alsace.fr
X-WR-CALDESC:Évènements pour Eco-Manifestations Alsace
REFRESH-INTERVAL;VALUE=DURATION:PT1H
X-Robots-Tag:noindex
X-PUBLISHED-TTL:PT1H
BEGIN:VTIMEZONE
TZID:Europe/Paris
BEGIN:DAYLIGHT
TZOFFSETFROM:+0100
TZOFFSETTO:+0200
TZNAME:CEST
DTSTART:20240331T010000
END:DAYLIGHT
BEGIN:STANDARD
TZOFFSETFROM:+0200
TZOFFSETTO:+0100
TZNAME:CET
DTSTART:20241027T010000
END:STANDARD
BEGIN:DAYLIGHT
TZOFFSETFROM:+0100
TZOFFSETTO:+0200
TZNAME:CEST
DTSTART:20250330T010000
END:DAYLIGHT
BEGIN:STANDARD
TZOFFSETFROM:+0200
TZOFFSETTO:+0100
TZNAME:CET
DTSTART:20251026T010000
END:STANDARD
BEGIN:DAYLIGHT
TZOFFSETFROM:+0100
TZOFFSETTO:+0200
TZNAME:CEST
DTSTART:20260329T010000
END:DAYLIGHT
BEGIN:STANDARD
TZOFFSETFROM:+0200
TZOFFSETTO:+0100
TZNAME:CET
DTSTART:20261025T010000
END:STANDARD
END:VTIMEZONE
BEGIN:VEVENT
DTSTART;VALUE=DATE:20250626
DTEND;VALUE=DATE:20250630
DTSTAMP:20260421T235330
CREATED:20250603T115209Z
LAST-MODIFIED:20250603T115209Z
UID:12548-1750896000-1751241599@ecomanifestations-alsace.fr
SUMMARY:40e Concours des meilleurs apprentis de France - Strasbourg
DESCRIPTION:Découvrez 3 jours dédiés aux 120 métiers de la main du 26 au 29 juin 2025 à Strasbourg avec plusieurs finales en live\, des démonstrations (métiers de bouche\, fleuristes\, coiffeurs\, etc.) et des ateliers participatifs ! \n\n\n\nLa société des meilleurs ouvriers de France organise pour la première fois dans le Grand Est ce rendez-vous annuel célébrant les formations\,  savoir-faire et l’artisanat français. Accompagné par Éco-Manifestations Alsace\, cette édition du Concours de meilleurs apprentis de France obtient le label des éco-manifestations de niveau 1. \n\nCet accompagnement a été pris en charge par l’Eurométropole de Strasbourg dans le cadre de son partenariat avec Éco-Manifestations Alsace. \n\nPlus d’informations : https://www.strasbourg.eu/-/strasbourg-accueille-les-finales-nationales-des-meilleurs-apprentis-de-france
URL:https://ecomanifestations-alsace.fr/event/40e-concours-des-meilleurs-apprentis-de-france-strasbourg/
END:VEVENT
BEGIN:VEVENT
DTSTART;VALUE=DATE:20250627
DTEND;VALUE=DATE:20250630
DTSTAMP:20260421T235330
CREATED:20250603T154608Z
LAST-MODIFIED:20250603T154608Z
UID:12552-1750982400-1751241599@ecomanifestations-alsace.fr
SUMMARY:Les Folies Hannetons - Neuwiller-lès-Saverne
DESCRIPTION:Les Folies Hannetons vous proposent de « suspendre le temps en musique ». Pour la première édition de ce format festif\, 25 bénévoles et une folle programmation vous attendent à Neuwiller-lès-Saverne. \nAu programme : une soirée ciné plein air\, une scène ouverte\, des concerts\, des ateliers de découverte d’instruments\, des siestes musicales avec des groupes locaux\, des espaces de convivialité\, des visites\, et bien d’autres surprises. \n25 bénévoles de l’association Les Hannetons se mobilisent pour vous proposer l’événement le plus réussi et écoresponsable possible ! Accompagné par Éco-Manifestations Alsace\, le festival obtient le niveau 1 du label. \nCet accompagnement a été pris en charge par le Smictom de Saverne dans le cadre de son partenariat avec Éco-Manifestations Alsace. \nPlus d’informations : https://leshannetons.fr/
URL:https://ecomanifestations-alsace.fr/event/les-folies-hannetons-neuwiller-les-saverne/
END:VEVENT
BEGIN:VEVENT
DTSTART;VALUE=DATE:20250627
DTEND;VALUE=DATE:20250715
DTSTAMP:20260421T235330
CREATED:20250611T103210Z
LAST-MODIFIED:20250611T103210Z
UID:12568-1750982400-1752537599@ecomanifestations-alsace.fr
SUMMARY:Festival Hop Hop Hop - Metz
DESCRIPTION:Festival international du spectacle à ciel ouvert\, Hop Hop Hop est un évènement incontournable de la saison estivale de Metz ! Porté par l’association Deracinemoa\, le festival est un évènement familial et convivial\, mais aussi un moment de création\, d’innovation et de rencontres entre professionnels du spectacle vivant. \nAccompagné par Éco-Manifestations Alsace depuis 4 éditions dans la réduction des ses impacts\, le festival Hop Hop Hop obtiennent le niveau 2 du label. Félicitations aux équipes ! \nDécouvrez l’ensemble de leurs engagements sur le site internet : https://www.festivalhophophop.com/ \n\nPour profitez de ce festival gratuit\, en plein air et écoresponsable\, rendez-vous le 27 juin et du 5 au 14 juillet 2025 à Metz !
URL:https://ecomanifestations-alsace.fr/event/festival-hop-hop-hop-metz/
END:VEVENT
END:VCALENDAR