BEGIN:VCALENDAR
VERSION:2.0
PRODID:-//Eco-Manifestations Alsace - ECPv6.15.11//NONSGML v1.0//EN
CALSCALE:GREGORIAN
METHOD:PUBLISH
X-ORIGINAL-URL:https://ecomanifestations-alsace.fr
X-WR-CALDESC:Évènements pour Eco-Manifestations Alsace
REFRESH-INTERVAL;VALUE=DURATION:PT1H
X-Robots-Tag:noindex
X-PUBLISHED-TTL:PT1H
BEGIN:VTIMEZONE
TZID:Europe/Paris
BEGIN:DAYLIGHT
TZOFFSETFROM:+0100
TZOFFSETTO:+0200
TZNAME:CEST
DTSTART:20240331T010000
END:DAYLIGHT
BEGIN:STANDARD
TZOFFSETFROM:+0200
TZOFFSETTO:+0100
TZNAME:CET
DTSTART:20241027T010000
END:STANDARD
BEGIN:DAYLIGHT
TZOFFSETFROM:+0100
TZOFFSETTO:+0200
TZNAME:CEST
DTSTART:20250330T010000
END:DAYLIGHT
BEGIN:STANDARD
TZOFFSETFROM:+0200
TZOFFSETTO:+0100
TZNAME:CET
DTSTART:20251026T010000
END:STANDARD
BEGIN:DAYLIGHT
TZOFFSETFROM:+0100
TZOFFSETTO:+0200
TZNAME:CEST
DTSTART:20260329T010000
END:DAYLIGHT
BEGIN:STANDARD
TZOFFSETFROM:+0200
TZOFFSETTO:+0100
TZNAME:CET
DTSTART:20261025T010000
END:STANDARD
END:VTIMEZONE
BEGIN:VEVENT
DTSTART;VALUE=DATE:20250627
DTEND;VALUE=DATE:20250715
DTSTAMP:20260421T181833
CREATED:20250611T103210Z
LAST-MODIFIED:20250611T103210Z
UID:12568-1750982400-1752537599@ecomanifestations-alsace.fr
SUMMARY:Festival Hop Hop Hop - Metz
DESCRIPTION:Festival international du spectacle à ciel ouvert\, Hop Hop Hop est un évènement incontournable de la saison estivale de Metz ! Porté par l’association Deracinemoa\, le festival est un évènement familial et convivial\, mais aussi un moment de création\, d’innovation et de rencontres entre professionnels du spectacle vivant. \nAccompagné par Éco-Manifestations Alsace depuis 4 éditions dans la réduction des ses impacts\, le festival Hop Hop Hop obtiennent le niveau 2 du label. Félicitations aux équipes ! \nDécouvrez l’ensemble de leurs engagements sur le site internet : https://www.festivalhophophop.com/ \n\nPour profitez de ce festival gratuit\, en plein air et écoresponsable\, rendez-vous le 27 juin et du 5 au 14 juillet 2025 à Metz !
URL:https://ecomanifestations-alsace.fr/event/festival-hop-hop-hop-metz/
END:VEVENT
BEGIN:VEVENT
DTSTART;VALUE=DATE:20250701
DTEND;VALUE=DATE:20250704
DTSTAMP:20260421T181833
CREATED:20250603T160255Z
LAST-MODIFIED:20250603T160411Z
UID:12557-1751328000-1751587199@ecomanifestations-alsace.fr
SUMMARY:Forum Alentours - Strasbourg
DESCRIPTION:Organisé par la Région Grand Est\, le Forum Alentours est le rendez-vous de la coproduction rhénane. \nDu 1er au 3 juillet 2025 à Strasbourg\, il réunira environ 300 professionnels du secteur audiovisuel et cinéma francophones et germanophones (Allemagne\, France\, Suisse\, Belgique et Luxembourg) afin d’échanger sur leurs pratiques et potentiels projets de coproduction. \nL’événement accueille principalement des producteur.rices\, auteur.rices\, réalisateur.rices\, technicien.nes\, diffuseurs\, distributeur.rices\, vendeur.ses et fonds de soutien. \nAu programme de ces journées professionnelles : rendez-vous one to one\, sessions de pitchs\, études de cas\, ateliers\, tables rondes\, remise du Prix CinEuro et soirées de networking. \nPour la deuxième année consécutive\, le Forum Alentours est accompagné par Éco-Manifestations Alsace. \nDemande d’accréditation : https://register-forum-alentours.festicine.fr/
URL:https://ecomanifestations-alsace.fr/event/forum-alentours-strasbourg/
END:VEVENT
BEGIN:VEVENT
DTSTART;VALUE=DATE:20250702
DTEND;VALUE=DATE:20250705
DTSTAMP:20260421T181833
CREATED:20250603T161902Z
LAST-MODIFIED:20250603T161902Z
UID:12562-1751414400-1751673599@ecomanifestations-alsace.fr
SUMMARY:Colloque NéAla - Nancy
DESCRIPTION:Du 2 au 4 juillet 2025\, le laboratoire ATILF organise le colloque « Naturel et Artificiel en Linguistique Appliquée : une époque de paradoxes » à l’Université de Lorraine. \nL’objectif : s’interroger sur la bascule entre le naturel et l’artificiel en linguistique appliquée à l’heure de l’émergence des grands modèles de langages (LLM) comme ChatGP. \nLes deux jours de plénières seront ponctuées de plusieurs interventions de chercheurs et chercheuses. \nL’événement est accompagné par Éco-Manifestations Alsace. \nPlus d’informations : https://neala2025.sciencesconf.org/
URL:https://ecomanifestations-alsace.fr/event/colloque-neala-nancy/
END:VEVENT
BEGIN:VEVENT
DTSTART;VALUE=DATE:20250702
DTEND;VALUE=DATE:20250713
DTSTAMP:20260421T181833
CREATED:20250611T104313Z
LAST-MODIFIED:20250611T122729Z
UID:12570-1751414400-1752364799@ecomanifestations-alsace.fr
SUMMARY:Jazz N'Bruche - Plaine
DESCRIPTION:L’association Indigo Moonshine vous accueille dans la vallée de la Bruche du 2 au 12 juillet 2025 pour la 9e édition du festival Jazz N’Bruche. \nDu swing magistral à la world colorée\, du groove électro au blues électrique\, profitez de plusieurs soirées de concerts de l’événement labellisé pour la 2e année consécutive. \n 
URL:https://ecomanifestations-alsace.fr/event/jazz-nbruche-plaine/
END:VEVENT
END:VCALENDAR