BEGIN:VCALENDAR
VERSION:2.0
PRODID:-//Eco-Manifestations Alsace - ECPv6.15.11//NONSGML v1.0//EN
CALSCALE:GREGORIAN
METHOD:PUBLISH
X-WR-CALNAME:Eco-Manifestations Alsace
X-ORIGINAL-URL:https://ecomanifestations-alsace.fr
X-WR-CALDESC:Évènements pour Eco-Manifestations Alsace
REFRESH-INTERVAL;VALUE=DURATION:PT1H
X-Robots-Tag:noindex
X-PUBLISHED-TTL:PT1H
BEGIN:VTIMEZONE
TZID:Europe/Paris
BEGIN:DAYLIGHT
TZOFFSETFROM:+0100
TZOFFSETTO:+0200
TZNAME:CEST
DTSTART:20240331T010000
END:DAYLIGHT
BEGIN:STANDARD
TZOFFSETFROM:+0200
TZOFFSETTO:+0100
TZNAME:CET
DTSTART:20241027T010000
END:STANDARD
BEGIN:DAYLIGHT
TZOFFSETFROM:+0100
TZOFFSETTO:+0200
TZNAME:CEST
DTSTART:20250330T010000
END:DAYLIGHT
BEGIN:STANDARD
TZOFFSETFROM:+0200
TZOFFSETTO:+0100
TZNAME:CET
DTSTART:20251026T010000
END:STANDARD
BEGIN:DAYLIGHT
TZOFFSETFROM:+0100
TZOFFSETTO:+0200
TZNAME:CEST
DTSTART:20260329T010000
END:DAYLIGHT
BEGIN:STANDARD
TZOFFSETFROM:+0200
TZOFFSETTO:+0100
TZNAME:CET
DTSTART:20261025T010000
END:STANDARD
END:VTIMEZONE
BEGIN:VEVENT
DTSTART;VALUE=DATE:20250703
DTEND;VALUE=DATE:20250808
DTSTAMP:20260421T171206
CREATED:20250611T141646Z
LAST-MODIFIED:20250701T081823Z
UID:12597-1751500800-1754611199@ecomanifestations-alsace.fr
SUMMARY:Les jeudis du Parc - Mulhouse
DESCRIPTION:Les jeudis du Parc c’est le rendez-vous hebdomadaire culturel et estival avec des projections de cinéma et des propositions de spectacle tous les jeudis soir du mois de juillet au Parc Salvator à Mulhouse. \nL’événement est labellisé niveau 3. \n 
URL:https://ecomanifestations-alsace.fr/event/les-jeudis-du-parc-mulhouse-4/
END:VEVENT
BEGIN:VEVENT
DTSTART;VALUE=DATE:20250704
DTEND;VALUE=DATE:20250830
DTSTAMP:20260421T171206
CREATED:20250701T083754Z
LAST-MODIFIED:20250701T083754Z
UID:12608-1751587200-1756511999@ecomanifestations-alsace.fr
SUMMARY:Cinéma plein air - Strasbourg
DESCRIPTION:Tous les vendredis du 4 juillet au 29 août\, rendez-vous dans les quartiers de Strasbourg pour une nouvelle programmation cinématographique les pieds dans l’herbe. Dès 18h\, profitez d’un avant-programme et des derniers rayons de soleil au son des DJ sets de la scène locale. Animations\, jeux\, buvette et food trucks : il y en a pour tous les goûts\, et pour tous les âges ! \nÀ la nuit tombée\, installez-vous confortablement devant notre écran géant : silence\, ça tourne… \nCes séances sont organisées par les associations Les Films du Spectre et Speaker. \n 
URL:https://ecomanifestations-alsace.fr/event/cinema-plein-air-strasbourg-2/
END:VEVENT
BEGIN:VEVENT
DTSTART;VALUE=DATE:20250730
DTEND;VALUE=DATE:20250804
DTSTAMP:20260421T171206
CREATED:20250611T132323Z
LAST-MODIFIED:20250710T142330Z
UID:12583-1753833600-1754265599@ecomanifestations-alsace.fr
SUMMARY:Mômes en Scène - Niederbronn-les-Bains
DESCRIPTION:Mômes en Scène est un festival à destination du jeune public (de 1 an et demi à 14 ans). Pendant une semaine\, les allées entre la Place du Bureau Central et le parc du mini-golf de Niederbronn-les-Bains se transforment en scènes vivantes avec plus d’une dizaine de spectacles par jour et de nombreux ateliers créatifs (cirque\, activités manuelles\, jeux…). \nLes communes alentours accueillent également des spectacles décentralisés. \nLe festival\, organisé par le Réseau Animation Intercommunale\, obtient le niveau 3 du label pour la deuxième année consécutive. Cet accompagnement a été pris en charge par le Smictom Nord Alsace dans le cadre de son partenariat avec Éco-Manifestations Alsace. \nEnvie d’être bénévole et de rejoindre la brigade verte de l’événement  ? Contactez Gilles au 07 70 68 66 37.
URL:https://ecomanifestations-alsace.fr/event/momes-en-scene-niederbronn-les-bains/
END:VEVENT
BEGIN:VEVENT
DTSTART;VALUE=DATE:20250801
DTEND;VALUE=DATE:20250802
DTSTAMP:20260421T171206
CREATED:20250710T143906Z
LAST-MODIFIED:20250710T143906Z
UID:12614-1754006400-1754092799@ecomanifestations-alsace.fr
SUMMARY:Grill party du Groupe Schmidt - Sélestat
DESCRIPTION:Le 1er août 2025\, le groupe Schmidt organise une fête d’été pour ses collaborateurs et collaboratrices. \nÉvénement professionnel réservé au personnel uniquement\, sur invitation.
URL:https://ecomanifestations-alsace.fr/event/grill-party-du-groupe-schmidt-selestat/
END:VEVENT
BEGIN:VEVENT
DTSTART;VALUE=DATE:20250801
DTEND;VALUE=DATE:20250805
DTSTAMP:20260421T171206
CREATED:20250710T144140Z
LAST-MODIFIED:20250710T144140Z
UID:12612-1754006400-1754351999@ecomanifestations-alsace.fr
SUMMARY:Fête de la Bière - Schiltigheim
DESCRIPTION:La Fête de la Bière est un événement festif sur 4 jours avec des artistes\, des orchestres\, de la restauration et plus de 20 sortes de bières. \nPlacée sous le signe du folklore et des traditions brassicoles alsaciennes\, cette 43e édition s’inscrit dans la continuité des précédentes : engagée\, solidaire et éco-responsable. \nL’événement est organisé par l’OSCAL – Office des Sports\, de la Culture\, des Arts et des Loisirs de Schiltigheim en partenariat avec la Ville de Schiltigheim\, Les Brasseurs d’Alsace et la Corporation des Brasseries Artisanales d’Alsace
URL:https://ecomanifestations-alsace.fr/event/fete-de-la-biere-schiltigheim-2025/
END:VEVENT
END:VCALENDAR