BEGIN:VCALENDAR
VERSION:2.0
PRODID:-//Eco-Manifestations Alsace - ECPv6.15.11//NONSGML v1.0//EN
CALSCALE:GREGORIAN
METHOD:PUBLISH
X-ORIGINAL-URL:https://ecomanifestations-alsace.fr
X-WR-CALDESC:Évènements pour Eco-Manifestations Alsace
REFRESH-INTERVAL;VALUE=DURATION:PT1H
X-Robots-Tag:noindex
X-PUBLISHED-TTL:PT1H
BEGIN:VTIMEZONE
TZID:Europe/Paris
BEGIN:DAYLIGHT
TZOFFSETFROM:+0100
TZOFFSETTO:+0200
TZNAME:CEST
DTSTART:20240331T010000
END:DAYLIGHT
BEGIN:STANDARD
TZOFFSETFROM:+0200
TZOFFSETTO:+0100
TZNAME:CET
DTSTART:20241027T010000
END:STANDARD
BEGIN:DAYLIGHT
TZOFFSETFROM:+0100
TZOFFSETTO:+0200
TZNAME:CEST
DTSTART:20250330T010000
END:DAYLIGHT
BEGIN:STANDARD
TZOFFSETFROM:+0200
TZOFFSETTO:+0100
TZNAME:CET
DTSTART:20251026T010000
END:STANDARD
BEGIN:DAYLIGHT
TZOFFSETFROM:+0100
TZOFFSETTO:+0200
TZNAME:CEST
DTSTART:20260329T010000
END:DAYLIGHT
BEGIN:STANDARD
TZOFFSETFROM:+0200
TZOFFSETTO:+0100
TZNAME:CET
DTSTART:20261025T010000
END:STANDARD
END:VTIMEZONE
BEGIN:VEVENT
DTSTART;VALUE=DATE:20250904
DTEND;VALUE=DATE:20250905
DTSTAMP:20260421T192837
CREATED:20250901T082805Z
LAST-MODIFIED:20250901T082851Z
UID:12630-1756944000-1757030399@ecomanifestations-alsace.fr
SUMMARY:Campus Alternatif - Strasbourg
DESCRIPTION:Le jeudi 4 septembre 2025\, le campus de Strasbourg accueillera la 8e édition de Campus Alternatif\, un événement festif qui marque la rentrée universitaire. \nOrganisé par le Service de l’action culturelle de l’Université de Strasbourg et le Crous de Strasbourg\, Campus Alternatif 2025 a obtenu le niveau 1 de notre label marquant ainsi une première étape dans la démarche de structuration écoresponsable de l’événement. \nParmi les actions concrètes mises en œuvre pour limiter l’impact écologique : \n\nDes écocups réutilisables\, pour remplacer les verres jetables et favoriser le réemploi.\nLe gobelet solidaire en partenariat avec l’association La Cloche\, qui permet de faire don de sa consigne pour soutenir des actions de solidarité locales\nDes toilettes sèches installées et gérées par Ecoterre\, réduisant la consommation d’eau potable et favorisant une gestion plus respectueuse des ressources.\nUne fontaine à eau accessible à tous·tes pour inciter au remplissage de gourdes et à la réduction des bouteilles à usage unique.\nUne offre alimentaire végétarienne au sein des foodtrucks présents\, contribuant à une alimentation plus durable et inclusive.\nZéro goodies\, pour lutter contre la surconsommation et les objets promotionnels éphémères.\nUne sensibilisation aux risques festifs (alcool\, drogues\, etc.) animée par l’association Ithaque\, afin de promouvoir un cadre festif plus sûr.\nLa diffusion d’une charte éthique\, affirmant les engagements de l’événement en matière de respect\, d’inclusion et de comportement responsable.\nUne équipe environnement dédiée\, en charge de veiller à la bonne application des engagements écoresponsables et de sensibiliser les participant·es sur site.\n\nInformations pratiques\n📅 Date : jeudi 4 septembre 2025📍 Lieu : Strasbourg\, campus Esplanade🌐 Site officiel : https://www.crous-strasbourg.fr/2025/08/21/le-04-septembre-avec-campus-alternatif-prolongez-lete-en-musique\n🎟️ Gratuit
URL:https://ecomanifestations-alsace.fr/event/campus-alternatif-strasbourg/
END:VEVENT
END:VCALENDAR