BEGIN:VCALENDAR
VERSION:2.0
PRODID:-//Eco-Manifestations Alsace - ECPv6.15.11//NONSGML v1.0//EN
CALSCALE:GREGORIAN
METHOD:PUBLISH
X-WR-CALNAME:Eco-Manifestations Alsace
X-ORIGINAL-URL:https://ecomanifestations-alsace.fr
X-WR-CALDESC:Évènements pour Eco-Manifestations Alsace
REFRESH-INTERVAL;VALUE=DURATION:PT1H
X-Robots-Tag:noindex
X-PUBLISHED-TTL:PT1H
BEGIN:VTIMEZONE
TZID:Europe/Paris
BEGIN:DAYLIGHT
TZOFFSETFROM:+0100
TZOFFSETTO:+0200
TZNAME:CEST
DTSTART:20240331T010000
END:DAYLIGHT
BEGIN:STANDARD
TZOFFSETFROM:+0200
TZOFFSETTO:+0100
TZNAME:CET
DTSTART:20241027T010000
END:STANDARD
BEGIN:DAYLIGHT
TZOFFSETFROM:+0100
TZOFFSETTO:+0200
TZNAME:CEST
DTSTART:20250330T010000
END:DAYLIGHT
BEGIN:STANDARD
TZOFFSETFROM:+0200
TZOFFSETTO:+0100
TZNAME:CET
DTSTART:20251026T010000
END:STANDARD
BEGIN:DAYLIGHT
TZOFFSETFROM:+0100
TZOFFSETTO:+0200
TZNAME:CEST
DTSTART:20260329T010000
END:DAYLIGHT
BEGIN:STANDARD
TZOFFSETFROM:+0200
TZOFFSETTO:+0100
TZNAME:CET
DTSTART:20261025T010000
END:STANDARD
END:VTIMEZONE
BEGIN:VEVENT
DTSTART;VALUE=DATE:20250905
DTEND;VALUE=DATE:20250908
DTSTAMP:20260421T102019
CREATED:20250901T134742Z
LAST-MODIFIED:20250901T140002Z
UID:12633-1757030400-1757289599@ecomanifestations-alsace.fr
SUMMARY:Hésingue en fête - Hésingue
DESCRIPTION:Rendez-vous du 5 au 7 septembre 2025 pour un festival familial et convivial à La Comète et dans les rues de Hésingue ! \nDepuis trois éditions\, Hésingue en fête s’engage sur la voie de la transition écologique avec l’obtention du niveau 2 de la charte des écomanifestations\, soulignant des avancées concrètes vers une organisation plus sobre\, solidaire et respectueuse de l’environnement. \nEngagements écoresponsables mis en place : \n\nMesure et valorisation des déchets : récupération et quantification des déchets générés (ordures\, biodéchets\, huiles usagées) pour assurer un traitement optimisé et vertueux.\nVaisselle lavable en location via Utiléco pour remplacer les solutions jetables.\nUn geste pour les cyclistes : un sirop est offert à tous celles et ceux qui arrivent à vélo\, pour encourager les mobilités douces et favoriser une approche conviviale dès l’arrivée.\nToilettes sèches accessibles : des sanitaires secs adaptés également aux personnes à mobilité réduite (PMR) sont proposées avec WC Loc.\nDes vaporisateurs au vinaigre blanc distribués à chaque stand\, pour un entretien naturel et sans produits chimiques.\nAbsence totale de groupes électrogènes dans un souci de sobriété énergétique et de limitation des nuisances sonores et polluantes.\n\n Date : du 5 au 7  septembre 2025 Lieu :  La Comète et les rues de Hésingue  Site officiel : https://www.lacometehesingue.fr\n Entrée gratuite
URL:https://ecomanifestations-alsace.fr/event/hesingue-en-fete-hesingue/
END:VEVENT
BEGIN:VEVENT
DTSTART;VALUE=DATE:20250906
DTEND;VALUE=DATE:20250908
DTSTAMP:20260421T102019
CREATED:20250901T144914Z
LAST-MODIFIED:20250901T150049Z
UID:12641-1757116800-1757289599@ecomanifestations-alsace.fr
SUMMARY:Les journées d’automne et des associations - Riedisheim
DESCRIPTION:À Riedisheim\, la rentrée se vit au rythme de la convivialité\, de la découverte… et de l’engagement. Cette année encore\, les Journées d’Automne et des Associations font le pari d’un événement accessible\, fédérateur et durable\, labellisé niveau 2. \nParmi les actions engagées : \n\nPrésence d’une équipe environnement avec les ambassadeurs du tri du SIVOM.\nUn point d’eau potable sera disponible au bar du centre culturel\, signalé clairement pour inciter au remplissage des gourdes.\nPlusieurs options végétariennes pour inviter à une alimentation plus durable tout en gardant un esprit gourmand.\nMise en place de plusieurs indicateurs de développement durable pour piloter la démarche de façon efficace et objective.\nStands et animations autour de la transition écologique avec l’association d’arboriculture\, NatuRhrena\, L’épi – épicerie solidaire et bien d’autres.\nFacilités pour les cyclistes : les casques pourront être laissés à l’accueil.\nSite internet éco-conçu. \n\nInformations pratiques \n Date : 6 et 7 septembre 2025 Lieu :  Riedisheim (68400) Site officiel : https://www.riedisheim.fr/evenement/journees-dautomne-et-des-associations-2025/\n Gratuit
URL:https://ecomanifestations-alsace.fr/event/les-journees-dautomne-et-des-associations-riedisehi/
END:VEVENT
BEGIN:VEVENT
DTSTART;VALUE=DATE:20250907
DTEND;VALUE=DATE:20250908
DTSTAMP:20260421T102019
CREATED:20250901T152711Z
LAST-MODIFIED:20250901T155746Z
UID:12648-1757203200-1757289599@ecomanifestations-alsace.fr
SUMMARY:Fête de la Nature - Jarny (54)
DESCRIPTION:La 23ᵉ édition de la Fête de la Nature\, organisée par la Mairie de Jarny\, place la nature au cœur des festivités de rentrée avec 70 exposants locaux engagés et autant d’animations dédiées à la biodiversité et à l’environnement. Pour en profiter\, rejoignez-les le 7 septembre 2025 au domaine de Moncel pour une journée placée sous le signe des transitions. \nForte de son engagement exemplaire\, l’événement décroche cette année le niveau 3 du label\, une reconnaissance qui vient saluer une démarche à la fois audacieuse\, structurée et partagée. \nParmi les nombreuses actions mises en place : \n\nTransparence carbone : les résultats du bilan carbone 2024 sont présentés publiquement\, avec un volet participatif de compensation carbone — le public sera invité à choisir le projet bénéficiaire de cette contribution.\nMise en place d’actions pour diminuer les impacts sur le milieu naturel : suppression du feu d’artifice qui avait lieu la veille\, mise en place de l’éco-pâturage sur la pairie qui accueille l’événement\, prévention des risques d’incendie.\nUne offre de restauration essentiellement composée d’ingrédients  locaux\, frais et de saison\, à laquelle s’ajoute un vin d’honneur intégralement bio.\nMenus enfants pour réduire le gaspillage\, en proposant des portions adaptées et équilibrées dès le plus jeune âge.\nUn stand d’eau gratuite encourage à remplir sa gourde plutôt que d’acheter des bouteilles jetables.\nAnimations autour des énergies renouvelables : manège à propulsion parentale\, stand Rénov\, Sortons du Nucléaire.\nMobilité sondée : une enquête est réalisée auprès des participant·es pour mieux comprendre comment chacun·e est venu·e — une étape clé pour orienter les futures éditions vers davantage de déplacements doux.\nMise en place de navettes gratuites. \n\nInformations pratiques \n Date : 7 septembre 2025 Lieu :  Jarny (54800)\, domaine de Moncel Site officiel : https://www.jarny.fr/\n Gratuit
URL:https://ecomanifestations-alsace.fr/event/fete-de-la-nature-jarny-54/
END:VEVENT
END:VCALENDAR