BEGIN:VCALENDAR
VERSION:2.0
PRODID:-//Eco-Manifestations Alsace - ECPv6.15.11//NONSGML v1.0//EN
CALSCALE:GREGORIAN
METHOD:PUBLISH
X-WR-CALNAME:Eco-Manifestations Alsace
X-ORIGINAL-URL:https://ecomanifestations-alsace.fr
X-WR-CALDESC:Évènements pour Eco-Manifestations Alsace
REFRESH-INTERVAL;VALUE=DURATION:PT1H
X-Robots-Tag:noindex
X-PUBLISHED-TTL:PT1H
BEGIN:VTIMEZONE
TZID:Europe/Paris
BEGIN:DAYLIGHT
TZOFFSETFROM:+0100
TZOFFSETTO:+0200
TZNAME:CEST
DTSTART:20240331T010000
END:DAYLIGHT
BEGIN:STANDARD
TZOFFSETFROM:+0200
TZOFFSETTO:+0100
TZNAME:CET
DTSTART:20241027T010000
END:STANDARD
BEGIN:DAYLIGHT
TZOFFSETFROM:+0100
TZOFFSETTO:+0200
TZNAME:CEST
DTSTART:20250330T010000
END:DAYLIGHT
BEGIN:STANDARD
TZOFFSETFROM:+0200
TZOFFSETTO:+0100
TZNAME:CET
DTSTART:20251026T010000
END:STANDARD
BEGIN:DAYLIGHT
TZOFFSETFROM:+0100
TZOFFSETTO:+0200
TZNAME:CEST
DTSTART:20260329T010000
END:DAYLIGHT
BEGIN:STANDARD
TZOFFSETFROM:+0200
TZOFFSETTO:+0100
TZNAME:CET
DTSTART:20261025T010000
END:STANDARD
END:VTIMEZONE
BEGIN:VEVENT
DTSTART;VALUE=DATE:20250908
DTEND;VALUE=DATE:20250909
DTSTAMP:20260421T104209
CREATED:20250905T161238Z
LAST-MODIFIED:20250905T161238Z
UID:12665-1757289600-1757375999@ecomanifestations-alsace.fr
SUMMARY:Inauguration de la résidence L'Inattendu - Strasbourg
DESCRIPTION:Pour l’inauguration de la nouvelle résidence L’Inattendu à Strasbourg\, Bouygues Immobilier s’est engagé pour l’organisation d’un événement plus écoresponsable. \nFélicitations aux organisateurs qui décrochent le premier niveau du label ! \nInformations pratiques \n Date : 8 septembre 2025 Lieu :  Strasbourg (67000)\n Site web : https://www.bouygues-immobilier.com/ \n Sur invitation uniquement \n 
URL:https://ecomanifestations-alsace.fr/event/inauguration-de-la-residence-linattendu-strasbourg/
END:VEVENT
END:VCALENDAR