BEGIN:VCALENDAR
VERSION:2.0
PRODID:-//Eco-Manifestations Alsace - ECPv6.15.11//NONSGML v1.0//EN
CALSCALE:GREGORIAN
METHOD:PUBLISH
X-WR-CALNAME:Eco-Manifestations Alsace
X-ORIGINAL-URL:https://ecomanifestations-alsace.fr
X-WR-CALDESC:Évènements pour Eco-Manifestations Alsace
REFRESH-INTERVAL;VALUE=DURATION:PT1H
X-Robots-Tag:noindex
X-PUBLISHED-TTL:PT1H
BEGIN:VTIMEZONE
TZID:Europe/Paris
BEGIN:DAYLIGHT
TZOFFSETFROM:+0100
TZOFFSETTO:+0200
TZNAME:CEST
DTSTART:20240331T010000
END:DAYLIGHT
BEGIN:STANDARD
TZOFFSETFROM:+0200
TZOFFSETTO:+0100
TZNAME:CET
DTSTART:20241027T010000
END:STANDARD
BEGIN:DAYLIGHT
TZOFFSETFROM:+0100
TZOFFSETTO:+0200
TZNAME:CEST
DTSTART:20250330T010000
END:DAYLIGHT
BEGIN:STANDARD
TZOFFSETFROM:+0200
TZOFFSETTO:+0100
TZNAME:CET
DTSTART:20251026T010000
END:STANDARD
BEGIN:DAYLIGHT
TZOFFSETFROM:+0100
TZOFFSETTO:+0200
TZNAME:CEST
DTSTART:20260329T010000
END:DAYLIGHT
BEGIN:STANDARD
TZOFFSETFROM:+0200
TZOFFSETTO:+0100
TZNAME:CET
DTSTART:20261025T010000
END:STANDARD
END:VTIMEZONE
BEGIN:VEVENT
DTSTART;VALUE=DATE:20250926
DTEND;VALUE=DATE:20251007
DTSTAMP:20260421T162021
CREATED:20250912T153310Z
LAST-MODIFIED:20250912T153310Z
UID:12704-1758844800-1759795199@ecomanifestations-alsace.fr
SUMMARY:Festival européen du film fantastique - Strasbourg
DESCRIPTION:Le Festival européen du film fantastique (FEFFS) revient avec 130 films dans 5 cinémas strasbourgeois du 26 septembre au 6 octobre 2025. \nEngagés depuis plusieurs années pour réduire l’impact environnemental et social de son festival annuel et ses séances ciné plein air\, les organisateurs du FEFFS obtiennent le niveau 2 du label des éco-manifestations en 2025. \nParmi les actions engagées : \n\nAménagement du Village du festival avec du mobilier d’occasion mis en vente après l’événement en partenariat avec Emmaüs\nProduits de merchanding issus de l’upcycling des anciennes bâches du festival avec Libre Objet\nUtilisation d’un vélo cargo pour la logistique et les livraisons de matériel\nInvitation du public à répondre à une enquête mobilité proposée via QR Code avant chaque séance\nAccès à une offre d’alimentation végétale sur le Village du festival et lors des séances en plein air\nDons des produits de restauration restants à la Banque alimentaire\nUne team bienveillance pour prévenir des discriminations et/ou harcèlement\n\n  \nInformations pratiques \n Date : du 26 septembre au 6 octobre 2025 Lieu :  Strasbourg (67000) Site officiel : https://strasbourgfestival.com\n Billetterie : https://strasbourgfestival.com/fr/programmation-2025/
URL:https://ecomanifestations-alsace.fr/event/festival-europeen-du-film-fantastique-strasbourg-2/
END:VEVENT
BEGIN:VEVENT
DTSTART;VALUE=DATE:20251003
DTEND;VALUE=DATE:20251004
DTSTAMP:20260421T162021
CREATED:20250926T092619Z
LAST-MODIFIED:20250926T092619Z
UID:12750-1759449600-1759535999@ecomanifestations-alsace.fr
SUMMARY:La Molshemienne - Molsheim
DESCRIPTION:Venez courir ou marcher pour lutter contre le cancer ! La Molshemienne propose un parcours de 5 km en semi-nocturne avec une soirée festive et de nombreuses animations\, vendredi 3 octobre 2025 à partir de 17h. \nLes fonds récoltés sont reversés à la Ligue contre le cancer. \nL’évènement organisé par l’Office Municipal des Sports de la ville de Molsheim. Son engagement est\, cette année\, récompensé par le niveau 3 de la charte des éco-manifestations. \nInformations pratiques \n Date : 3 octobre 2025 Lieu :  Molsheim (67120) Site officiel : https://lamolshemienne.fr/\n Inscriptions : https://lamolshemienne.fr/inscription/
URL:https://ecomanifestations-alsace.fr/event/la-molshemienne-molsheim-4/
END:VEVENT
END:VCALENDAR