BEGIN:VCALENDAR
VERSION:2.0
PRODID:-//Eco-Manifestations Alsace - ECPv6.15.11//NONSGML v1.0//EN
CALSCALE:GREGORIAN
METHOD:PUBLISH
X-ORIGINAL-URL:https://ecomanifestations-alsace.fr
X-WR-CALDESC:Évènements pour Eco-Manifestations Alsace
REFRESH-INTERVAL;VALUE=DURATION:PT1H
X-Robots-Tag:noindex
X-PUBLISHED-TTL:PT1H
BEGIN:VTIMEZONE
TZID:Europe/Paris
BEGIN:DAYLIGHT
TZOFFSETFROM:+0100
TZOFFSETTO:+0200
TZNAME:CEST
DTSTART:20240331T010000
END:DAYLIGHT
BEGIN:STANDARD
TZOFFSETFROM:+0200
TZOFFSETTO:+0100
TZNAME:CET
DTSTART:20241027T010000
END:STANDARD
BEGIN:DAYLIGHT
TZOFFSETFROM:+0100
TZOFFSETTO:+0200
TZNAME:CEST
DTSTART:20250330T010000
END:DAYLIGHT
BEGIN:STANDARD
TZOFFSETFROM:+0200
TZOFFSETTO:+0100
TZNAME:CET
DTSTART:20251026T010000
END:STANDARD
BEGIN:DAYLIGHT
TZOFFSETFROM:+0100
TZOFFSETTO:+0200
TZNAME:CEST
DTSTART:20260329T010000
END:DAYLIGHT
BEGIN:STANDARD
TZOFFSETFROM:+0200
TZOFFSETTO:+0100
TZNAME:CET
DTSTART:20261025T010000
END:STANDARD
END:VTIMEZONE
BEGIN:VEVENT
DTSTART;VALUE=DATE:20250926
DTEND;VALUE=DATE:20251007
DTSTAMP:20260421T171500
CREATED:20250912T153310Z
LAST-MODIFIED:20250912T153310Z
UID:12704-1758844800-1759795199@ecomanifestations-alsace.fr
SUMMARY:Festival européen du film fantastique - Strasbourg
DESCRIPTION:Le Festival européen du film fantastique (FEFFS) revient avec 130 films dans 5 cinémas strasbourgeois du 26 septembre au 6 octobre 2025. \nEngagés depuis plusieurs années pour réduire l’impact environnemental et social de son festival annuel et ses séances ciné plein air\, les organisateurs du FEFFS obtiennent le niveau 2 du label des éco-manifestations en 2025. \nParmi les actions engagées : \n\nAménagement du Village du festival avec du mobilier d’occasion mis en vente après l’événement en partenariat avec Emmaüs\nProduits de merchanding issus de l’upcycling des anciennes bâches du festival avec Libre Objet\nUtilisation d’un vélo cargo pour la logistique et les livraisons de matériel\nInvitation du public à répondre à une enquête mobilité proposée via QR Code avant chaque séance\nAccès à une offre d’alimentation végétale sur le Village du festival et lors des séances en plein air\nDons des produits de restauration restants à la Banque alimentaire\nUne team bienveillance pour prévenir des discriminations et/ou harcèlement\n\n  \nInformations pratiques \n Date : du 26 septembre au 6 octobre 2025 Lieu :  Strasbourg (67000) Site officiel : https://strasbourgfestival.com\n Billetterie : https://strasbourgfestival.com/fr/programmation-2025/
URL:https://ecomanifestations-alsace.fr/event/festival-europeen-du-film-fantastique-strasbourg-2/
END:VEVENT
BEGIN:VEVENT
DTSTART;VALUE=DATE:20251004
DTEND;VALUE=DATE:20251006
DTSTAMP:20260421T171500
CREATED:20250915T090709Z
LAST-MODIFIED:20250915T090709Z
UID:12716-1759536000-1759708799@ecomanifestations-alsace.fr
SUMMARY:Compagnons d'encre - Scherwiller
DESCRIPTION:La communauté Emmaüs de Scherwiller et Emmaculture vous invitent à une nouvelle édition du festival Compagnons d’Encre\, un événement festif\, artistique et solidaire ! \nCe rendez-vous\, organisé tous les deux ans depuis 2019\, met en avant le tatouage et la musique au sein de la communauté\, avec la présence d’une dizaine de tatoueurs et tatoueuses\, des concerts\, des ateliers créatifs et des ventes spéciales. \nCet événement est en cours de diagnostic et labellisation avec le soutien du SMICTOM d’Alsace Centrale. \nInformations pratiques \n Date : 4 et 5 octobre 2025 Lieu :  Scherwiller (67750) Site officiel : https://www.emmaus-scherwiller.fr/compagnons-encre/\n Gratuit
URL:https://ecomanifestations-alsace.fr/event/compagnons-dencre-scherwiller/
END:VEVENT
BEGIN:VEVENT
DTSTART;VALUE=DATE:20251005
DTEND;VALUE=DATE:20251006
DTSTAMP:20260421T171500
CREATED:20250915T085819Z
LAST-MODIFIED:20250915T085819Z
UID:12714-1759622400-1759708799@ecomanifestations-alsace.fr
SUMMARY:Jardin'Metz et Fête de l'écologie - Metz (57)
DESCRIPTION:La Ville de Metz\, l’Eurométropole de Metz et les associations engagées dans la transition écologique organisent le dimanche 5 octobre 2025 Jard’in Metz et la Fête de l’Écologie. \nPlusieurs stands\, expositions\, ateliers d’association de protection de l’environnement et de sensibilisation à l’environnement seront présentes. \nL’événement soucieux de son empreinte écologique et sociale obtient le niveau 2 de la charte des éco-manifestations du Grand Est (EMeRGE).  \nInformations pratiques \n Date : 5 octobre 2025 Lieu :  Metz (57000) Site officiel : metz.fr\n Gratuit
URL:https://ecomanifestations-alsace.fr/event/jardinmetz-et-fete-de-lecologie-metz-57/
END:VEVENT
END:VCALENDAR