BEGIN:VCALENDAR
VERSION:2.0
PRODID:-//Eco-Manifestations Alsace - ECPv6.15.11//NONSGML v1.0//EN
CALSCALE:GREGORIAN
METHOD:PUBLISH
X-ORIGINAL-URL:https://ecomanifestations-alsace.fr
X-WR-CALDESC:Évènements pour Eco-Manifestations Alsace
REFRESH-INTERVAL;VALUE=DURATION:PT1H
X-Robots-Tag:noindex
X-PUBLISHED-TTL:PT1H
BEGIN:VTIMEZONE
TZID:Europe/Paris
BEGIN:DAYLIGHT
TZOFFSETFROM:+0100
TZOFFSETTO:+0200
TZNAME:CEST
DTSTART:20240331T010000
END:DAYLIGHT
BEGIN:STANDARD
TZOFFSETFROM:+0200
TZOFFSETTO:+0100
TZNAME:CET
DTSTART:20241027T010000
END:STANDARD
BEGIN:DAYLIGHT
TZOFFSETFROM:+0100
TZOFFSETTO:+0200
TZNAME:CEST
DTSTART:20250330T010000
END:DAYLIGHT
BEGIN:STANDARD
TZOFFSETFROM:+0200
TZOFFSETTO:+0100
TZNAME:CET
DTSTART:20251026T010000
END:STANDARD
BEGIN:DAYLIGHT
TZOFFSETFROM:+0100
TZOFFSETTO:+0200
TZNAME:CEST
DTSTART:20260329T010000
END:DAYLIGHT
BEGIN:STANDARD
TZOFFSETFROM:+0200
TZOFFSETTO:+0100
TZNAME:CET
DTSTART:20261025T010000
END:STANDARD
END:VTIMEZONE
BEGIN:VEVENT
DTSTART;VALUE=DATE:20251019
DTEND;VALUE=DATE:20251020
DTSTAMP:20260421T225804
CREATED:20250915T092847Z
LAST-MODIFIED:20250915T092847Z
UID:12720-1760832000-1760918399@ecomanifestations-alsace.fr
SUMMARY:Belfortrail - Giromagny (90)
DESCRIPTION:L’association Territoire Sport Nature propose quatre parcours de trails le 19 octobre 2025 \nDepuis 7 éditions\, les organisateurs œuvrent pour un événement sportif plus durable et responsable. Ils obtiennent cette année le label de niveau 2 avec de nombreuses actions engagées : \n\nÉquipe environnement présente et identifiable pour améliorer le tri avec une personne en charge sur chaque ravitaillement\nDemande aux coureurs de venir avec son propre gobelet réutilisable\nRetrait total des balises et déchets sur le parcours en fin de courses\nPaiement possible avec une monnaie locale (la Pive)\nDispositif ludique pour récupérer les chewing-gums et éviter les pollutions provoquées par sa dégradation en milieu naturel\nSensibilisation des bénévoles et organisateurs aux pratiques écoresponsables\nRécolte de fonds pour la lutte contre le cancer du sein avec l’association Dragon Boat\n\nInformations pratiques \n Date : 19 octobre 2025 Lieu : Giromagny (90200) Site officiel : https://www.territoire-sport-nature.com/\n Inscriptions : https://www.territoire-sport-nature.com/les-courses-belfortrail/
URL:https://ecomanifestations-alsace.fr/event/belfortrail-giromagny-90/
END:VEVENT
END:VCALENDAR